{"text_format":"1","workbook":"xlsx","n_sheets":17,"sheets":["Mode d'emploi","Pairing List calcul","Pairing Officielle","Général","Analyse","Eq.1","Eq.2","Eq.3","Eq.4","Eq.5","Eq.6","Eq.7","Eq.8","Eq.9","Eq.10","Eq.11","Eq.12"],"not_rendered":{"charts":0,"images":0,"macros":1,"external_links":0,"defined_names":1,"comments":0,"pivot_tables":0},"unopened":[],"bounds":{"document_bytes":16777216,"sheet_cells":100000,"rows_first":2000,"rows_last":500,"rows_between":2000,"halvings":0,"cell_chars":16384,"cell_head_chars":4096},"cells_cut":0,"cells_raw":0,"read":"whole","date_system":"1900"}

{"sheet":"Mode d'emploi","index":0,"n_rows":6,"n_cols":1,"rows_kept":6,"cut":false,"hidden":false,"merged":[[4,0,4,11]]}
["MODE D'EMPLOI DU FICHIER PAIRING FLOTTE PARTAGEE DE TYPE LIGUE NATIONALE DE VOILE"]
["1- Onglet Général : Compléter les cellules B3 à B32 avec les noms des équipes (si le nom n'est pas rentré la cellule restera rouge, sinon elle deviendra orange)"]
["2- Onglet pairing officielle : elle se complète automatiquement. L'imprimer pour les équipes et l'organisation. Elle est arbitrairement établie pour un programme de 18 flights.\nLa durée d'un flight de 2 courses, avec 6 bateaux et les rotations d'équipes entre les 2 courses, est estimé à 40 mn.\nSur une journée type de 6h sur l'eau, on peut envisager 9 flights par jour.\nCette pairing est donc prévue pour 2 jours d'évènements.\nOn peut prévoir également une phase finale avec les 4 finalistes."]
["Pendant la régate :"]
["Onglet Général : Compléter les résultats des courses. \nPar exemple pour le flight 1, compléter la ligne 37  \"Place\" avec les résultats de la Race 1 du flight, puis la ligne 39 \"Place\" de la Race 2 du flight. \nSi des pénalités ont été infligées à des équipes, compléter la colonne S (attention indiquer un nombre négatif, par ex \"-1\").\nCette colonne regroupe la somme des pénalités reçues sur la totalité de la régate : en cas de nouvelles pénalités, indiquer simplement la somme des pénalités, toujours en chiffre \"négatif\"."]
["Onglet général : Mettre à jour le classement général en cliquant sur le bouton bleu \"Classement Général\""]

{"sheet":"Pairing List calcul","index":1,"n_rows":37,"n_cols":8,"rows_kept":37,"cut":false,"hidden":true,"merged":[[1,0,2,0],[3,0,4,0],[5,0,6,0],[7,0,8,0],[9,0,10,0],[19,0,20,0],[21,0,22,0],[33,0,34,0],[35,0,36,0],[11,0,12,0],[23,0,24,0],[25,0,26,0],[27,0,28,0],[29,0,30,0],[31,0,32,0],[13,0,14,0],[15,0,16,0],[17,0,18,0]]}
["Flight","Race","Boat 1","Boat 2","Boat 3","Boat 4","Boat 5","Boat 6"]
[1,1,6,7,10,2,11,5]
[null,2,9,3,12,4,8,1]
[2,3,7,5,6,4,8,10]
[null,4,12,11,3,9,1,2]
[3,5,5,11,8,10,7,2]
[null,6,1,3,6,4,12,9]
[4,7,8,3,6,7,2,5]
[null,8,4,1,10,11,9,12]
[5,9,8,1,7,3,6,12]
[null,10,5,2,9,11,4,10]
[6,11,5,6,9,11,8,7]
[null,12,2,4,1,12,10,3]
[7,13,9,4,1,7,6,3]
[null,14,8,10,11,12,5,2]
[8,15,3,10,7,9,5,2]
[null,16,11,8,4,1,12,6]
[9,17,11,7,4,1,12,9]
[null,18,5,8,3,2,10,6]
[10,19,4,8,12,11,10,6]
[null,20,1,5,3,2,9,7]
[11,21,6,5,10,12,9,11]
[null,22,7,1,2,8,3,4]
[12,23,7,9,2,8,5,4]
[null,24,12,10,1,6,11,3]
[13,25,7,10,5,6,11,3]
[null,26,9,2,12,1,4,8]
[14,27,6,2,12,7,4,8]
[null,28,10,11,5,9,3,1]
[15,29,12,11,5,8,2,4]
[null,30,3,9,10,6,7,1]
[16,31,8,12,2,5,7,1]
[null,32,4,9,6,10,3,11]
[17,33,4,7,5,10,3,11]
[null,34,2,12,8,6,1,9]
[18,35,10,7,8,5,1,9]
[null,36,2,6,11,3,4,12]

{"sheet":"Pairing Officielle","index":2,"n_rows":73,"n_cols":7,"rows_kept":73,"cut":false,"hidden":false,"merged":[[65,0,65,6],[69,0,69,6],[45,0,45,6],[29,0,29,6],[33,0,33,6],[37,0,37,6],[61,0,61,6],[21,0,21,6],[25,0,25,6],[49,0,49,6],[53,0,53,6],[57,0,57,6],[41,0,41,6],[1,0,1,6],[5,0,5,6],[9,0,9,6],[13,0,13,6],[17,0,17,6]]}
[]
["Flight 1"]
[{"$f":"Général!A35","v":"Race"},{"$f":"'Pairing List calcul'!C1","v":"Boat 1"},{"$f":"'Pairing List calcul'!D1","v":"Boat 2"},{"$f":"'Pairing List calcul'!E1","v":"Boat 3"},{"$f":"'Pairing List calcul'!F1","v":"Boat 4"},{"$f":"'Pairing List calcul'!G1","v":"Boat 5"},{"$f":"'Pairing List calcul'!H1","v":"Boat 6"}]
[{"$f":"Général!A36","v":1},{"$f":"Général!B36","v":"Equipage 6"},{"$f":"Général!C36","v":"Equipage 7"},{"$f":"Général!D36","v":"Equipage 10"},{"$f":"Général!E36","v":"Equipage 2"},{"$f":"Général!F36","v":"Equipage 11"},{"$f":"Général!G36","v":"Equipage 5"}]
[{"$f":"Général!A38","v":2},{"$f":"Général!B38","v":"Equipage 9"},{"$f":"Général!C38","v":"Equipage 3"},{"$f":"Général!D38","v":"Equipage 12"},{"$f":"Général!E38","v":"Equipage 4"},{"$f":"Général!F38","v":"Equipage 8"},{"$f":"Général!G38","v":"Equipage 1"}]
["Flight 2"]
[{"$f":"Général!A43","v":"Race"},{"$f":"B3","v":"Boat 1"},"Boat 2","Boat 3","Boat 4","Boat 5","Boat 6"]
[{"$f":"Général!A44","v":3},{"$f":"Général!B44","v":"Equipage 7"},{"$f":"Général!C44","v":"Equipage 5"},{"$f":"Général!D44","v":"Equipage 6"},{"$f":"Général!E44","v":"Equipage 4"},{"$f":"Général!F44","v":"Equipage 8"},{"$f":"Général!G44","v":"Equipage 10"}]
[{"$f":"Général!A46","v":4},{"$f":"Général!B46","v":"Equipage 12"},{"$f":"Général!C46","v":"Equipage 11"},{"$f":"Général!D46","v":"Equipage 3"},{"$f":"Général!E46","v":"Equipage 9"},{"$f":"Général!F46","v":"Equipage 1"},{"$f":"Général!G46","v":"Equipage 2"}]
["Flight 3"]
[{"$f":"Général!A51","v":"Race"},{"$f":"B3","v":"Boat 1"},"Boat 2","Boat 3","Boat 4","Boat 5","Boat 6"]
[{"$f":"Général!A52","v":5},{"$f":"Général!B52","v":"Equipage 5"},{"$f":"Général!C52","v":"Equipage 11"},{"$f":"Général!D52","v":"Equipage 8"},{"$f":"Général!E52","v":"Equipage 10"},{"$f":"Général!F52","v":"Equipage 7"},{"$f":"Général!G52","v":"Equipage 2"}]
[{"$f":"Général!A54","v":6},{"$f":"Général!B54","v":"Equipage 1"},{"$f":"Général!C54","v":"Equipage 3"},{"$f":"Général!D54","v":"Equipage 6"},{"$f":"Général!E54","v":"Equipage 4"},{"$f":"Général!F54","v":"Equipage 12"},{"$f":"Général!G54","v":"Equipage 9"}]
["Flight 4"]
[{"$f":"Général!A59","v":"Race"},{"$f":"B3","v":"Boat 1"},"Boat 2","Boat 3","Boat 4","Boat 5","Boat 6"]
[{"$f":"Général!A60","v":7},{"$f":"Général!B60","v":"Equipage 8"},{"$f":"Général!C60","v":"Equipage 3"},{"$f":"Général!D60","v":"Equipage 6"},{"$f":"Général!E60","v":"Equipage 7"},{"$f":"Général!F60","v":"Equipage 2"},{"$f":"Général!G60","v":"Equipage 5"}]
[{"$f":"Général!A62","v":8},{"$f":"Général!B62","v":"Equipage 4"},{"$f":"Général!C62","v":"Equipage 1"},{"$f":"Général!D62","v":"Equipage 10"},{"$f":"Général!E62","v":"Equipage 11"},{"$f":"Général!F62","v":"Equipage 9"},{"$f":"Général!G62","v":"Equipage 12"}]
["Flight 5"]
[{"$f":"Général!A67","v":"Race"},{"$f":"B3","v":"Boat 1"},"Boat 2","Boat 3","Boat 4","Boat 5","Boat 6"]
[{"$f":"Général!A68","v":9},{"$f":"Général!B68","v":"Equipage 8"},{"$f":"Général!C68","v":"Equipage 1"},{"$f":"Général!D68","v":"Equipage 7"},{"$f":"Général!E68","v":"Equipage 3"},{"$f":"Général!F68","v":"Equipage 6"},{"$f":"Général!G68","v":"Equipage 12"}]
[{"$f":"Général!A70","v":10},{"$f":"Général!B70","v":"Equipage 5"},{"$f":"Général!C70","v":"Equipage 2"},{"$f":"Général!D70","v":"Equipage 9"},{"$f":"Général!E70","v":"Equipage 11"},{"$f":"Général!F70","v":"Equipage 4"},{"$f":"Général!G70","v":"Equipage 10"}]
["Flight 6"]
[{"$f":"Général!A75","v":"Race"},{"$f":"B3","v":"Boat 1"},"Boat 2","Boat 3","Boat 4","Boat 5","Boat 6"]
[{"$f":"Général!A76","v":11},{"$f":"Général!B76","v":"Equipage 5"},{"$f":"Général!C76","v":"Equipage 6"},{"$f":"Général!D76","v":"Equipage 9"},{"$f":"Général!E76","v":"Equipage 11"},{"$f":"Général!F76","v":"Equipage 8"},{"$f":"Général!G76","v":"Equipage 7"}]
[{"$f":"Général!A78","v":12},{"$f":"Général!B78","v":"Equipage 2"},{"$f":"Général!C78","v":"Equipage 4"},{"$f":"Général!D78","v":"Equipage 1"},{"$f":"Général!E78","v":"Equipage 12"},{"$f":"Général!F78","v":"Equipage 10"},{"$f":"Général!G78","v":"Equipage 3"}]
["Flight 7"]
[{"$f":"Général!A83","v":"Race"},{"$f":"B3","v":"Boat 1"},"Boat 2","Boat 3","Boat 4","Boat 5","Boat 6"]
[{"$f":"Général!A84","v":13},{"$f":"Général!B84","v":"Equipage 9"},{"$f":"Général!C84","v":"Equipage 4"},{"$f":"Général!D84","v":"Equipage 1"},{"$f":"Général!E84","v":"Equipage 7"},{"$f":"Général!F84","v":"Equipage 6"},{"$f":"Général!G84","v":"Equipage 3"}]
[{"$f":"Général!A86","v":14},{"$f":"Général!B86","v":"Equipage 8"},{"$f":"Général!C86","v":"Equipage 10"},{"$f":"Général!D86","v":"Equipage 11"},{"$f":"Général!E86","v":"Equipage 12"},{"$f":"Général!F86","v":"Equipage 5"},{"$f":"Général!G86","v":"Equipage 2"}]
["Flight 8"]
[{"$f":"Général!A91","v":"Race"},{"$f":"B3","v":"Boat 1"},"Boat 2","Boat 3","Boat 4","Boat 5","Boat 6"]
[{"$f":"Général!A92","v":15},{"$f":"Général!B92","v":"Equipage 3"},{"$f":"Général!C92","v":"Equipage 10"},{"$f":"Général!D92","v":"Equipage 7"},{"$f":"Général!E92","v":"Equipage 9"},{"$f":"Général!F92","v":"Equipage 5"},{"$f":"Général!G92","v":"Equipage 2"}]
[{"$f":"Général!A94","v":16},{"$f":"Général!B94","v":"Equipage 11"},{"$f":"Général!C94","v":"Equipage 8"},{"$f":"Général!D94","v":"Equipage 4"},{"$f":"Général!E94","v":"Equipage 1"},{"$f":"Général!F94","v":"Equipage 12"},{"$f":"Général!G94","v":"Equipage 6"}]
["Flight 9"]
[{"$f":"Général!A99","v":"Race"},{"$f":"B3","v":"Boat 1"},"Boat 2","Boat 3","Boat 4","Boat 5","Boat 6"]
[{"$f":"Général!A100","v":17},{"$f":"Général!B100","v":"Equipage 11"},{"$f":"Général!C100","v":"Equipage 7"},{"$f":"Général!D100","v":"Equipage 4"},{"$f":"Général!E100","v":"Equipage 1"},{"$f":"Général!F100","v":"Equipage 12"},{"$f":"Général!G100","v":"Equipage 9"}]
[{"$f":"Général!A102","v":18},{"$f":"Général!B102","v":"Equipage 5"},{"$f":"Général!C102","v":"Equipage 8"},{"$f":"Général!D102","v":"Equipage 3"},{"$f":"Général!E102","v":"Equipage 2"},{"$f":"Général!F102","v":"Equipage 10"},{"$f":"Général!G102","v":"Equipage 6"}]
["Flight 10"]
[{"$f":"Général!A107","v":"Race"},{"$f":"B3","v":"Boat 1"},"Boat 2","Boat 3","Boat 4","Boat 5","Boat 6"]
[{"$f":"Général!A108","v":19},{"$f":"Général!B108","v":"Equipage 4"},{"$f":"Général!C108","v":"Equipage 8"},{"$f":"Général!D108","v":"Equipage 12"},{"$f":"Général!E108","v":"Equipage 11"},{"$f":"Général!F108","v":"Equipage 10"},{"$f":"Général!G108","v":"Equipage 6"}]
[{"$f":"Général!A110","v":20},{"$f":"Général!B110","v":"Equipage 1"},{"$f":"Général!C110","v":"Equipage 5"},{"$f":"Général!D110","v":"Equipage 3"},{"$f":"Général!E110","v":"Equipage 2"},{"$f":"Général!F110","v":"Equipage 9"},{"$f":"Général!G110","v":"Equipage 7"}]
["Flight 11"]
[{"$f":"Général!A115","v":"Race"},{"$f":"B3","v":"Boat 1"},"Boat 2","Boat 3","Boat 4","Boat 5","Boat 6"]
[{"$f":"Général!A116","v":21},{"$f":"Général!B116","v":"Equipage 6"},{"$f":"Général!C116","v":"Equipage 5"},{"$f":"Général!D116","v":"Equipage 10"},{"$f":"Général!E116","v":"Equipage 12"},{"$f":"Général!F116","v":"Equipage 9"},{"$f":"Général!G116","v":"Equipage 11"}]
[{"$f":"Général!A118","v":22},{"$f":"Général!B118","v":"Equipage 7"},{"$f":"Général!C118","v":"Equipage 1"},{"$f":"Général!D118","v":"Equipage 2"},{"$f":"Général!E118","v":"Equipage 8"},{"$f":"Général!F118","v":"Equipage 3"},{"$f":"Général!G118","v":"Equipage 4"}]
["Flight 12"]
[{"$f":"Général!A123","v":"Race"},{"$f":"B3","v":"Boat 1"},"Boat 2","Boat 3","Boat 4","Boat 5","Boat 6"]
[{"$f":"Général!A124","v":23},{"$f":"Général!B124","v":"Equipage 7"},{"$f":"Général!C124","v":"Equipage 9"},{"$f":"Général!D124","v":"Equipage 2"},{"$f":"Général!E124","v":"Equipage 8"},{"$f":"Général!F124","v":"Equipage 5"},{"$f":"Général!G124","v":"Equipage 4"}]
[{"$f":"Général!A126","v":24},{"$f":"Général!B126","v":"Equipage 12"},{"$f":"Général!C126","v":"Equipage 10"},{"$f":"Général!D126","v":"Equipage 1"},{"$f":"Général!E126","v":"Equipage 6"},{"$f":"Général!F126","v":"Equipage 11"},{"$f":"Général!G126","v":"Equipage 3"}]
["Flight 13"]
[{"$f":"Général!A131","v":"Race"},{"$f":"B3","v":"Boat 1"},"Boat 2","Boat 3","Boat 4","Boat 5","Boat 6"]
[{"$f":"Général!A132","v":25},{"$f":"Général!B132","v":"Equipage 7"},{"$f":"Général!C132","v":"Equipage 10"},{"$f":"Général!D132","v":"Equipage 5"},{"$f":"Général!E132","v":"Equipage 6"},{"$f":"Général!F132","v":"Equipage 11"},{"$f":"Général!G132","v":"Equipage 3"}]
[{"$f":"Général!A134","v":26},{"$f":"Général!B134","v":"Equipage 9"},{"$f":"Général!C134","v":"Equipage 2"},{"$f":"Général!D134","v":"Equipage 12"},{"$f":"Général!E134","v":"Equipage 1"},{"$f":"Général!F134","v":"Equipage 4"},{"$f":"Général!G134","v":"Equipage 8"}]
["Flight 14"]
[{"$f":"Général!A139","v":"Race"},{"$f":"B3","v":"Boat 1"},"Boat 2","Boat 3","Boat 4","Boat 5","Boat 6"]
[{"$f":"Général!A140","v":27},{"$f":"Général!B140","v":"Equipage 6"},{"$f":"Général!C140","v":"Equipage 2"},{"$f":"Général!D140","v":"Equipage 12"},{"$f":"Général!E140","v":"Equipage 7"},{"$f":"Général!F140","v":"Equipage 4"},{"$f":"Général!G140","v":"Equipage 8"}]
[{"$f":"Général!A142","v":28},{"$f":"Général!B142","v":"Equipage 10"},{"$f":"Général!C142","v":"Equipage 11"},{"$f":"Général!D142","v":"Equipage 5"},{"$f":"Général!E142","v":"Equipage 9"},{"$f":"Général!F142","v":"Equipage 3"},{"$f":"Général!G142","v":"Equipage 1"}]
["Flight 15"]
[{"$f":"Général!A147","v":"Race"},{"$f":"B3","v":"Boat 1"},"Boat 2","Boat 3","Boat 4","Boat 5","Boat 6"]
[{"$f":"Général!A148","v":29},{"$f":"Général!B148","v":"Equipage 12"},{"$f":"Général!C148","v":"Equipage 11"},{"$f":"Général!D148","v":"Equipage 5"},{"$f":"Général!E148","v":"Equipage 8"},{"$f":"Général!F148","v":"Equipage 2"},{"$f":"Général!G148","v":"Equipage 4"}]
[{"$f":"Général!A150","v":30},{"$f":"Général!B150","v":"Equipage 3"},{"$f":"Général!C150","v":"Equipage 9"},{"$f":"Général!D150","v":"Equipage 10"},{"$f":"Général!E150","v":"Equipage 6"},{"$f":"Général!F150","v":"Equipage 7"},{"$f":"Général!G150","v":"Equipage 1"}]
["Flight 16"]
[{"$f":"Général!A155","v":"Race"},{"$f":"B3","v":"Boat 1"},"Boat 2","Boat 3","Boat 4","Boat 5","Boat 6"]
[{"$f":"Général!A156","v":31},{"$f":"Général!B156","v":"Equipage 8"},{"$f":"Général!C156","v":"Equipage 12"},{"$f":"Général!D156","v":"Equipage 2"},{"$f":"Général!E156","v":"Equipage 5"},{"$f":"Général!F156","v":"Equipage 7"},{"$f":"Général!G156","v":"Equipage 1"}]
[{"$f":"Général!A158","v":32},{"$f":"Général!B158","v":"Equipage 4"},{"$f":"Général!C158","v":"Equipage 9"},{"$f":"Général!D158","v":"Equipage 6"},{"$f":"Général!E158","v":"Equipage 10"},{"$f":"Général!F158","v":"Equipage 3"},{"$f":"Général!G158","v":"Equipage 11"}]
["Flight 17"]
[{"$f":"Général!A161","v":"Race"},{"$f":"B7","v":"Boat 1"},"Boat 2","Boat 3","Boat 4","Boat 5","Boat 6"]
[{"$f":"Général!A162","v":33},{"$f":"Général!B162","v":"Equipage 8"},{"$f":"Général!C162","v":"Equipage 12"},{"$f":"Général!D162","v":"Equipage 2"},{"$f":"Général!E162","v":"Equipage 5"},{"$f":"Général!F162","v":"Equipage 7"},{"$f":"Général!G162","v":"Equipage 1"}]
[{"$f":"Général!A164","v":34},{"$f":"Général!B164","v":"Equipage 4"},{"$f":"Général!C164","v":"Equipage 9"},{"$f":"Général!D164","v":"Equipage 6"},{"$f":"Général!E164","v":"Equipage 10"},{"$f":"Général!F164","v":"Equipage 3"},{"$f":"Général!G164","v":"Equipage 11"}]
["Flight 18"]
[{"$f":"Général!A167","v":"Race"},{"$f":"B11","v":"Boat 1"},"Boat 2","Boat 3","Boat 4","Boat 5","Boat 6"]
[{"$f":"Général!A168","v":35},{"$f":"Général!B168","v":"Equipage 8"},{"$f":"Général!C168","v":"Equipage 12"},{"$f":"Général!D168","v":"Equipage 2"},{"$f":"Général!E168","v":"Equipage 5"},{"$f":"Général!F168","v":"Equipage 7"},{"$f":"Général!G168","v":"Equipage 1"}]
[{"$f":"Général!A170","v":36},{"$f":"Général!B170","v":"Equipage 4"},{"$f":"Général!C170","v":"Equipage 9"},{"$f":"Général!D170","v":"Equipage 6"},{"$f":"Général!E170","v":"Equipage 10"},{"$f":"Général!F170","v":"Equipage 3"},{"$f":"Général!G170","v":"Equipage 11"}]

{"sheet":"Général","index":3,"n_rows":171,"n_cols":30,"rows_kept":171,"cut":false,"hidden":false,"merged":[[57,0,57,6],[65,0,65,6],[33,0,33,6],[41,0,41,6],[49,0,49,6],[89,0,89,6],[97,0,97,6],[105,0,105,6],[73,0,73,6],[81,0,81,6],[113,0,113,6],[184,12,188,12],[197,0,197,2],[197,4,197,6],[172,4,176,4],[159,0,159,6],[165,0,165,6],[129,0,129,6],[184,19,188,19],[180,0,187,0],[198,0,202,0],[198,4,202,4],[198,8,202,8],[180,4,184,4],[179,12,183,12],[179,19,183,19],[188,0,192,0],[188,4,192,4],[121,0,121,6],[137,0,137,6],[208,0,212,0],[208,4,212,4],[208,8,212,8],[203,0,207,0],[203,4,207,4],[203,8,207,8],[145,0,145,6],[153,0,153,6],[154,12,154,14],[154,19,154,21],[164,12,168,12],[164,19,168,19],[173,12,173,14],[173,19,173,21],[172,0,179,0],[174,12,178,12],[155,12,162,12],[155,19,162,19],[174,19,178,19],[171,0,171,2],[171,4,171,6],[1,29,1,30],[2,29,2,30],[7,29,7,30],[8,29,8,30],[9,29,9,30],[3,29,3,30],[45,12,45,19],[11,29,11,30],[4,29,4,30],[5,29,5,30],[6,29,6,30],[10,29,10,30],[32,20,32,21]]}
[null,null,null,null,null,null,null,null,null,null,null,null,null,null,null,null,null,null,null,null,null,1,2,3,4,5,6,6]
["NUM","EQUIPAGE","FLIGHT 1","FLIGHT 2","FLIGHT 3","FLIGHT 4","FLIGHT 5","FLIGHT 6","FLIGHT 7","FLIGHT 8","FLIGHT 9","FLIGHT 10","FLIGHT 11","FLIGHT 12","FLIGHT 13","FLIGHT 14","FLIGHT 15","FLIGHT 16","Pénalités","TOTAL","Classement","np1","np2","np3","np4","np5","np6","np7","Intitulé","Désignation"]
[1,"Equipage 1",{"$f":"IF(COUNTIF($B$36:$K$37,B3)=1,HLOOKUP(B3,$B$36:$K$37,2,FALSE),IF(COUNTIF($B$38:$K$39,B3)=1,HLOOKUP(B3,$B$38:$K$39,2,FALSE),HLOOKUP(B3,#REF!,2,FALSE)))","v":0},{"$f":"IF(COUNTIF($B$44:$K$45,B3)=1,HLOOKUP(B3,$B$44:$K$45,2,FALSE),IF(COUNTIF($B$46:$K$47,B3)=1,HLOOKUP(B3,$B$46:$K$47,2,FALSE),HLOOKUP(B3,#REF!,2,FALSE)))","v":0},{"$f":"IF(COUNTIF($B$52:$K$53,B3)=1,HLOOKUP(B3,$B$52:$K$53,2,FALSE),IF(COUNTIF($B$54:$K$55,B3)=1,HLOOKUP(B3,$B$54:$K$55,2,FALSE),HLOOKUP(B3,#REF!,2,FALSE)))","v":0},{"$f":"IF(COUNTIF($B$60:$K$61,B3)=1,HLOOKUP(B3,$B$60:$K$61,2,FALSE),IF(COUNTIF($B$62:$K$63,B3)=1,HLOOKUP(B3,$B$62:$K$63,2,FALSE),HLOOKUP(B3,#REF!,2,FALSE)))","v":0},{"$f":"IF(COUNTIF($B$68:$K$69,B3)=1,HLOOKUP(B3,$B$68:$K$69,2,FALSE),IF(COUNTIF($B$70:$K$71,B3)=1,HLOOKUP(B3,$B$70:$K$71,2,FALSE),HLOOKUP(B3,#REF!,2,FALSE)))","v":0},{"$f":"IF(COUNTIF($B$76:$K$77,B3)=1,HLOOKUP(B3,$B$76:$K$77,2,FALSE),IF(COUNTIF($B$78:$K$79,B3)=1,HLOOKUP(B3,$B$78:$K$79,2,FALSE),HLOOKUP(B3,#REF!,2,FALSE)))","v":0},{"$f":"IF(COUNTIF($B$84:$K$85,B3)=1,HLOOKUP(B3,$B$84:$K$85,2,FALSE),IF(COUNTIF($B$86:$K$87,B3)=1,HLOOKUP(B3,$B$86:$K$87,2,FALSE),HLOOKUP(B3,#REF!,2,FALSE)))","v":0},{"$f":"IF(COUNTIF($B$92:$K$93,B3)=1,HLOOKUP(B3,$B$92:$K$93,2,FALSE),IF(COUNTIF($B$94:$K$95,B3)=1,HLOOKUP(B3,$B$94:$K$95,2,FALSE),HLOOKUP(B3,#REF!,2,FALSE)))","v":0},{"$f":"IF(COUNTIF($B$100:$K$101,B3)=1,HLOOKUP(B3,$B$100:$K$101,2,FALSE),IF(COUNTIF($B$102:$K$103,B3)=1,HLOOKUP(B3,$B$102:$K$103,2,FALSE),HLOOKUP(B3,#REF!,2,FALSE)))","v":0},{"$f":"IF(COUNTIF($B$108:$K$109,B3)=1,HLOOKUP(B3,$B$108:$K$109,2,FALSE),IF(COUNTIF($B$110:$K$111,B3)=1,HLOOKUP(B3,$B$110:$K$111,2,FALSE),HLOOKUP(B3,#REF!,2,FALSE)))","v":0},{"$f":"IF(COUNTIF($B$116:$K$117,B3)=1,HLOOKUP(B3,$B$116:$K$117,2,FALSE),IF(COUNTIF($B$118:$K$119,B3)=1,HLOOKUP(B3,$B$118:$K$119,2,FALSE),HLOOKUP(B3,#REF!,2,FALSE)))","v":0},{"$f":"IF(COUNTIF($B$124:$K$125,B3)=1,HLOOKUP(B3,$B$124:$K$125,2,FALSE),IF(COUNTIF($B$126:$K$127,B3)=1,HLOOKUP(B3,$B$126:$K$127,2,FALSE),HLOOKUP(B3,#REF!,2,FALSE)))","v":0},{"$f":"IF(COUNTIF($B$132:$K$133,B3)=1,HLOOKUP(B3,$B$132:$K$133,2,FALSE),IF(COUNTIF($B$134:$K$135,B3)=1,HLOOKUP(B3,$B$134:$K$135,2,FALSE),HLOOKUP(B3,#REF!,2,FALSE)))","v":0},{"$f":"IF(COUNTIF($B$140:$K$141,B3)=1,HLOOKUP(B3,$B$140:$K$141,2,FALSE),IF(COUNTIF($B$142:$K$143,B3)=1,HLOOKUP(B3,$B$142:$K$143,2,FALSE),HLOOKUP(B3,#REF!,2,FALSE)))","v":0},{"$f":"IF(COUNTIF($B$148:$K$149,B3)=1,HLOOKUP(B3,$B$148:$K$149,2,FALSE),IF(COUNTIF($B$150:$K$151,B3)=1,HLOOKUP(B3,$B$150:$K$151,2,FALSE),HLOOKUP(B3,#REF!,2,FALSE)))","v":0},{"$f":"IF(COUNTIF($B$156:$K$157,B3)=1,HLOOKUP(B3,$B$156:$K$157,2,FALSE),IF(COUNTIF($B$158:$K$159,B3)=1,HLOOKUP(B3,$B$158:$K$159,2,FALSE),HLOOKUP(B3,$B$160:$K$161,2,FALSE)))","v":0},null,{"$f":"SUM(C3:S3)","v":0},{"$f":"IF(T3=SMALL(T$3:T$14,1),\"1\",IF(T3=SMALL(T$3:T$14,2),\"2\",IF(T3=SMALL(T$3:T$14,3),\"3\",IF(T3=SMALL(T$3:T$14,4),\"4\",IF(T3=SMALL(T$3:T$14,5),\"5\",IF(T3=SMALL(T$3:T$14,6),\"6\",IF(T3=SMALL(T$3:T$14,7),\"7\",IF(T3=SMALL(T$3:T$14,8),\"8\",IF(T3=SMALL(T$3:T$14,9),\"9\",IF(T3=SMALL(T$3:T$14,10),\"10\",IF(T3=SMALL(T$3:T$14,11),\"11\",IF(T3=SMALL(T$3:T$14,12),\"12\",IF(T3=SMALL(T$3:T$14,13),\"13\",IF(T3=SMALL(T$3:T$14,14),\"14\",IF(T3=SMALL(T$3:T$14,15),\"15\",IF(T3=SMALL(T$3:T$14,16),\"16\",IF(T3=SMALL(T$3:T$14,17),\"17\",IF(T3=SMALL(T$3:T$14,18),\"18\",IF(T3=SMALL(T$3:T$14,19),\"19\",IF(T3=SMALL(T$3:T$14,20),\"20\",IF(T3=SMALL(T$3:T$14,21),\"21\",IF(T3=SMALL(T$3:T$14,22),\"22\",IF(T3=SMALL(T$3:T$14,23),\"23\",IF(T3=SMALL(T$3:T$14,24),\"24\",IF(T3=SMALL(T$3:T$14,25),\"25\",IF(T3=SMALL(T$3:T$14,26),\"26\",IF(T3=SMALL(T$3:T$14,27),\"27\",IF(T3=SMALL(T$3:T$14,28),\"28\",IF(T3=SMALL(T$3:T$14,29),\"29\",IF(T3=SMALL(T$3:T$14,30),\"30\",IF(T3=SMALL(T$3:T$14,31),\"31\",IF(T3=SMALL(T$3:T$14,32),\"32\",IF(T3=SMALL(T$3:T$14,33),\"33\",IF(T3=SMALL(T$3:T$14,34),\"34\"))))))))))))))))))))))))))))))))))","v":"1"},{"$f":"COUNTIF($C3:$R3,V$1)","v":0},0,0,0,0,0,{"$f":"COUNTIF($C3:$R3,AB$1)","v":0},"Boat 1"]
[2,"Equipage 2",{"$f":"IF(COUNTIF($B$36:$K$37,B4)=1,HLOOKUP(B4,$B$36:$K$37,2,FALSE),IF(COUNTIF($B$38:$K$39,B4)=1,HLOOKUP(B4,$B$38:$K$39,2,FALSE),HLOOKUP(B4,#REF!,2,FALSE)))","v":0},{"$f":"IF(COUNTIF($B$44:$K$45,B4)=1,HLOOKUP(B4,$B$44:$K$45,2,FALSE),IF(COUNTIF($B$46:$K$47,B4)=1,HLOOKUP(B4,$B$46:$K$47,2,FALSE),HLOOKUP(B4,#REF!,2,FALSE)))","v":0},{"$f":"IF(COUNTIF($B$52:$K$53,B4)=1,HLOOKUP(B4,$B$52:$K$53,2,FALSE),IF(COUNTIF($B$54:$K$55,B4)=1,HLOOKUP(B4,$B$54:$K$55,2,FALSE),HLOOKUP(B4,#REF!,2,FALSE)))","v":0},{"$f":"IF(COUNTIF($B$60:$K$61,B4)=1,HLOOKUP(B4,$B$60:$K$61,2,FALSE),IF(COUNTIF($B$62:$K$63,B4)=1,HLOOKUP(B4,$B$62:$K$63,2,FALSE),HLOOKUP(B4,#REF!,2,FALSE)))","v":0},{"$f":"IF(COUNTIF($B$68:$K$69,B4)=1,HLOOKUP(B4,$B$68:$K$69,2,FALSE),IF(COUNTIF($B$70:$K$71,B4)=1,HLOOKUP(B4,$B$70:$K$71,2,FALSE),HLOOKUP(B4,#REF!,2,FALSE)))","v":0},{"$f":"IF(COUNTIF($B$76:$K$77,B4)=1,HLOOKUP(B4,$B$76:$K$77,2,FALSE),IF(COUNTIF($B$78:$K$79,B4)=1,HLOOKUP(B4,$B$78:$K$79,2,FALSE),HLOOKUP(B4,#REF!,2,FALSE)))","v":0},{"$f":"IF(COUNTIF($B$84:$K$85,B4)=1,HLOOKUP(B4,$B$84:$K$85,2,FALSE),IF(COUNTIF($B$86:$K$87,B4)=1,HLOOKUP(B4,$B$86:$K$87,2,FALSE),HLOOKUP(B4,#REF!,2,FALSE)))","v":0},{"$f":"IF(COUNTIF($B$92:$K$93,B4)=1,HLOOKUP(B4,$B$92:$K$93,2,FALSE),IF(COUNTIF($B$94:$K$95,B4)=1,HLOOKUP(B4,$B$94:$K$95,2,FALSE),HLOOKUP(B4,#REF!,2,FALSE)))","v":0},{"$f":"IF(COUNTIF($B$100:$K$101,B4)=1,HLOOKUP(B4,$B$100:$K$101,2,FALSE),IF(COUNTIF($B$102:$K$103,B4)=1,HLOOKUP(B4,$B$102:$K$103,2,FALSE),HLOOKUP(B4,#REF!,2,FALSE)))","v":0},{"$f":"IF(COUNTIF($B$108:$K$109,B4)=1,HLOOKUP(B4,$B$108:$K$109,2,FALSE),IF(COUNTIF($B$110:$K$111,B4)=1,HLOOKUP(B4,$B$110:$K$111,2,FALSE),HLOOKUP(B4,#REF!,2,FALSE)))","v":0},{"$f":"IF(COUNTIF($B$116:$K$117,B4)=1,HLOOKUP(B4,$B$116:$K$117,2,FALSE),IF(COUNTIF($B$118:$K$119,B4)=1,HLOOKUP(B4,$B$118:$K$119,2,FALSE),HLOOKUP(B4,#REF!,2,FALSE)))","v":0},{"$f":"IF(COUNTIF($B$124:$K$125,B4)=1,HLOOKUP(B4,$B$124:$K$125,2,FALSE),IF(COUNTIF($B$126:$K$127,B4)=1,HLOOKUP(B4,$B$126:$K$127,2,FALSE),HLOOKUP(B4,#REF!,2,FALSE)))","v":0},{"$f":"IF(COUNTIF($B$132:$K$133,B4)=1,HLOOKUP(B4,$B$132:$K$133,2,FALSE),IF(COUNTIF($B$134:$K$135,B4)=1,HLOOKUP(B4,$B$134:$K$135,2,FALSE),HLOOKUP(B4,#REF!,2,FALSE)))","v":0},{"$f":"IF(COUNTIF($B$140:$K$141,B4)=1,HLOOKUP(B4,$B$140:$K$141,2,FALSE),IF(COUNTIF($B$142:$K$143,B4)=1,HLOOKUP(B4,$B$142:$K$143,2,FALSE),HLOOKUP(B4,#REF!,2,FALSE)))","v":0},{"$f":"IF(COUNTIF($B$148:$K$149,B4)=1,HLOOKUP(B4,$B$148:$K$149,2,FALSE),IF(COUNTIF($B$150:$K$151,B4)=1,HLOOKUP(B4,$B$150:$K$151,2,FALSE),HLOOKUP(B4,#REF!,2,FALSE)))","v":0},0,null,0,"1",0,0,0,0,0,0,0,"Boat 2"]
[3,"Equipage 3",{"$f":"IF(COUNTIF($B$36:$K$37,B5)=1,HLOOKUP(B5,$B$36:$K$37,2,FALSE),IF(COUNTIF($B$38:$K$39,B5)=1,HLOOKUP(B5,$B$38:$K$39,2,FALSE),HLOOKUP(B5,#REF!,2,FALSE)))","v":0},{"$f":"IF(COUNTIF($B$44:$K$45,B5)=1,HLOOKUP(B5,$B$44:$K$45,2,FALSE),IF(COUNTIF($B$46:$K$47,B5)=1,HLOOKUP(B5,$B$46:$K$47,2,FALSE),HLOOKUP(B5,#REF!,2,FALSE)))","v":0},{"$f":"IF(COUNTIF($B$52:$K$53,B5)=1,HLOOKUP(B5,$B$52:$K$53,2,FALSE),IF(COUNTIF($B$54:$K$55,B5)=1,HLOOKUP(B5,$B$54:$K$55,2,FALSE),HLOOKUP(B5,#REF!,2,FALSE)))","v":0},{"$f":"IF(COUNTIF($B$60:$K$61,B5)=1,HLOOKUP(B5,$B$60:$K$61,2,FALSE),IF(COUNTIF($B$62:$K$63,B5)=1,HLOOKUP(B5,$B$62:$K$63,2,FALSE),HLOOKUP(B5,#REF!,2,FALSE)))","v":0},{"$f":"IF(COUNTIF($B$68:$K$69,B5)=1,HLOOKUP(B5,$B$68:$K$69,2,FALSE),IF(COUNTIF($B$70:$K$71,B5)=1,HLOOKUP(B5,$B$70:$K$71,2,FALSE),HLOOKUP(B5,#REF!,2,FALSE)))","v":0},{"$f":"IF(COUNTIF($B$76:$K$77,B5)=1,HLOOKUP(B5,$B$76:$K$77,2,FALSE),IF(COUNTIF($B$78:$K$79,B5)=1,HLOOKUP(B5,$B$78:$K$79,2,FALSE),HLOOKUP(B5,#REF!,2,FALSE)))","v":0},{"$f":"IF(COUNTIF($B$84:$K$85,B5)=1,HLOOKUP(B5,$B$84:$K$85,2,FALSE),IF(COUNTIF($B$86:$K$87,B5)=1,HLOOKUP(B5,$B$86:$K$87,2,FALSE),HLOOKUP(B5,#REF!,2,FALSE)))","v":0},{"$f":"IF(COUNTIF($B$92:$K$93,B5)=1,HLOOKUP(B5,$B$92:$K$93,2,FALSE),IF(COUNTIF($B$94:$K$95,B5)=1,HLOOKUP(B5,$B$94:$K$95,2,FALSE),HLOOKUP(B5,#REF!,2,FALSE)))","v":0},{"$f":"IF(COUNTIF($B$100:$K$101,B5)=1,HLOOKUP(B5,$B$100:$K$101,2,FALSE),IF(COUNTIF($B$102:$K$103,B5)=1,HLOOKUP(B5,$B$102:$K$103,2,FALSE),HLOOKUP(B5,#REF!,2,FALSE)))","v":0},{"$f":"IF(COUNTIF($B$108:$K$109,B5)=1,HLOOKUP(B5,$B$108:$K$109,2,FALSE),IF(COUNTIF($B$110:$K$111,B5)=1,HLOOKUP(B5,$B$110:$K$111,2,FALSE),HLOOKUP(B5,#REF!,2,FALSE)))","v":0},{"$f":"IF(COUNTIF($B$116:$K$117,B5)=1,HLOOKUP(B5,$B$116:$K$117,2,FALSE),IF(COUNTIF($B$118:$K$119,B5)=1,HLOOKUP(B5,$B$118:$K$119,2,FALSE),HLOOKUP(B5,#REF!,2,FALSE)))","v":0},{"$f":"IF(COUNTIF($B$124:$K$125,B5)=1,HLOOKUP(B5,$B$124:$K$125,2,FALSE),IF(COUNTIF($B$126:$K$127,B5)=1,HLOOKUP(B5,$B$126:$K$127,2,FALSE),HLOOKUP(B5,#REF!,2,FALSE)))","v":0},{"$f":"IF(COUNTIF($B$132:$K$133,B5)=1,HLOOKUP(B5,$B$132:$K$133,2,FALSE),IF(COUNTIF($B$134:$K$135,B5)=1,HLOOKUP(B5,$B$134:$K$135,2,FALSE),HLOOKUP(B5,#REF!,2,FALSE)))","v":0},{"$f":"IF(COUNTIF($B$140:$K$141,B5)=1,HLOOKUP(B5,$B$140:$K$141,2,FALSE),IF(COUNTIF($B$142:$K$143,B5)=1,HLOOKUP(B5,$B$142:$K$143,2,FALSE),HLOOKUP(B5,#REF!,2,FALSE)))","v":0},{"$f":"IF(COUNTIF($B$148:$K$149,B5)=1,HLOOKUP(B5,$B$148:$K$149,2,FALSE),IF(COUNTIF($B$150:$K$151,B5)=1,HLOOKUP(B5,$B$150:$K$151,2,FALSE),HLOOKUP(B5,#REF!,2,FALSE)))","v":0},0,null,0,"1",0,0,0,0,0,0,0,"Boat 3"]
[4,"Equipage 4",{"$f":"IF(COUNTIF($B$36:$K$37,B6)=1,HLOOKUP(B6,$B$36:$K$37,2,FALSE),IF(COUNTIF($B$38:$K$39,B6)=1,HLOOKUP(B6,$B$38:$K$39,2,FALSE),HLOOKUP(B6,#REF!,2,FALSE)))","v":0},{"$f":"IF(COUNTIF($B$44:$K$45,B6)=1,HLOOKUP(B6,$B$44:$K$45,2,FALSE),IF(COUNTIF($B$46:$K$47,B6)=1,HLOOKUP(B6,$B$46:$K$47,2,FALSE),HLOOKUP(B6,#REF!,2,FALSE)))","v":0},{"$f":"IF(COUNTIF($B$52:$K$53,B6)=1,HLOOKUP(B6,$B$52:$K$53,2,FALSE),IF(COUNTIF($B$54:$K$55,B6)=1,HLOOKUP(B6,$B$54:$K$55,2,FALSE),HLOOKUP(B6,#REF!,2,FALSE)))","v":0},{"$f":"IF(COUNTIF($B$60:$K$61,B6)=1,HLOOKUP(B6,$B$60:$K$61,2,FALSE),IF(COUNTIF($B$62:$K$63,B6)=1,HLOOKUP(B6,$B$62:$K$63,2,FALSE),HLOOKUP(B6,#REF!,2,FALSE)))","v":0},{"$f":"IF(COUNTIF($B$68:$K$69,B6)=1,HLOOKUP(B6,$B$68:$K$69,2,FALSE),IF(COUNTIF($B$70:$K$71,B6)=1,HLOOKUP(B6,$B$70:$K$71,2,FALSE),HLOOKUP(B6,#REF!,2,FALSE)))","v":0},{"$f":"IF(COUNTIF($B$76:$K$77,B6)=1,HLOOKUP(B6,$B$76:$K$77,2,FALSE),IF(COUNTIF($B$78:$K$79,B6)=1,HLOOKUP(B6,$B$78:$K$79,2,FALSE),HLOOKUP(B6,#REF!,2,FALSE)))","v":0},{"$f":"IF(COUNTIF($B$84:$K$85,B6)=1,HLOOKUP(B6,$B$84:$K$85,2,FALSE),IF(COUNTIF($B$86:$K$87,B6)=1,HLOOKUP(B6,$B$86:$K$87,2,FALSE),HLOOKUP(B6,#REF!,2,FALSE)))","v":0},{"$f":"IF(COUNTIF($B$92:$K$93,B6)=1,HLOOKUP(B6,$B$92:$K$93,2,FALSE),IF(COUNTIF($B$94:$K$95,B6)=1,HLOOKUP(B6,$B$94:$K$95,2,FALSE),HLOOKUP(B6,#REF!,2,FALSE)))","v":0},{"$f":"IF(COUNTIF($B$100:$K$101,B6)=1,HLOOKUP(B6,$B$100:$K$101,2,FALSE),IF(COUNTIF($B$102:$K$103,B6)=1,HLOOKUP(B6,$B$102:$K$103,2,FALSE),HLOOKUP(B6,#REF!,2,FALSE)))","v":0},{"$f":"IF(COUNTIF($B$108:$K$109,B6)=1,HLOOKUP(B6,$B$108:$K$109,2,FALSE),IF(COUNTIF($B$110:$K$111,B6)=1,HLOOKUP(B6,$B$110:$K$111,2,FALSE),HLOOKUP(B6,#REF!,2,FALSE)))","v":0},{"$f":"IF(COUNTIF($B$116:$K$117,B6)=1,HLOOKUP(B6,$B$116:$K$117,2,FALSE),IF(COUNTIF($B$118:$K$119,B6)=1,HLOOKUP(B6,$B$118:$K$119,2,FALSE),HLOOKUP(B6,#REF!,2,FALSE)))","v":0},{"$f":"IF(COUNTIF($B$124:$K$125,B6)=1,HLOOKUP(B6,$B$124:$K$125,2,FALSE),IF(COUNTIF($B$126:$K$127,B6)=1,HLOOKUP(B6,$B$126:$K$127,2,FALSE),HLOOKUP(B6,#REF!,2,FALSE)))","v":0},{"$f":"IF(COUNTIF($B$132:$K$133,B6)=1,HLOOKUP(B6,$B$132:$K$133,2,FALSE),IF(COUNTIF($B$134:$K$135,B6)=1,HLOOKUP(B6,$B$134:$K$135,2,FALSE),HLOOKUP(B6,#REF!,2,FALSE)))","v":0},{"$f":"IF(COUNTIF($B$140:$K$141,B6)=1,HLOOKUP(B6,$B$140:$K$141,2,FALSE),IF(COUNTIF($B$142:$K$143,B6)=1,HLOOKUP(B6,$B$142:$K$143,2,FALSE),HLOOKUP(B6,#REF!,2,FALSE)))","v":0},{"$f":"IF(COUNTIF($B$148:$K$149,B6)=1,HLOOKUP(B6,$B$148:$K$149,2,FALSE),IF(COUNTIF($B$150:$K$151,B6)=1,HLOOKUP(B6,$B$150:$K$151,2,FALSE),HLOOKUP(B6,#REF!,2,FALSE)))","v":0},0,null,0,"1",0,0,0,0,0,0,0,"Boat 4"]
[5,"Equipage 5",{"$f":"IF(COUNTIF($B$36:$K$37,B7)=1,HLOOKUP(B7,$B$36:$K$37,2,FALSE),IF(COUNTIF($B$38:$K$39,B7)=1,HLOOKUP(B7,$B$38:$K$39,2,FALSE),HLOOKUP(B7,#REF!,2,FALSE)))","v":0},{"$f":"IF(COUNTIF($B$44:$K$45,B7)=1,HLOOKUP(B7,$B$44:$K$45,2,FALSE),IF(COUNTIF($B$46:$K$47,B7)=1,HLOOKUP(B7,$B$46:$K$47,2,FALSE),HLOOKUP(B7,#REF!,2,FALSE)))","v":0},{"$f":"IF(COUNTIF($B$52:$K$53,B7)=1,HLOOKUP(B7,$B$52:$K$53,2,FALSE),IF(COUNTIF($B$54:$K$55,B7)=1,HLOOKUP(B7,$B$54:$K$55,2,FALSE),HLOOKUP(B7,#REF!,2,FALSE)))","v":0},{"$f":"IF(COUNTIF($B$60:$K$61,B7)=1,HLOOKUP(B7,$B$60:$K$61,2,FALSE),IF(COUNTIF($B$62:$K$63,B7)=1,HLOOKUP(B7,$B$62:$K$63,2,FALSE),HLOOKUP(B7,#REF!,2,FALSE)))","v":0},{"$f":"IF(COUNTIF($B$68:$K$69,B7)=1,HLOOKUP(B7,$B$68:$K$69,2,FALSE),IF(COUNTIF($B$70:$K$71,B7)=1,HLOOKUP(B7,$B$70:$K$71,2,FALSE),HLOOKUP(B7,#REF!,2,FALSE)))","v":0},{"$f":"IF(COUNTIF($B$76:$K$77,B7)=1,HLOOKUP(B7,$B$76:$K$77,2,FALSE),IF(COUNTIF($B$78:$K$79,B7)=1,HLOOKUP(B7,$B$78:$K$79,2,FALSE),HLOOKUP(B7,#REF!,2,FALSE)))","v":0},{"$f":"IF(COUNTIF($B$84:$K$85,B7)=1,HLOOKUP(B7,$B$84:$K$85,2,FALSE),IF(COUNTIF($B$86:$K$87,B7)=1,HLOOKUP(B7,$B$86:$K$87,2,FALSE),HLOOKUP(B7,#REF!,2,FALSE)))","v":0},{"$f":"IF(COUNTIF($B$92:$K$93,B7)=1,HLOOKUP(B7,$B$92:$K$93,2,FALSE),IF(COUNTIF($B$94:$K$95,B7)=1,HLOOKUP(B7,$B$94:$K$95,2,FALSE),HLOOKUP(B7,#REF!,2,FALSE)))","v":0},{"$f":"IF(COUNTIF($B$100:$K$101,B7)=1,HLOOKUP(B7,$B$100:$K$101,2,FALSE),IF(COUNTIF($B$102:$K$103,B7)=1,HLOOKUP(B7,$B$102:$K$103,2,FALSE),HLOOKUP(B7,#REF!,2,FALSE)))","v":0},{"$f":"IF(COUNTIF($B$108:$K$109,B7)=1,HLOOKUP(B7,$B$108:$K$109,2,FALSE),IF(COUNTIF($B$110:$K$111,B7)=1,HLOOKUP(B7,$B$110:$K$111,2,FALSE),HLOOKUP(B7,#REF!,2,FALSE)))","v":0},{"$f":"IF(COUNTIF($B$116:$K$117,B7)=1,HLOOKUP(B7,$B$116:$K$117,2,FALSE),IF(COUNTIF($B$118:$K$119,B7)=1,HLOOKUP(B7,$B$118:$K$119,2,FALSE),HLOOKUP(B7,#REF!,2,FALSE)))","v":0},{"$f":"IF(COUNTIF($B$124:$K$125,B7)=1,HLOOKUP(B7,$B$124:$K$125,2,FALSE),IF(COUNTIF($B$126:$K$127,B7)=1,HLOOKUP(B7,$B$126:$K$127,2,FALSE),HLOOKUP(B7,#REF!,2,FALSE)))","v":0},{"$f":"IF(COUNTIF($B$132:$K$133,B7)=1,HLOOKUP(B7,$B$132:$K$133,2,FALSE),IF(COUNTIF($B$134:$K$135,B7)=1,HLOOKUP(B7,$B$134:$K$135,2,FALSE),HLOOKUP(B7,#REF!,2,FALSE)))","v":0},{"$f":"IF(COUNTIF($B$140:$K$141,B7)=1,HLOOKUP(B7,$B$140:$K$141,2,FALSE),IF(COUNTIF($B$142:$K$143,B7)=1,HLOOKUP(B7,$B$142:$K$143,2,FALSE),HLOOKUP(B7,#REF!,2,FALSE)))","v":0},{"$f":"IF(COUNTIF($B$148:$K$149,B7)=1,HLOOKUP(B7,$B$148:$K$149,2,FALSE),IF(COUNTIF($B$150:$K$151,B7)=1,HLOOKUP(B7,$B$150:$K$151,2,FALSE),HLOOKUP(B7,#REF!,2,FALSE)))","v":0},0,null,0,"1",0,0,0,0,0,0,0,"Boat 5"]
[6,"Equipage 6",{"$f":"IF(COUNTIF($B$36:$K$37,B8)=1,HLOOKUP(B8,$B$36:$K$37,2,FALSE),IF(COUNTIF($B$38:$K$39,B8)=1,HLOOKUP(B8,$B$38:$K$39,2,FALSE),HLOOKUP(B8,#REF!,2,FALSE)))","v":0},{"$f":"IF(COUNTIF($B$44:$K$45,B8)=1,HLOOKUP(B8,$B$44:$K$45,2,FALSE),IF(COUNTIF($B$46:$K$47,B8)=1,HLOOKUP(B8,$B$46:$K$47,2,FALSE),HLOOKUP(B8,#REF!,2,FALSE)))","v":0},{"$f":"IF(COUNTIF($B$52:$K$53,B8)=1,HLOOKUP(B8,$B$52:$K$53,2,FALSE),IF(COUNTIF($B$54:$K$55,B8)=1,HLOOKUP(B8,$B$54:$K$55,2,FALSE),HLOOKUP(B8,#REF!,2,FALSE)))","v":0},{"$f":"IF(COUNTIF($B$60:$K$61,B8)=1,HLOOKUP(B8,$B$60:$K$61,2,FALSE),IF(COUNTIF($B$62:$K$63,B8)=1,HLOOKUP(B8,$B$62:$K$63,2,FALSE),HLOOKUP(B8,#REF!,2,FALSE)))","v":0},{"$f":"IF(COUNTIF($B$68:$K$69,B8)=1,HLOOKUP(B8,$B$68:$K$69,2,FALSE),IF(COUNTIF($B$70:$K$71,B8)=1,HLOOKUP(B8,$B$70:$K$71,2,FALSE),HLOOKUP(B8,#REF!,2,FALSE)))","v":0},{"$f":"IF(COUNTIF($B$76:$K$77,B8)=1,HLOOKUP(B8,$B$76:$K$77,2,FALSE),IF(COUNTIF($B$78:$K$79,B8)=1,HLOOKUP(B8,$B$78:$K$79,2,FALSE),HLOOKUP(B8,#REF!,2,FALSE)))","v":0},{"$f":"IF(COUNTIF($B$84:$K$85,B8)=1,HLOOKUP(B8,$B$84:$K$85,2,FALSE),IF(COUNTIF($B$86:$K$87,B8)=1,HLOOKUP(B8,$B$86:$K$87,2,FALSE),HLOOKUP(B8,#REF!,2,FALSE)))","v":0},{"$f":"IF(COUNTIF($B$92:$K$93,B8)=1,HLOOKUP(B8,$B$92:$K$93,2,FALSE),IF(COUNTIF($B$94:$K$95,B8)=1,HLOOKUP(B8,$B$94:$K$95,2,FALSE),HLOOKUP(B8,#REF!,2,FALSE)))","v":0},{"$f":"IF(COUNTIF($B$100:$K$101,B8)=1,HLOOKUP(B8,$B$100:$K$101,2,FALSE),IF(COUNTIF($B$102:$K$103,B8)=1,HLOOKUP(B8,$B$102:$K$103,2,FALSE),HLOOKUP(B8,#REF!,2,FALSE)))","v":0},{"$f":"IF(COUNTIF($B$108:$K$109,B8)=1,HLOOKUP(B8,$B$108:$K$109,2,FALSE),IF(COUNTIF($B$110:$K$111,B8)=1,HLOOKUP(B8,$B$110:$K$111,2,FALSE),HLOOKUP(B8,#REF!,2,FALSE)))","v":0},{"$f":"IF(COUNTIF($B$116:$K$117,B8)=1,HLOOKUP(B8,$B$116:$K$117,2,FALSE),IF(COUNTIF($B$118:$K$119,B8)=1,HLOOKUP(B8,$B$118:$K$119,2,FALSE),HLOOKUP(B8,#REF!,2,FALSE)))","v":0},{"$f":"IF(COUNTIF($B$124:$K$125,B8)=1,HLOOKUP(B8,$B$124:$K$125,2,FALSE),IF(COUNTIF($B$126:$K$127,B8)=1,HLOOKUP(B8,$B$126:$K$127,2,FALSE),HLOOKUP(B8,#REF!,2,FALSE)))","v":0},{"$f":"IF(COUNTIF($B$132:$K$133,B8)=1,HLOOKUP(B8,$B$132:$K$133,2,FALSE),IF(COUNTIF($B$134:$K$135,B8)=1,HLOOKUP(B8,$B$134:$K$135,2,FALSE),HLOOKUP(B8,#REF!,2,FALSE)))","v":0},{"$f":"IF(COUNTIF($B$140:$K$141,B8)=1,HLOOKUP(B8,$B$140:$K$141,2,FALSE),IF(COUNTIF($B$142:$K$143,B8)=1,HLOOKUP(B8,$B$142:$K$143,2,FALSE),HLOOKUP(B8,#REF!,2,FALSE)))","v":0},{"$f":"IF(COUNTIF($B$148:$K$149,B8)=1,HLOOKUP(B8,$B$148:$K$149,2,FALSE),IF(COUNTIF($B$150:$K$151,B8)=1,HLOOKUP(B8,$B$150:$K$151,2,FALSE),HLOOKUP(B8,#REF!,2,FALSE)))","v":0},0,null,0,"1",0,0,0,0,0,0,0,"Boat 6"]
[7,"Equipage 7",{"$f":"IF(COUNTIF($B$36:$K$37,B9)=1,HLOOKUP(B9,$B$36:$K$37,2,FALSE),IF(COUNTIF($B$38:$K$39,B9)=1,HLOOKUP(B9,$B$38:$K$39,2,FALSE),HLOOKUP(B9,#REF!,2,FALSE)))","v":0},{"$f":"IF(COUNTIF($B$44:$K$45,B9)=1,HLOOKUP(B9,$B$44:$K$45,2,FALSE),IF(COUNTIF($B$46:$K$47,B9)=1,HLOOKUP(B9,$B$46:$K$47,2,FALSE),HLOOKUP(B9,#REF!,2,FALSE)))","v":0},{"$f":"IF(COUNTIF($B$52:$K$53,B9)=1,HLOOKUP(B9,$B$52:$K$53,2,FALSE),IF(COUNTIF($B$54:$K$55,B9)=1,HLOOKUP(B9,$B$54:$K$55,2,FALSE),HLOOKUP(B9,#REF!,2,FALSE)))","v":0},{"$f":"IF(COUNTIF($B$60:$K$61,B9)=1,HLOOKUP(B9,$B$60:$K$61,2,FALSE),IF(COUNTIF($B$62:$K$63,B9)=1,HLOOKUP(B9,$B$62:$K$63,2,FALSE),HLOOKUP(B9,#REF!,2,FALSE)))","v":0},{"$f":"IF(COUNTIF($B$68:$K$69,B9)=1,HLOOKUP(B9,$B$68:$K$69,2,FALSE),IF(COUNTIF($B$70:$K$71,B9)=1,HLOOKUP(B9,$B$70:$K$71,2,FALSE),HLOOKUP(B9,#REF!,2,FALSE)))","v":0},{"$f":"IF(COUNTIF($B$76:$K$77,B9)=1,HLOOKUP(B9,$B$76:$K$77,2,FALSE),IF(COUNTIF($B$78:$K$79,B9)=1,HLOOKUP(B9,$B$78:$K$79,2,FALSE),HLOOKUP(B9,#REF!,2,FALSE)))","v":0},{"$f":"IF(COUNTIF($B$84:$K$85,B9)=1,HLOOKUP(B9,$B$84:$K$85,2,FALSE),IF(COUNTIF($B$86:$K$87,B9)=1,HLOOKUP(B9,$B$86:$K$87,2,FALSE),HLOOKUP(B9,#REF!,2,FALSE)))","v":0},{"$f":"IF(COUNTIF($B$92:$K$93,B9)=1,HLOOKUP(B9,$B$92:$K$93,2,FALSE),IF(COUNTIF($B$94:$K$95,B9)=1,HLOOKUP(B9,$B$94:$K$95,2,FALSE),HLOOKUP(B9,#REF!,2,FALSE)))","v":0},{"$f":"IF(COUNTIF($B$100:$K$101,B9)=1,HLOOKUP(B9,$B$100:$K$101,2,FALSE),IF(COUNTIF($B$102:$K$103,B9)=1,HLOOKUP(B9,$B$102:$K$103,2,FALSE),HLOOKUP(B9,#REF!,2,FALSE)))","v":0},{"$f":"IF(COUNTIF($B$108:$K$109,B9)=1,HLOOKUP(B9,$B$108:$K$109,2,FALSE),IF(COUNTIF($B$110:$K$111,B9)=1,HLOOKUP(B9,$B$110:$K$111,2,FALSE),HLOOKUP(B9,#REF!,2,FALSE)))","v":0},{"$f":"IF(COUNTIF($B$116:$K$117,B9)=1,HLOOKUP(B9,$B$116:$K$117,2,FALSE),IF(COUNTIF($B$118:$K$119,B9)=1,HLOOKUP(B9,$B$118:$K$119,2,FALSE),HLOOKUP(B9,#REF!,2,FALSE)))","v":0},{"$f":"IF(COUNTIF($B$124:$K$125,B9)=1,HLOOKUP(B9,$B$124:$K$125,2,FALSE),IF(COUNTIF($B$126:$K$127,B9)=1,HLOOKUP(B9,$B$126:$K$127,2,FALSE),HLOOKUP(B9,#REF!,2,FALSE)))","v":0},{"$f":"IF(COUNTIF($B$132:$K$133,B9)=1,HLOOKUP(B9,$B$132:$K$133,2,FALSE),IF(COUNTIF($B$134:$K$135,B9)=1,HLOOKUP(B9,$B$134:$K$135,2,FALSE),HLOOKUP(B9,#REF!,2,FALSE)))","v":0},{"$f":"IF(COUNTIF($B$140:$K$141,B9)=1,HLOOKUP(B9,$B$140:$K$141,2,FALSE),IF(COUNTIF($B$142:$K$143,B9)=1,HLOOKUP(B9,$B$142:$K$143,2,FALSE),HLOOKUP(B9,#REF!,2,FALSE)))","v":0},{"$f":"IF(COUNTIF($B$148:$K$149,B9)=1,HLOOKUP(B9,$B$148:$K$149,2,FALSE),IF(COUNTIF($B$150:$K$151,B9)=1,HLOOKUP(B9,$B$150:$K$151,2,FALSE),HLOOKUP(B9,#REF!,2,FALSE)))","v":0},0,null,0,"1",0,0,0,0,0,0,0,"Boat 8"]
[8,"Equipage 8",{"$f":"IF(COUNTIF($B$36:$K$37,B10)=1,HLOOKUP(B10,$B$36:$K$37,2,FALSE),IF(COUNTIF($B$38:$K$39,B10)=1,HLOOKUP(B10,$B$38:$K$39,2,FALSE),HLOOKUP(B10,#REF!,2,FALSE)))","v":0},{"$f":"IF(COUNTIF($B$44:$K$45,B10)=1,HLOOKUP(B10,$B$44:$K$45,2,FALSE),IF(COUNTIF($B$46:$K$47,B10)=1,HLOOKUP(B10,$B$46:$K$47,2,FALSE),HLOOKUP(B10,#REF!,2,FALSE)))","v":0},{"$f":"IF(COUNTIF($B$52:$K$53,B10)=1,HLOOKUP(B10,$B$52:$K$53,2,FALSE),IF(COUNTIF($B$54:$K$55,B10)=1,HLOOKUP(B10,$B$54:$K$55,2,FALSE),HLOOKUP(B10,#REF!,2,FALSE)))","v":0},{"$f":"IF(COUNTIF($B$60:$K$61,B10)=1,HLOOKUP(B10,$B$60:$K$61,2,FALSE),IF(COUNTIF($B$62:$K$63,B10)=1,HLOOKUP(B10,$B$62:$K$63,2,FALSE),HLOOKUP(B10,#REF!,2,FALSE)))","v":0},{"$f":"IF(COUNTIF($B$68:$K$69,B10)=1,HLOOKUP(B10,$B$68:$K$69,2,FALSE),IF(COUNTIF($B$70:$K$71,B10)=1,HLOOKUP(B10,$B$70:$K$71,2,FALSE),HLOOKUP(B10,#REF!,2,FALSE)))","v":0},{"$f":"IF(COUNTIF($B$76:$K$77,B10)=1,HLOOKUP(B10,$B$76:$K$77,2,FALSE),IF(COUNTIF($B$78:$K$79,B10)=1,HLOOKUP(B10,$B$78:$K$79,2,FALSE),HLOOKUP(B10,#REF!,2,FALSE)))","v":0},{"$f":"IF(COUNTIF($B$84:$K$85,B10)=1,HLOOKUP(B10,$B$84:$K$85,2,FALSE),IF(COUNTIF($B$86:$K$87,B10)=1,HLOOKUP(B10,$B$86:$K$87,2,FALSE),HLOOKUP(B10,#REF!,2,FALSE)))","v":0},{"$f":"IF(COUNTIF($B$92:$K$93,B10)=1,HLOOKUP(B10,$B$92:$K$93,2,FALSE),IF(COUNTIF($B$94:$K$95,B10)=1,HLOOKUP(B10,$B$94:$K$95,2,FALSE),HLOOKUP(B10,#REF!,2,FALSE)))","v":0},{"$f":"IF(COUNTIF($B$100:$K$101,B10)=1,HLOOKUP(B10,$B$100:$K$101,2,FALSE),IF(COUNTIF($B$102:$K$103,B10)=1,HLOOKUP(B10,$B$102:$K$103,2,FALSE),HLOOKUP(B10,#REF!,2,FALSE)))","v":0},{"$f":"IF(COUNTIF($B$108:$K$109,B10)=1,HLOOKUP(B10,$B$108:$K$109,2,FALSE),IF(COUNTIF($B$110:$K$111,B10)=1,HLOOKUP(B10,$B$110:$K$111,2,FALSE),HLOOKUP(B10,#REF!,2,FALSE)))","v":0},{"$f":"IF(COUNTIF($B$116:$K$117,B10)=1,HLOOKUP(B10,$B$116:$K$117,2,FALSE),IF(COUNTIF($B$118:$K$119,B10)=1,HLOOKUP(B10,$B$118:$K$119,2,FALSE),HLOOKUP(B10,#REF!,2,FALSE)))","v":0},{"$f":"IF(COUNTIF($B$124:$K$125,B10)=1,HLOOKUP(B10,$B$124:$K$125,2,FALSE),IF(COUNTIF($B$126:$K$127,B10)=1,HLOOKUP(B10,$B$126:$K$127,2,FALSE),HLOOKUP(B10,#REF!,2,FALSE)))","v":0},{"$f":"IF(COUNTIF($B$132:$K$133,B10)=1,HLOOKUP(B10,$B$132:$K$133,2,FALSE),IF(COUNTIF($B$134:$K$135,B10)=1,HLOOKUP(B10,$B$134:$K$135,2,FALSE),HLOOKUP(B10,#REF!,2,FALSE)))","v":0},{"$f":"IF(COUNTIF($B$140:$K$141,B10)=1,HLOOKUP(B10,$B$140:$K$141,2,FALSE),IF(COUNTIF($B$142:$K$143,B10)=1,HLOOKUP(B10,$B$142:$K$143,2,FALSE),HLOOKUP(B10,#REF!,2,FALSE)))","v":0},{"$f":"IF(COUNTIF($B$148:$K$149,B10)=1,HLOOKUP(B10,$B$148:$K$149,2,FALSE),IF(COUNTIF($B$150:$K$151,B10)=1,HLOOKUP(B10,$B$150:$K$151,2,FALSE),HLOOKUP(B10,#REF!,2,FALSE)))","v":0},0,null,0,"1",0,0,0,0,0,0,0,"Boat 9"]
[9,"Equipage 9",{"$f":"IF(COUNTIF($B$36:$K$37,B11)=1,HLOOKUP(B11,$B$36:$K$37,2,FALSE),IF(COUNTIF($B$38:$K$39,B11)=1,HLOOKUP(B11,$B$38:$K$39,2,FALSE),HLOOKUP(B11,#REF!,2,FALSE)))","v":0},{"$f":"IF(COUNTIF($B$44:$K$45,B11)=1,HLOOKUP(B11,$B$44:$K$45,2,FALSE),IF(COUNTIF($B$46:$K$47,B11)=1,HLOOKUP(B11,$B$46:$K$47,2,FALSE),HLOOKUP(B11,#REF!,2,FALSE)))","v":0},{"$f":"IF(COUNTIF($B$52:$K$53,B11)=1,HLOOKUP(B11,$B$52:$K$53,2,FALSE),IF(COUNTIF($B$54:$K$55,B11)=1,HLOOKUP(B11,$B$54:$K$55,2,FALSE),HLOOKUP(B11,#REF!,2,FALSE)))","v":0},{"$f":"IF(COUNTIF($B$60:$K$61,B11)=1,HLOOKUP(B11,$B$60:$K$61,2,FALSE),IF(COUNTIF($B$62:$K$63,B11)=1,HLOOKUP(B11,$B$62:$K$63,2,FALSE),HLOOKUP(B11,#REF!,2,FALSE)))","v":0},{"$f":"IF(COUNTIF($B$68:$K$69,B11)=1,HLOOKUP(B11,$B$68:$K$69,2,FALSE),IF(COUNTIF($B$70:$K$71,B11)=1,HLOOKUP(B11,$B$70:$K$71,2,FALSE),HLOOKUP(B11,#REF!,2,FALSE)))","v":0},{"$f":"IF(COUNTIF($B$76:$K$77,B11)=1,HLOOKUP(B11,$B$76:$K$77,2,FALSE),IF(COUNTIF($B$78:$K$79,B11)=1,HLOOKUP(B11,$B$78:$K$79,2,FALSE),HLOOKUP(B11,#REF!,2,FALSE)))","v":0},{"$f":"IF(COUNTIF($B$84:$K$85,B11)=1,HLOOKUP(B11,$B$84:$K$85,2,FALSE),IF(COUNTIF($B$86:$K$87,B11)=1,HLOOKUP(B11,$B$86:$K$87,2,FALSE),HLOOKUP(B11,#REF!,2,FALSE)))","v":0},{"$f":"IF(COUNTIF($B$92:$K$93,B11)=1,HLOOKUP(B11,$B$92:$K$93,2,FALSE),IF(COUNTIF($B$94:$K$95,B11)=1,HLOOKUP(B11,$B$94:$K$95,2,FALSE),HLOOKUP(B11,#REF!,2,FALSE)))","v":0},{"$f":"IF(COUNTIF($B$100:$K$101,B11)=1,HLOOKUP(B11,$B$100:$K$101,2,FALSE),IF(COUNTIF($B$102:$K$103,B11)=1,HLOOKUP(B11,$B$102:$K$103,2,FALSE),HLOOKUP(B11,#REF!,2,FALSE)))","v":0},{"$f":"IF(COUNTIF($B$108:$K$109,B11)=1,HLOOKUP(B11,$B$108:$K$109,2,FALSE),IF(COUNTIF($B$110:$K$111,B11)=1,HLOOKUP(B11,$B$110:$K$111,2,FALSE),HLOOKUP(B11,#REF!,2,FALSE)))","v":0},{"$f":"IF(COUNTIF($B$116:$K$117,B11)=1,HLOOKUP(B11,$B$116:$K$117,2,FALSE),IF(COUNTIF($B$118:$K$119,B11)=1,HLOOKUP(B11,$B$118:$K$119,2,FALSE),HLOOKUP(B11,#REF!,2,FALSE)))","v":0},{"$f":"IF(COUNTIF($B$124:$K$125,B11)=1,HLOOKUP(B11,$B$124:$K$125,2,FALSE),IF(COUNTIF($B$126:$K$127,B11)=1,HLOOKUP(B11,$B$126:$K$127,2,FALSE),HLOOKUP(B11,#REF!,2,FALSE)))","v":0},{"$f":"IF(COUNTIF($B$132:$K$133,B11)=1,HLOOKUP(B11,$B$132:$K$133,2,FALSE),IF(COUNTIF($B$134:$K$135,B11)=1,HLOOKUP(B11,$B$134:$K$135,2,FALSE),HLOOKUP(B11,#REF!,2,FALSE)))","v":0},{"$f":"IF(COUNTIF($B$140:$K$141,B11)=1,HLOOKUP(B11,$B$140:$K$141,2,FALSE),IF(COUNTIF($B$142:$K$143,B11)=1,HLOOKUP(B11,$B$142:$K$143,2,FALSE),HLOOKUP(B11,#REF!,2,FALSE)))","v":0},{"$f":"IF(COUNTIF($B$148:$K$149,B11)=1,HLOOKUP(B11,$B$148:$K$149,2,FALSE),IF(COUNTIF($B$150:$K$151,B11)=1,HLOOKUP(B11,$B$150:$K$151,2,FALSE),HLOOKUP(B11,#REF!,2,FALSE)))","v":0},0,null,0,"1",0,0,0,0,0,0,0,"Boat 10"]
[10,"Equipage 10",{"$f":"IF(COUNTIF($B$36:$K$37,B12)=1,HLOOKUP(B12,$B$36:$K$37,2,FALSE),IF(COUNTIF($B$38:$K$39,B12)=1,HLOOKUP(B12,$B$38:$K$39,2,FALSE),HLOOKUP(B12,#REF!,2,FALSE)))","v":0},{"$f":"IF(COUNTIF($B$44:$K$45,B12)=1,HLOOKUP(B12,$B$44:$K$45,2,FALSE),IF(COUNTIF($B$46:$K$47,B12)=1,HLOOKUP(B12,$B$46:$K$47,2,FALSE),HLOOKUP(B12,#REF!,2,FALSE)))","v":0},{"$f":"IF(COUNTIF($B$52:$K$53,B12)=1,HLOOKUP(B12,$B$52:$K$53,2,FALSE),IF(COUNTIF($B$54:$K$55,B12)=1,HLOOKUP(B12,$B$54:$K$55,2,FALSE),HLOOKUP(B12,#REF!,2,FALSE)))","v":0},{"$f":"IF(COUNTIF($B$60:$K$61,B12)=1,HLOOKUP(B12,$B$60:$K$61,2,FALSE),IF(COUNTIF($B$62:$K$63,B12)=1,HLOOKUP(B12,$B$62:$K$63,2,FALSE),HLOOKUP(B12,#REF!,2,FALSE)))","v":0},{"$f":"IF(COUNTIF($B$68:$K$69,B12)=1,HLOOKUP(B12,$B$68:$K$69,2,FALSE),IF(COUNTIF($B$70:$K$71,B12)=1,HLOOKUP(B12,$B$70:$K$71,2,FALSE),HLOOKUP(B12,#REF!,2,FALSE)))","v":0},{"$f":"IF(COUNTIF($B$76:$K$77,B12)=1,HLOOKUP(B12,$B$76:$K$77,2,FALSE),IF(COUNTIF($B$78:$K$79,B12)=1,HLOOKUP(B12,$B$78:$K$79,2,FALSE),HLOOKUP(B12,#REF!,2,FALSE)))","v":0},{"$f":"IF(COUNTIF($B$84:$K$85,B12)=1,HLOOKUP(B12,$B$84:$K$85,2,FALSE),IF(COUNTIF($B$86:$K$87,B12)=1,HLOOKUP(B12,$B$86:$K$87,2,FALSE),HLOOKUP(B12,#REF!,2,FALSE)))","v":0},{"$f":"IF(COUNTIF($B$92:$K$93,B12)=1,HLOOKUP(B12,$B$92:$K$93,2,FALSE),IF(COUNTIF($B$94:$K$95,B12)=1,HLOOKUP(B12,$B$94:$K$95,2,FALSE),HLOOKUP(B12,#REF!,2,FALSE)))","v":0},{"$f":"IF(COUNTIF($B$100:$K$101,B12)=1,HLOOKUP(B12,$B$100:$K$101,2,FALSE),IF(COUNTIF($B$102:$K$103,B12)=1,HLOOKUP(B12,$B$102:$K$103,2,FALSE),HLOOKUP(B12,#REF!,2,FALSE)))","v":0},{"$f":"IF(COUNTIF($B$108:$K$109,B12)=1,HLOOKUP(B12,$B$108:$K$109,2,FALSE),IF(COUNTIF($B$110:$K$111,B12)=1,HLOOKUP(B12,$B$110:$K$111,2,FALSE),HLOOKUP(B12,#REF!,2,FALSE)))","v":0},{"$f":"IF(COUNTIF($B$116:$K$117,B12)=1,HLOOKUP(B12,$B$116:$K$117,2,FALSE),IF(COUNTIF($B$118:$K$119,B12)=1,HLOOKUP(B12,$B$118:$K$119,2,FALSE),HLOOKUP(B12,#REF!,2,FALSE)))","v":0},{"$f":"IF(COUNTIF($B$124:$K$125,B12)=1,HLOOKUP(B12,$B$124:$K$125,2,FALSE),IF(COUNTIF($B$126:$K$127,B12)=1,HLOOKUP(B12,$B$126:$K$127,2,FALSE),HLOOKUP(B12,#REF!,2,FALSE)))","v":0},{"$f":"IF(COUNTIF($B$132:$K$133,B12)=1,HLOOKUP(B12,$B$132:$K$133,2,FALSE),IF(COUNTIF($B$134:$K$135,B12)=1,HLOOKUP(B12,$B$134:$K$135,2,FALSE),HLOOKUP(B12,#REF!,2,FALSE)))","v":0},{"$f":"IF(COUNTIF($B$140:$K$141,B12)=1,HLOOKUP(B12,$B$140:$K$141,2,FALSE),IF(COUNTIF($B$142:$K$143,B12)=1,HLOOKUP(B12,$B$142:$K$143,2,FALSE),HLOOKUP(B12,#REF!,2,FALSE)))","v":0},{"$f":"IF(COUNTIF($B$148:$K$149,B12)=1,HLOOKUP(B12,$B$148:$K$149,2,FALSE),IF(COUNTIF($B$150:$K$151,B12)=1,HLOOKUP(B12,$B$150:$K$151,2,FALSE),HLOOKUP(B12,#REF!,2,FALSE)))","v":0},0,null,0,"1",0,0,0,0,0,0,0,"Boat 11"]
[11,"Equipage 11",{"$f":"IF(COUNTIF($B$36:$K$37,B13)=1,HLOOKUP(B13,$B$36:$K$37,2,FALSE),IF(COUNTIF($B$38:$K$39,B13)=1,HLOOKUP(B13,$B$38:$K$39,2,FALSE),HLOOKUP(B13,#REF!,2,FALSE)))","v":0},{"$f":"IF(COUNTIF($B$44:$K$45,B13)=1,HLOOKUP(B13,$B$44:$K$45,2,FALSE),IF(COUNTIF($B$46:$K$47,B13)=1,HLOOKUP(B13,$B$46:$K$47,2,FALSE),HLOOKUP(B13,#REF!,2,FALSE)))","v":0},{"$f":"IF(COUNTIF($B$52:$K$53,B13)=1,HLOOKUP(B13,$B$52:$K$53,2,FALSE),IF(COUNTIF($B$54:$K$55,B13)=1,HLOOKUP(B13,$B$54:$K$55,2,FALSE),HLOOKUP(B13,#REF!,2,FALSE)))","v":0},{"$f":"IF(COUNTIF($B$60:$K$61,B13)=1,HLOOKUP(B13,$B$60:$K$61,2,FALSE),IF(COUNTIF($B$62:$K$63,B13)=1,HLOOKUP(B13,$B$62:$K$63,2,FALSE),HLOOKUP(B13,#REF!,2,FALSE)))","v":0},{"$f":"IF(COUNTIF($B$68:$K$69,B13)=1,HLOOKUP(B13,$B$68:$K$69,2,FALSE),IF(COUNTIF($B$70:$K$71,B13)=1,HLOOKUP(B13,$B$70:$K$71,2,FALSE),HLOOKUP(B13,#REF!,2,FALSE)))","v":0},{"$f":"IF(COUNTIF($B$76:$K$77,B13)=1,HLOOKUP(B13,$B$76:$K$77,2,FALSE),IF(COUNTIF($B$78:$K$79,B13)=1,HLOOKUP(B13,$B$78:$K$79,2,FALSE),HLOOKUP(B13,#REF!,2,FALSE)))","v":0},{"$f":"IF(COUNTIF($B$84:$K$85,B13)=1,HLOOKUP(B13,$B$84:$K$85,2,FALSE),IF(COUNTIF($B$86:$K$87,B13)=1,HLOOKUP(B13,$B$86:$K$87,2,FALSE),HLOOKUP(B13,#REF!,2,FALSE)))","v":0},{"$f":"IF(COUNTIF($B$92:$K$93,B13)=1,HLOOKUP(B13,$B$92:$K$93,2,FALSE),IF(COUNTIF($B$94:$K$95,B13)=1,HLOOKUP(B13,$B$94:$K$95,2,FALSE),HLOOKUP(B13,#REF!,2,FALSE)))","v":0},{"$f":"IF(COUNTIF($B$100:$K$101,B13)=1,HLOOKUP(B13,$B$100:$K$101,2,FALSE),IF(COUNTIF($B$102:$K$103,B13)=1,HLOOKUP(B13,$B$102:$K$103,2,FALSE),HLOOKUP(B13,#REF!,2,FALSE)))","v":0},{"$f":"IF(COUNTIF($B$108:$K$109,B13)=1,HLOOKUP(B13,$B$108:$K$109,2,FALSE),IF(COUNTIF($B$110:$K$111,B13)=1,HLOOKUP(B13,$B$110:$K$111,2,FALSE),HLOOKUP(B13,#REF!,2,FALSE)))","v":0},{"$f":"IF(COUNTIF($B$116:$K$117,B13)=1,HLOOKUP(B13,$B$116:$K$117,2,FALSE),IF(COUNTIF($B$118:$K$119,B13)=1,HLOOKUP(B13,$B$118:$K$119,2,FALSE),HLOOKUP(B13,#REF!,2,FALSE)))","v":0},{"$f":"IF(COUNTIF($B$124:$K$125,B13)=1,HLOOKUP(B13,$B$124:$K$125,2,FALSE),IF(COUNTIF($B$126:$K$127,B13)=1,HLOOKUP(B13,$B$126:$K$127,2,FALSE),HLOOKUP(B13,#REF!,2,FALSE)))","v":0},{"$f":"IF(COUNTIF($B$132:$K$133,B13)=1,HLOOKUP(B13,$B$132:$K$133,2,FALSE),IF(COUNTIF($B$134:$K$135,B13)=1,HLOOKUP(B13,$B$134:$K$135,2,FALSE),HLOOKUP(B13,#REF!,2,FALSE)))","v":0},{"$f":"IF(COUNTIF($B$140:$K$141,B13)=1,HLOOKUP(B13,$B$140:$K$141,2,FALSE),IF(COUNTIF($B$142:$K$143,B13)=1,HLOOKUP(B13,$B$142:$K$143,2,FALSE),HLOOKUP(B13,#REF!,2,FALSE)))","v":0},{"$f":"IF(COUNTIF($B$148:$K$149,B13)=1,HLOOKUP(B13,$B$148:$K$149,2,FALSE),IF(COUNTIF($B$150:$K$151,B13)=1,HLOOKUP(B13,$B$150:$K$151,2,FALSE),HLOOKUP(B13,#REF!,2,FALSE)))","v":0},0,null,0,"1",0,0,0,0,0,0,0]
[12,"Equipage 12",{"$f":"IF(COUNTIF($B$36:$K$37,B14)=1,HLOOKUP(B14,$B$36:$K$37,2,FALSE),IF(COUNTIF($B$38:$K$39,B14)=1,HLOOKUP(B14,$B$38:$K$39,2,FALSE),HLOOKUP(B14,#REF!,2,FALSE)))","v":0},{"$f":"IF(COUNTIF($B$44:$K$45,B14)=1,HLOOKUP(B14,$B$44:$K$45,2,FALSE),IF(COUNTIF($B$46:$K$47,B14)=1,HLOOKUP(B14,$B$46:$K$47,2,FALSE),HLOOKUP(B14,#REF!,2,FALSE)))","v":0},{"$f":"IF(COUNTIF($B$52:$K$53,B14)=1,HLOOKUP(B14,$B$52:$K$53,2,FALSE),IF(COUNTIF($B$54:$K$55,B14)=1,HLOOKUP(B14,$B$54:$K$55,2,FALSE),HLOOKUP(B14,#REF!,2,FALSE)))","v":0},{"$f":"IF(COUNTIF($B$60:$K$61,B14)=1,HLOOKUP(B14,$B$60:$K$61,2,FALSE),IF(COUNTIF($B$62:$K$63,B14)=1,HLOOKUP(B14,$B$62:$K$63,2,FALSE),HLOOKUP(B14,#REF!,2,FALSE)))","v":0},{"$f":"IF(COUNTIF($B$68:$K$69,B14)=1,HLOOKUP(B14,$B$68:$K$69,2,FALSE),IF(COUNTIF($B$70:$K$71,B14)=1,HLOOKUP(B14,$B$70:$K$71,2,FALSE),HLOOKUP(B14,#REF!,2,FALSE)))","v":0},{"$f":"IF(COUNTIF($B$76:$K$77,B14)=1,HLOOKUP(B14,$B$76:$K$77,2,FALSE),IF(COUNTIF($B$78:$K$79,B14)=1,HLOOKUP(B14,$B$78:$K$79,2,FALSE),HLOOKUP(B14,#REF!,2,FALSE)))","v":0},{"$f":"IF(COUNTIF($B$84:$K$85,B14)=1,HLOOKUP(B14,$B$84:$K$85,2,FALSE),IF(COUNTIF($B$86:$K$87,B14)=1,HLOOKUP(B14,$B$86:$K$87,2,FALSE),HLOOKUP(B14,#REF!,2,FALSE)))","v":0},{"$f":"IF(COUNTIF($B$92:$K$93,B14)=1,HLOOKUP(B14,$B$92:$K$93,2,FALSE),IF(COUNTIF($B$94:$K$95,B14)=1,HLOOKUP(B14,$B$94:$K$95,2,FALSE),HLOOKUP(B14,#REF!,2,FALSE)))","v":0},{"$f":"IF(COUNTIF($B$100:$K$101,B14)=1,HLOOKUP(B14,$B$100:$K$101,2,FALSE),IF(COUNTIF($B$102:$K$103,B14)=1,HLOOKUP(B14,$B$102:$K$103,2,FALSE),HLOOKUP(B14,#REF!,2,FALSE)))","v":0},{"$f":"IF(COUNTIF($B$108:$K$109,B14)=1,HLOOKUP(B14,$B$108:$K$109,2,FALSE),IF(COUNTIF($B$110:$K$111,B14)=1,HLOOKUP(B14,$B$110:$K$111,2,FALSE),HLOOKUP(B14,#REF!,2,FALSE)))","v":0},{"$f":"IF(COUNTIF($B$116:$K$117,B14)=1,HLOOKUP(B14,$B$116:$K$117,2,FALSE),IF(COUNTIF($B$118:$K$119,B14)=1,HLOOKUP(B14,$B$118:$K$119,2,FALSE),HLOOKUP(B14,#REF!,2,FALSE)))","v":0},{"$f":"IF(COUNTIF($B$124:$K$125,B14)=1,HLOOKUP(B14,$B$124:$K$125,2,FALSE),IF(COUNTIF($B$126:$K$127,B14)=1,HLOOKUP(B14,$B$126:$K$127,2,FALSE),HLOOKUP(B14,#REF!,2,FALSE)))","v":0},{"$f":"IF(COUNTIF($B$132:$K$133,B14)=1,HLOOKUP(B14,$B$132:$K$133,2,FALSE),IF(COUNTIF($B$134:$K$135,B14)=1,HLOOKUP(B14,$B$134:$K$135,2,FALSE),HLOOKUP(B14,#REF!,2,FALSE)))","v":0},{"$f":"IF(COUNTIF($B$140:$K$141,B14)=1,HLOOKUP(B14,$B$140:$K$141,2,FALSE),IF(COUNTIF($B$142:$K$143,B14)=1,HLOOKUP(B14,$B$142:$K$143,2,FALSE),HLOOKUP(B14,#REF!,2,FALSE)))","v":0},{"$f":"IF(COUNTIF($B$148:$K$149,B14)=1,HLOOKUP(B14,$B$148:$K$149,2,FALSE),IF(COUNTIF($B$150:$K$151,B14)=1,HLOOKUP(B14,$B$150:$K$151,2,FALSE),HLOOKUP(B14,#REF!,2,FALSE)))","v":0},0,null,0,"1",0,0,0,0,0,0,0]
[13,"Equipage 13",{"$f":"IF(COUNTIF($B$36:$K$37,B15)=1,HLOOKUP(B15,$B$36:$K$37,2,FALSE),IF(COUNTIF($B$38:$K$39,B15)=1,HLOOKUP(B15,$B$38:$K$39,2,FALSE),HLOOKUP(B15,#REF!,2,FALSE)))","v":{"$error":"#REF!"}},{"$f":"IF(COUNTIF($B$44:$K$45,B15)=1,HLOOKUP(B15,$B$44:$K$45,2,FALSE),IF(COUNTIF($B$46:$K$47,B15)=1,HLOOKUP(B15,$B$46:$K$47,2,FALSE),HLOOKUP(B15,#REF!,2,FALSE)))","v":{"$error":"#REF!"}},{"$f":"IF(COUNTIF($B$52:$K$53,B15)=1,HLOOKUP(B15,$B$52:$K$53,2,FALSE),IF(COUNTIF($B$54:$K$55,B15)=1,HLOOKUP(B15,$B$54:$K$55,2,FALSE),HLOOKUP(B15,#REF!,2,FALSE)))","v":{"$error":"#REF!"}},{"$f":"IF(COUNTIF($B$60:$K$61,B15)=1,HLOOKUP(B15,$B$60:$K$61,2,FALSE),IF(COUNTIF($B$62:$K$63,B15)=1,HLOOKUP(B15,$B$62:$K$63,2,FALSE),HLOOKUP(B15,#REF!,2,FALSE)))","v":{"$error":"#REF!"}},{"$f":"IF(COUNTIF($B$68:$K$69,B15)=1,HLOOKUP(B15,$B$68:$K$69,2,FALSE),IF(COUNTIF($B$70:$K$71,B15)=1,HLOOKUP(B15,$B$70:$K$71,2,FALSE),HLOOKUP(B15,#REF!,2,FALSE)))","v":{"$error":"#REF!"}},{"$f":"IF(COUNTIF($B$76:$K$77,B15)=1,HLOOKUP(B15,$B$76:$K$77,2,FALSE),IF(COUNTIF($B$78:$K$79,B15)=1,HLOOKUP(B15,$B$78:$K$79,2,FALSE),HLOOKUP(B15,#REF!,2,FALSE)))","v":{"$error":"#REF!"}},{"$f":"IF(COUNTIF($B$84:$K$85,B15)=1,HLOOKUP(B15,$B$84:$K$85,2,FALSE),IF(COUNTIF($B$86:$K$87,B15)=1,HLOOKUP(B15,$B$86:$K$87,2,FALSE),HLOOKUP(B15,#REF!,2,FALSE)))","v":{"$error":"#REF!"}},{"$f":"IF(COUNTIF($B$92:$K$93,B15)=1,HLOOKUP(B15,$B$92:$K$93,2,FALSE),IF(COUNTIF($B$94:$K$95,B15)=1,HLOOKUP(B15,$B$94:$K$95,2,FALSE),HLOOKUP(B15,#REF!,2,FALSE)))","v":{"$error":"#REF!"}},{"$f":"IF(COUNTIF($B$100:$K$101,B15)=1,HLOOKUP(B15,$B$100:$K$101,2,FALSE),IF(COUNTIF($B$102:$K$103,B15)=1,HLOOKUP(B15,$B$102:$K$103,2,FALSE),HLOOKUP(B15,#REF!,2,FALSE)))","v":{"$error":"#REF!"}},{"$f":"IF(COUNTIF($B$108:$K$109,B15)=1,HLOOKUP(B15,$B$108:$K$109,2,FALSE),IF(COUNTIF($B$110:$K$111,B15)=1,HLOOKUP(B15,$B$110:$K$111,2,FALSE),HLOOKUP(B15,#REF!,2,FALSE)))","v":{"$error":"#REF!"}},{"$f":"IF(COUNTIF($B$116:$K$117,B15)=1,HLOOKUP(B15,$B$116:$K$117,2,FALSE),IF(COUNTIF($B$118:$K$119,B15)=1,HLOOKUP(B15,$B$118:$K$119,2,FALSE),HLOOKUP(B15,#REF!,2,FALSE)))","v":{"$error":"#REF!"}},{"$f":"IF(COUNTIF($B$124:$K$125,B15)=1,HLOOKUP(B15,$B$124:$K$125,2,FALSE),IF(COUNTIF($B$126:$K$127,B15)=1,HLOOKUP(B15,$B$126:$K$127,2,FALSE),HLOOKUP(B15,#REF!,2,FALSE)))","v":{"$error":"#REF!"}},{"$f":"IF(COUNTIF($B$132:$K$133,B15)=1,HLOOKUP(B15,$B$132:$K$133,2,FALSE),IF(COUNTIF($B$134:$K$135,B15)=1,HLOOKUP(B15,$B$134:$K$135,2,FALSE),HLOOKUP(B15,#REF!,2,FALSE)))","v":{"$error":"#REF!"}},{"$f":"IF(COUNTIF($B$140:$K$141,B15)=1,HLOOKUP(B15,$B$140:$K$141,2,FALSE),IF(COUNTIF($B$142:$K$143,B15)=1,HLOOKUP(B15,$B$142:$K$143,2,FALSE),HLOOKUP(B15,#REF!,2,FALSE)))","v":{"$error":"#REF!"}},{"$f":"IF(COUNTIF($B$148:$K$149,B15)=1,HLOOKUP(B15,$B$148:$K$149,2,FALSE),IF(COUNTIF($B$150:$K$151,B15)=1,HLOOKUP(B15,$B$150:$K$151,2,FALSE),HLOOKUP(B15,#REF!,2,FALSE)))","v":{"$error":"#REF!"}},{"$f":"IF(COUNTIF($B$156:$K$157,B15)=1,HLOOKUP(B15,$B$156:$K$157,2,FALSE),IF(COUNTIF($B$158:$K$159,B15)=1,HLOOKUP(B15,$B$158:$K$159,2,FALSE),HLOOKUP(B15,$B$160:$K$161,2,FALSE)))","v":{"$error":"#N/A"}},null,{"$f":"SUM(C15:R15)","v":{"$error":"#REF!"}},{"$f":"IF(T15=SMALL(T$3:T$32,1),\"1\",IF(T15=SMALL(T$3:T$32,2),\"2\",IF(T15=SMALL(T$3:T$32,3),\"3\",IF(T15=SMALL(T$3:T$32,4),\"4\",IF(T15=SMALL(T$3:T$32,5),\"5\",IF(T15=SMALL(T$3:T$32,6),\"6\",IF(T15=SMALL(T$3:T$32,7),\"7\",IF(T15=SMALL(T$3:T$32,8),\"8\",IF(T15=SMALL(T$3:T$32,9),\"9\",IF(T15=SMALL(T$3:T$32,10),\"10\",IF(T15=SMALL(T$3:T$32,11),\"11\",IF(T15=SMALL(T$3:T$32,12),\"12\",IF(T15=SMALL(T$3:T$32,13),\"13\",IF(T15=SMALL(T$3:T$32,14),\"14\",IF(T15=SMALL(T$3:T$32,15),\"15\",IF(T15=SMALL(T$3:T$32,16),\"16\",IF(T15=SMALL(T$3:T$32,17),\"17\",IF(T15=SMALL(T$3:T$32,18),\"18\",IF(T15=SMALL(T$3:T$32,19),\"19\",IF(T15=SMALL(T$3:T$32,20),\"20\",IF(T15=SMALL(T$3:T$32,21),\"21\",IF(T15=SMALL(T$3:T$32,22),\"22\",IF(T15=SMALL(T$3:T$32,23),\"23\",IF(T15=SMALL(T$3:T$32,24),\"24\",IF(T15=SMALL(T$3:T$32,25),\"25\",IF(T15=SMALL(T$3:T$32,26),\"26\",IF(T15=SMALL(T$3:T$32,27),\"27\",IF(T15=SMALL(T$3:T$32,28),\"28\",IF(T15=SMALL(T$3:T$32,29),\"29\",IF(T15=SMALL(T$3:T$32,30),\"30\",IF(T15=SMALL(T$3:T$32,31),\"31\",IF(T15=SMALL(T$3:T$32,32),\"32\",IF(T15=SMALL(T$3:T$32,33),\"33\",IF(T15=SMALL(T$3:T$32,34),\"34\"))))))))))))))))))))))))))))))))))","v":{"$error":"#REF!"}},{"$f":"COUNTIF($C15:$R15,V$1)","v":0},0,0,0,0,0,0]
[14,"Equipage 14",{"$f":"IF(COUNTIF($B$36:$K$37,B16)=1,HLOOKUP(B16,$B$36:$K$37,2,FALSE),IF(COUNTIF($B$38:$K$39,B16)=1,HLOOKUP(B16,$B$38:$K$39,2,FALSE),HLOOKUP(B16,#REF!,2,FALSE)))","v":{"$error":"#REF!"}},{"$f":"IF(COUNTIF($B$44:$K$45,B16)=1,HLOOKUP(B16,$B$44:$K$45,2,FALSE),IF(COUNTIF($B$46:$K$47,B16)=1,HLOOKUP(B16,$B$46:$K$47,2,FALSE),HLOOKUP(B16,#REF!,2,FALSE)))","v":{"$error":"#REF!"}},{"$f":"IF(COUNTIF($B$52:$K$53,B16)=1,HLOOKUP(B16,$B$52:$K$53,2,FALSE),IF(COUNTIF($B$54:$K$55,B16)=1,HLOOKUP(B16,$B$54:$K$55,2,FALSE),HLOOKUP(B16,#REF!,2,FALSE)))","v":{"$error":"#REF!"}},{"$f":"IF(COUNTIF($B$60:$K$61,B16)=1,HLOOKUP(B16,$B$60:$K$61,2,FALSE),IF(COUNTIF($B$62:$K$63,B16)=1,HLOOKUP(B16,$B$62:$K$63,2,FALSE),HLOOKUP(B16,#REF!,2,FALSE)))","v":{"$error":"#REF!"}},{"$f":"IF(COUNTIF($B$68:$K$69,B16)=1,HLOOKUP(B16,$B$68:$K$69,2,FALSE),IF(COUNTIF($B$70:$K$71,B16)=1,HLOOKUP(B16,$B$70:$K$71,2,FALSE),HLOOKUP(B16,#REF!,2,FALSE)))","v":{"$error":"#REF!"}},{"$f":"IF(COUNTIF($B$76:$K$77,B16)=1,HLOOKUP(B16,$B$76:$K$77,2,FALSE),IF(COUNTIF($B$78:$K$79,B16)=1,HLOOKUP(B16,$B$78:$K$79,2,FALSE),HLOOKUP(B16,#REF!,2,FALSE)))","v":{"$error":"#REF!"}},{"$f":"IF(COUNTIF($B$84:$K$85,B16)=1,HLOOKUP(B16,$B$84:$K$85,2,FALSE),IF(COUNTIF($B$86:$K$87,B16)=1,HLOOKUP(B16,$B$86:$K$87,2,FALSE),HLOOKUP(B16,#REF!,2,FALSE)))","v":{"$error":"#REF!"}},{"$f":"IF(COUNTIF($B$92:$K$93,B16)=1,HLOOKUP(B16,$B$92:$K$93,2,FALSE),IF(COUNTIF($B$94:$K$95,B16)=1,HLOOKUP(B16,$B$94:$K$95,2,FALSE),HLOOKUP(B16,#REF!,2,FALSE)))","v":{"$error":"#REF!"}},{"$f":"IF(COUNTIF($B$100:$K$101,B16)=1,HLOOKUP(B16,$B$100:$K$101,2,FALSE),IF(COUNTIF($B$102:$K$103,B16)=1,HLOOKUP(B16,$B$102:$K$103,2,FALSE),HLOOKUP(B16,#REF!,2,FALSE)))","v":{"$error":"#REF!"}},{"$f":"IF(COUNTIF($B$108:$K$109,B16)=1,HLOOKUP(B16,$B$108:$K$109,2,FALSE),IF(COUNTIF($B$110:$K$111,B16)=1,HLOOKUP(B16,$B$110:$K$111,2,FALSE),HLOOKUP(B16,#REF!,2,FALSE)))","v":{"$error":"#REF!"}},{"$f":"IF(COUNTIF($B$116:$K$117,B16)=1,HLOOKUP(B16,$B$116:$K$117,2,FALSE),IF(COUNTIF($B$118:$K$119,B16)=1,HLOOKUP(B16,$B$118:$K$119,2,FALSE),HLOOKUP(B16,#REF!,2,FALSE)))","v":{"$error":"#REF!"}},{"$f":"IF(COUNTIF($B$124:$K$125,B16)=1,HLOOKUP(B16,$B$124:$K$125,2,FALSE),IF(COUNTIF($B$126:$K$127,B16)=1,HLOOKUP(B16,$B$126:$K$127,2,FALSE),HLOOKUP(B16,#REF!,2,FALSE)))","v":{"$error":"#REF!"}},{"$f":"IF(COUNTIF($B$132:$K$133,B16)=1,HLOOKUP(B16,$B$132:$K$133,2,FALSE),IF(COUNTIF($B$134:$K$135,B16)=1,HLOOKUP(B16,$B$134:$K$135,2,FALSE),HLOOKUP(B16,#REF!,2,FALSE)))","v":{"$error":"#REF!"}},{"$f":"IF(COUNTIF($B$140:$K$141,B16)=1,HLOOKUP(B16,$B$140:$K$141,2,FALSE),IF(COUNTIF($B$142:$K$143,B16)=1,HLOOKUP(B16,$B$142:$K$143,2,FALSE),HLOOKUP(B16,#REF!,2,FALSE)))","v":{"$error":"#REF!"}},{"$f":"IF(COUNTIF($B$148:$K$149,B16)=1,HLOOKUP(B16,$B$148:$K$149,2,FALSE),IF(COUNTIF($B$150:$K$151,B16)=1,HLOOKUP(B16,$B$150:$K$151,2,FALSE),HLOOKUP(B16,#REF!,2,FALSE)))","v":{"$error":"#REF!"}},{"$error":"#N/A"},null,{"$error":"#REF!"},{"$error":"#REF!"},0,0,0,0,0,0,0]
[15,"Equipage 15",{"$f":"IF(COUNTIF($B$36:$K$37,B17)=1,HLOOKUP(B17,$B$36:$K$37,2,FALSE),IF(COUNTIF($B$38:$K$39,B17)=1,HLOOKUP(B17,$B$38:$K$39,2,FALSE),HLOOKUP(B17,#REF!,2,FALSE)))","v":{"$error":"#REF!"}},{"$f":"IF(COUNTIF($B$44:$K$45,B17)=1,HLOOKUP(B17,$B$44:$K$45,2,FALSE),IF(COUNTIF($B$46:$K$47,B17)=1,HLOOKUP(B17,$B$46:$K$47,2,FALSE),HLOOKUP(B17,#REF!,2,FALSE)))","v":{"$error":"#REF!"}},{"$f":"IF(COUNTIF($B$52:$K$53,B17)=1,HLOOKUP(B17,$B$52:$K$53,2,FALSE),IF(COUNTIF($B$54:$K$55,B17)=1,HLOOKUP(B17,$B$54:$K$55,2,FALSE),HLOOKUP(B17,#REF!,2,FALSE)))","v":{"$error":"#REF!"}},{"$f":"IF(COUNTIF($B$60:$K$61,B17)=1,HLOOKUP(B17,$B$60:$K$61,2,FALSE),IF(COUNTIF($B$62:$K$63,B17)=1,HLOOKUP(B17,$B$62:$K$63,2,FALSE),HLOOKUP(B17,#REF!,2,FALSE)))","v":{"$error":"#REF!"}},{"$f":"IF(COUNTIF($B$68:$K$69,B17)=1,HLOOKUP(B17,$B$68:$K$69,2,FALSE),IF(COUNTIF($B$70:$K$71,B17)=1,HLOOKUP(B17,$B$70:$K$71,2,FALSE),HLOOKUP(B17,#REF!,2,FALSE)))","v":{"$error":"#REF!"}},{"$f":"IF(COUNTIF($B$76:$K$77,B17)=1,HLOOKUP(B17,$B$76:$K$77,2,FALSE),IF(COUNTIF($B$78:$K$79,B17)=1,HLOOKUP(B17,$B$78:$K$79,2,FALSE),HLOOKUP(B17,#REF!,2,FALSE)))","v":{"$error":"#REF!"}},{"$f":"IF(COUNTIF($B$84:$K$85,B17)=1,HLOOKUP(B17,$B$84:$K$85,2,FALSE),IF(COUNTIF($B$86:$K$87,B17)=1,HLOOKUP(B17,$B$86:$K$87,2,FALSE),HLOOKUP(B17,#REF!,2,FALSE)))","v":{"$error":"#REF!"}},{"$f":"IF(COUNTIF($B$92:$K$93,B17)=1,HLOOKUP(B17,$B$92:$K$93,2,FALSE),IF(COUNTIF($B$94:$K$95,B17)=1,HLOOKUP(B17,$B$94:$K$95,2,FALSE),HLOOKUP(B17,#REF!,2,FALSE)))","v":{"$error":"#REF!"}},{"$f":"IF(COUNTIF($B$100:$K$101,B17)=1,HLOOKUP(B17,$B$100:$K$101,2,FALSE),IF(COUNTIF($B$102:$K$103,B17)=1,HLOOKUP(B17,$B$102:$K$103,2,FALSE),HLOOKUP(B17,#REF!,2,FALSE)))","v":{"$error":"#REF!"}},{"$f":"IF(COUNTIF($B$108:$K$109,B17)=1,HLOOKUP(B17,$B$108:$K$109,2,FALSE),IF(COUNTIF($B$110:$K$111,B17)=1,HLOOKUP(B17,$B$110:$K$111,2,FALSE),HLOOKUP(B17,#REF!,2,FALSE)))","v":{"$error":"#REF!"}},{"$f":"IF(COUNTIF($B$116:$K$117,B17)=1,HLOOKUP(B17,$B$116:$K$117,2,FALSE),IF(COUNTIF($B$118:$K$119,B17)=1,HLOOKUP(B17,$B$118:$K$119,2,FALSE),HLOOKUP(B17,#REF!,2,FALSE)))","v":{"$error":"#REF!"}},{"$f":"IF(COUNTIF($B$124:$K$125,B17)=1,HLOOKUP(B17,$B$124:$K$125,2,FALSE),IF(COUNTIF($B$126:$K$127,B17)=1,HLOOKUP(B17,$B$126:$K$127,2,FALSE),HLOOKUP(B17,#REF!,2,FALSE)))","v":{"$error":"#REF!"}},{"$f":"IF(COUNTIF($B$132:$K$133,B17)=1,HLOOKUP(B17,$B$132:$K$133,2,FALSE),IF(COUNTIF($B$134:$K$135,B17)=1,HLOOKUP(B17,$B$134:$K$135,2,FALSE),HLOOKUP(B17,#REF!,2,FALSE)))","v":{"$error":"#REF!"}},{"$f":"IF(COUNTIF($B$140:$K$141,B17)=1,HLOOKUP(B17,$B$140:$K$141,2,FALSE),IF(COUNTIF($B$142:$K$143,B17)=1,HLOOKUP(B17,$B$142:$K$143,2,FALSE),HLOOKUP(B17,#REF!,2,FALSE)))","v":{"$error":"#REF!"}},{"$f":"IF(COUNTIF($B$148:$K$149,B17)=1,HLOOKUP(B17,$B$148:$K$149,2,FALSE),IF(COUNTIF($B$150:$K$151,B17)=1,HLOOKUP(B17,$B$150:$K$151,2,FALSE),HLOOKUP(B17,#REF!,2,FALSE)))","v":{"$error":"#REF!"}},{"$error":"#N/A"},null,{"$error":"#REF!"},{"$error":"#REF!"},0,0,0,0,0,0,0]
[16,"Equipage 16",{"$f":"IF(COUNTIF($B$36:$K$37,B18)=1,HLOOKUP(B18,$B$36:$K$37,2,FALSE),IF(COUNTIF($B$38:$K$39,B18)=1,HLOOKUP(B18,$B$38:$K$39,2,FALSE),HLOOKUP(B18,#REF!,2,FALSE)))","v":{"$error":"#REF!"}},{"$f":"IF(COUNTIF($B$44:$K$45,B18)=1,HLOOKUP(B18,$B$44:$K$45,2,FALSE),IF(COUNTIF($B$46:$K$47,B18)=1,HLOOKUP(B18,$B$46:$K$47,2,FALSE),HLOOKUP(B18,#REF!,2,FALSE)))","v":{"$error":"#REF!"}},{"$f":"IF(COUNTIF($B$52:$K$53,B18)=1,HLOOKUP(B18,$B$52:$K$53,2,FALSE),IF(COUNTIF($B$54:$K$55,B18)=1,HLOOKUP(B18,$B$54:$K$55,2,FALSE),HLOOKUP(B18,#REF!,2,FALSE)))","v":{"$error":"#REF!"}},{"$f":"IF(COUNTIF($B$60:$K$61,B18)=1,HLOOKUP(B18,$B$60:$K$61,2,FALSE),IF(COUNTIF($B$62:$K$63,B18)=1,HLOOKUP(B18,$B$62:$K$63,2,FALSE),HLOOKUP(B18,#REF!,2,FALSE)))","v":{"$error":"#REF!"}},{"$f":"IF(COUNTIF($B$68:$K$69,B18)=1,HLOOKUP(B18,$B$68:$K$69,2,FALSE),IF(COUNTIF($B$70:$K$71,B18)=1,HLOOKUP(B18,$B$70:$K$71,2,FALSE),HLOOKUP(B18,#REF!,2,FALSE)))","v":{"$error":"#REF!"}},{"$f":"IF(COUNTIF($B$76:$K$77,B18)=1,HLOOKUP(B18,$B$76:$K$77,2,FALSE),IF(COUNTIF($B$78:$K$79,B18)=1,HLOOKUP(B18,$B$78:$K$79,2,FALSE),HLOOKUP(B18,#REF!,2,FALSE)))","v":{"$error":"#REF!"}},{"$f":"IF(COUNTIF($B$84:$K$85,B18)=1,HLOOKUP(B18,$B$84:$K$85,2,FALSE),IF(COUNTIF($B$86:$K$87,B18)=1,HLOOKUP(B18,$B$86:$K$87,2,FALSE),HLOOKUP(B18,#REF!,2,FALSE)))","v":{"$error":"#REF!"}},{"$f":"IF(COUNTIF($B$92:$K$93,B18)=1,HLOOKUP(B18,$B$92:$K$93,2,FALSE),IF(COUNTIF($B$94:$K$95,B18)=1,HLOOKUP(B18,$B$94:$K$95,2,FALSE),HLOOKUP(B18,#REF!,2,FALSE)))","v":{"$error":"#REF!"}},{"$f":"IF(COUNTIF($B$100:$K$101,B18)=1,HLOOKUP(B18,$B$100:$K$101,2,FALSE),IF(COUNTIF($B$102:$K$103,B18)=1,HLOOKUP(B18,$B$102:$K$103,2,FALSE),HLOOKUP(B18,#REF!,2,FALSE)))","v":{"$error":"#REF!"}},{"$f":"IF(COUNTIF($B$108:$K$109,B18)=1,HLOOKUP(B18,$B$108:$K$109,2,FALSE),IF(COUNTIF($B$110:$K$111,B18)=1,HLOOKUP(B18,$B$110:$K$111,2,FALSE),HLOOKUP(B18,#REF!,2,FALSE)))","v":{"$error":"#REF!"}},{"$f":"IF(COUNTIF($B$116:$K$117,B18)=1,HLOOKUP(B18,$B$116:$K$117,2,FALSE),IF(COUNTIF($B$118:$K$119,B18)=1,HLOOKUP(B18,$B$118:$K$119,2,FALSE),HLOOKUP(B18,#REF!,2,FALSE)))","v":{"$error":"#REF!"}},{"$f":"IF(COUNTIF($B$124:$K$125,B18)=1,HLOOKUP(B18,$B$124:$K$125,2,FALSE),IF(COUNTIF($B$126:$K$127,B18)=1,HLOOKUP(B18,$B$126:$K$127,2,FALSE),HLOOKUP(B18,#REF!,2,FALSE)))","v":{"$error":"#REF!"}},{"$f":"IF(COUNTIF($B$132:$K$133,B18)=1,HLOOKUP(B18,$B$132:$K$133,2,FALSE),IF(COUNTIF($B$134:$K$135,B18)=1,HLOOKUP(B18,$B$134:$K$135,2,FALSE),HLOOKUP(B18,#REF!,2,FALSE)))","v":{"$error":"#REF!"}},{"$f":"IF(COUNTIF($B$140:$K$141,B18)=1,HLOOKUP(B18,$B$140:$K$141,2,FALSE),IF(COUNTIF($B$142:$K$143,B18)=1,HLOOKUP(B18,$B$142:$K$143,2,FALSE),HLOOKUP(B18,#REF!,2,FALSE)))","v":{"$error":"#REF!"}},{"$f":"IF(COUNTIF($B$148:$K$149,B18)=1,HLOOKUP(B18,$B$148:$K$149,2,FALSE),IF(COUNTIF($B$150:$K$151,B18)=1,HLOOKUP(B18,$B$150:$K$151,2,FALSE),HLOOKUP(B18,#REF!,2,FALSE)))","v":{"$error":"#REF!"}},{"$error":"#N/A"},null,{"$error":"#REF!"},{"$error":"#REF!"},0,0,0,0,0,0,0]
[17,"Equipage 17",{"$f":"IF(COUNTIF($B$36:$K$37,B19)=1,HLOOKUP(B19,$B$36:$K$37,2,FALSE),IF(COUNTIF($B$38:$K$39,B19)=1,HLOOKUP(B19,$B$38:$K$39,2,FALSE),HLOOKUP(B19,#REF!,2,FALSE)))","v":{"$error":"#REF!"}},{"$f":"IF(COUNTIF($B$44:$K$45,B19)=1,HLOOKUP(B19,$B$44:$K$45,2,FALSE),IF(COUNTIF($B$46:$K$47,B19)=1,HLOOKUP(B19,$B$46:$K$47,2,FALSE),HLOOKUP(B19,#REF!,2,FALSE)))","v":{"$error":"#REF!"}},{"$f":"IF(COUNTIF($B$52:$K$53,B19)=1,HLOOKUP(B19,$B$52:$K$53,2,FALSE),IF(COUNTIF($B$54:$K$55,B19)=1,HLOOKUP(B19,$B$54:$K$55,2,FALSE),HLOOKUP(B19,#REF!,2,FALSE)))","v":{"$error":"#REF!"}},{"$f":"IF(COUNTIF($B$60:$K$61,B19)=1,HLOOKUP(B19,$B$60:$K$61,2,FALSE),IF(COUNTIF($B$62:$K$63,B19)=1,HLOOKUP(B19,$B$62:$K$63,2,FALSE),HLOOKUP(B19,#REF!,2,FALSE)))","v":{"$error":"#REF!"}},{"$f":"IF(COUNTIF($B$68:$K$69,B19)=1,HLOOKUP(B19,$B$68:$K$69,2,FALSE),IF(COUNTIF($B$70:$K$71,B19)=1,HLOOKUP(B19,$B$70:$K$71,2,FALSE),HLOOKUP(B19,#REF!,2,FALSE)))","v":{"$error":"#REF!"}},{"$f":"IF(COUNTIF($B$76:$K$77,B19)=1,HLOOKUP(B19,$B$76:$K$77,2,FALSE),IF(COUNTIF($B$78:$K$79,B19)=1,HLOOKUP(B19,$B$78:$K$79,2,FALSE),HLOOKUP(B19,#REF!,2,FALSE)))","v":{"$error":"#REF!"}},{"$f":"IF(COUNTIF($B$84:$K$85,B19)=1,HLOOKUP(B19,$B$84:$K$85,2,FALSE),IF(COUNTIF($B$86:$K$87,B19)=1,HLOOKUP(B19,$B$86:$K$87,2,FALSE),HLOOKUP(B19,#REF!,2,FALSE)))","v":{"$error":"#REF!"}},{"$f":"IF(COUNTIF($B$92:$K$93,B19)=1,HLOOKUP(B19,$B$92:$K$93,2,FALSE),IF(COUNTIF($B$94:$K$95,B19)=1,HLOOKUP(B19,$B$94:$K$95,2,FALSE),HLOOKUP(B19,#REF!,2,FALSE)))","v":{"$error":"#REF!"}},{"$f":"IF(COUNTIF($B$100:$K$101,B19)=1,HLOOKUP(B19,$B$100:$K$101,2,FALSE),IF(COUNTIF($B$102:$K$103,B19)=1,HLOOKUP(B19,$B$102:$K$103,2,FALSE),HLOOKUP(B19,#REF!,2,FALSE)))","v":{"$error":"#REF!"}},{"$f":"IF(COUNTIF($B$108:$K$109,B19)=1,HLOOKUP(B19,$B$108:$K$109,2,FALSE),IF(COUNTIF($B$110:$K$111,B19)=1,HLOOKUP(B19,$B$110:$K$111,2,FALSE),HLOOKUP(B19,#REF!,2,FALSE)))","v":{"$error":"#REF!"}},{"$f":"IF(COUNTIF($B$116:$K$117,B19)=1,HLOOKUP(B19,$B$116:$K$117,2,FALSE),IF(COUNTIF($B$118:$K$119,B19)=1,HLOOKUP(B19,$B$118:$K$119,2,FALSE),HLOOKUP(B19,#REF!,2,FALSE)))","v":{"$error":"#REF!"}},{"$f":"IF(COUNTIF($B$124:$K$125,B19)=1,HLOOKUP(B19,$B$124:$K$125,2,FALSE),IF(COUNTIF($B$126:$K$127,B19)=1,HLOOKUP(B19,$B$126:$K$127,2,FALSE),HLOOKUP(B19,#REF!,2,FALSE)))","v":{"$error":"#REF!"}},{"$f":"IF(COUNTIF($B$132:$K$133,B19)=1,HLOOKUP(B19,$B$132:$K$133,2,FALSE),IF(COUNTIF($B$134:$K$135,B19)=1,HLOOKUP(B19,$B$134:$K$135,2,FALSE),HLOOKUP(B19,#REF!,2,FALSE)))","v":{"$error":"#REF!"}},{"$f":"IF(COUNTIF($B$140:$K$141,B19)=1,HLOOKUP(B19,$B$140:$K$141,2,FALSE),IF(COUNTIF($B$142:$K$143,B19)=1,HLOOKUP(B19,$B$142:$K$143,2,FALSE),HLOOKUP(B19,#REF!,2,FALSE)))","v":{"$error":"#REF!"}},{"$f":"IF(COUNTIF($B$148:$K$149,B19)=1,HLOOKUP(B19,$B$148:$K$149,2,FALSE),IF(COUNTIF($B$150:$K$151,B19)=1,HLOOKUP(B19,$B$150:$K$151,2,FALSE),HLOOKUP(B19,#REF!,2,FALSE)))","v":{"$error":"#REF!"}},{"$error":"#N/A"},null,{"$error":"#REF!"},{"$error":"#REF!"},0,0,0,0,0,0,0]
[18,"Equipage 18",{"$f":"IF(COUNTIF($B$36:$K$37,B20)=1,HLOOKUP(B20,$B$36:$K$37,2,FALSE),IF(COUNTIF($B$38:$K$39,B20)=1,HLOOKUP(B20,$B$38:$K$39,2,FALSE),HLOOKUP(B20,#REF!,2,FALSE)))","v":{"$error":"#REF!"}},{"$f":"IF(COUNTIF($B$44:$K$45,B20)=1,HLOOKUP(B20,$B$44:$K$45,2,FALSE),IF(COUNTIF($B$46:$K$47,B20)=1,HLOOKUP(B20,$B$46:$K$47,2,FALSE),HLOOKUP(B20,#REF!,2,FALSE)))","v":{"$error":"#REF!"}},{"$f":"IF(COUNTIF($B$52:$K$53,B20)=1,HLOOKUP(B20,$B$52:$K$53,2,FALSE),IF(COUNTIF($B$54:$K$55,B20)=1,HLOOKUP(B20,$B$54:$K$55,2,FALSE),HLOOKUP(B20,#REF!,2,FALSE)))","v":{"$error":"#REF!"}},{"$f":"IF(COUNTIF($B$60:$K$61,B20)=1,HLOOKUP(B20,$B$60:$K$61,2,FALSE),IF(COUNTIF($B$62:$K$63,B20)=1,HLOOKUP(B20,$B$62:$K$63,2,FALSE),HLOOKUP(B20,#REF!,2,FALSE)))","v":{"$error":"#REF!"}},{"$f":"IF(COUNTIF($B$68:$K$69,B20)=1,HLOOKUP(B20,$B$68:$K$69,2,FALSE),IF(COUNTIF($B$70:$K$71,B20)=1,HLOOKUP(B20,$B$70:$K$71,2,FALSE),HLOOKUP(B20,#REF!,2,FALSE)))","v":{"$error":"#REF!"}},{"$f":"IF(COUNTIF($B$76:$K$77,B20)=1,HLOOKUP(B20,$B$76:$K$77,2,FALSE),IF(COUNTIF($B$78:$K$79,B20)=1,HLOOKUP(B20,$B$78:$K$79,2,FALSE),HLOOKUP(B20,#REF!,2,FALSE)))","v":{"$error":"#REF!"}},{"$f":"IF(COUNTIF($B$84:$K$85,B20)=1,HLOOKUP(B20,$B$84:$K$85,2,FALSE),IF(COUNTIF($B$86:$K$87,B20)=1,HLOOKUP(B20,$B$86:$K$87,2,FALSE),HLOOKUP(B20,#REF!,2,FALSE)))","v":{"$error":"#REF!"}},{"$f":"IF(COUNTIF($B$92:$K$93,B20)=1,HLOOKUP(B20,$B$92:$K$93,2,FALSE),IF(COUNTIF($B$94:$K$95,B20)=1,HLOOKUP(B20,$B$94:$K$95,2,FALSE),HLOOKUP(B20,#REF!,2,FALSE)))","v":{"$error":"#REF!"}},{"$f":"IF(COUNTIF($B$100:$K$101,B20)=1,HLOOKUP(B20,$B$100:$K$101,2,FALSE),IF(COUNTIF($B$102:$K$103,B20)=1,HLOOKUP(B20,$B$102:$K$103,2,FALSE),HLOOKUP(B20,#REF!,2,FALSE)))","v":{"$error":"#REF!"}},{"$f":"IF(COUNTIF($B$108:$K$109,B20)=1,HLOOKUP(B20,$B$108:$K$109,2,FALSE),IF(COUNTIF($B$110:$K$111,B20)=1,HLOOKUP(B20,$B$110:$K$111,2,FALSE),HLOOKUP(B20,#REF!,2,FALSE)))","v":{"$error":"#REF!"}},{"$f":"IF(COUNTIF($B$116:$K$117,B20)=1,HLOOKUP(B20,$B$116:$K$117,2,FALSE),IF(COUNTIF($B$118:$K$119,B20)=1,HLOOKUP(B20,$B$118:$K$119,2,FALSE),HLOOKUP(B20,#REF!,2,FALSE)))","v":{"$error":"#REF!"}},{"$f":"IF(COUNTIF($B$124:$K$125,B20)=1,HLOOKUP(B20,$B$124:$K$125,2,FALSE),IF(COUNTIF($B$126:$K$127,B20)=1,HLOOKUP(B20,$B$126:$K$127,2,FALSE),HLOOKUP(B20,#REF!,2,FALSE)))","v":{"$error":"#REF!"}},{"$f":"IF(COUNTIF($B$132:$K$133,B20)=1,HLOOKUP(B20,$B$132:$K$133,2,FALSE),IF(COUNTIF($B$134:$K$135,B20)=1,HLOOKUP(B20,$B$134:$K$135,2,FALSE),HLOOKUP(B20,#REF!,2,FALSE)))","v":{"$error":"#REF!"}},{"$f":"IF(COUNTIF($B$140:$K$141,B20)=1,HLOOKUP(B20,$B$140:$K$141,2,FALSE),IF(COUNTIF($B$142:$K$143,B20)=1,HLOOKUP(B20,$B$142:$K$143,2,FALSE),HLOOKUP(B20,#REF!,2,FALSE)))","v":{"$error":"#REF!"}},{"$f":"IF(COUNTIF($B$148:$K$149,B20)=1,HLOOKUP(B20,$B$148:$K$149,2,FALSE),IF(COUNTIF($B$150:$K$151,B20)=1,HLOOKUP(B20,$B$150:$K$151,2,FALSE),HLOOKUP(B20,#REF!,2,FALSE)))","v":{"$error":"#REF!"}},{"$error":"#N/A"},null,{"$error":"#REF!"},{"$error":"#REF!"},0,0,0,0,0,0,0]
[19,"Equipage 19",{"$f":"IF(COUNTIF($B$36:$K$37,B21)=1,HLOOKUP(B21,$B$36:$K$37,2,FALSE),IF(COUNTIF($B$38:$K$39,B21)=1,HLOOKUP(B21,$B$38:$K$39,2,FALSE),HLOOKUP(B21,#REF!,2,FALSE)))","v":{"$error":"#REF!"}},{"$f":"IF(COUNTIF($B$44:$K$45,B21)=1,HLOOKUP(B21,$B$44:$K$45,2,FALSE),IF(COUNTIF($B$46:$K$47,B21)=1,HLOOKUP(B21,$B$46:$K$47,2,FALSE),HLOOKUP(B21,#REF!,2,FALSE)))","v":{"$error":"#REF!"}},{"$f":"IF(COUNTIF($B$52:$K$53,B21)=1,HLOOKUP(B21,$B$52:$K$53,2,FALSE),IF(COUNTIF($B$54:$K$55,B21)=1,HLOOKUP(B21,$B$54:$K$55,2,FALSE),HLOOKUP(B21,#REF!,2,FALSE)))","v":{"$error":"#REF!"}},{"$f":"IF(COUNTIF($B$60:$K$61,B21)=1,HLOOKUP(B21,$B$60:$K$61,2,FALSE),IF(COUNTIF($B$62:$K$63,B21)=1,HLOOKUP(B21,$B$62:$K$63,2,FALSE),HLOOKUP(B21,#REF!,2,FALSE)))","v":{"$error":"#REF!"}},{"$f":"IF(COUNTIF($B$68:$K$69,B21)=1,HLOOKUP(B21,$B$68:$K$69,2,FALSE),IF(COUNTIF($B$70:$K$71,B21)=1,HLOOKUP(B21,$B$70:$K$71,2,FALSE),HLOOKUP(B21,#REF!,2,FALSE)))","v":{"$error":"#REF!"}},{"$f":"IF(COUNTIF($B$76:$K$77,B21)=1,HLOOKUP(B21,$B$76:$K$77,2,FALSE),IF(COUNTIF($B$78:$K$79,B21)=1,HLOOKUP(B21,$B$78:$K$79,2,FALSE),HLOOKUP(B21,#REF!,2,FALSE)))","v":{"$error":"#REF!"}},{"$f":"IF(COUNTIF($B$84:$K$85,B21)=1,HLOOKUP(B21,$B$84:$K$85,2,FALSE),IF(COUNTIF($B$86:$K$87,B21)=1,HLOOKUP(B21,$B$86:$K$87,2,FALSE),HLOOKUP(B21,#REF!,2,FALSE)))","v":{"$error":"#REF!"}},{"$f":"IF(COUNTIF($B$92:$K$93,B21)=1,HLOOKUP(B21,$B$92:$K$93,2,FALSE),IF(COUNTIF($B$94:$K$95,B21)=1,HLOOKUP(B21,$B$94:$K$95,2,FALSE),HLOOKUP(B21,#REF!,2,FALSE)))","v":{"$error":"#REF!"}},{"$f":"IF(COUNTIF($B$100:$K$101,B21)=1,HLOOKUP(B21,$B$100:$K$101,2,FALSE),IF(COUNTIF($B$102:$K$103,B21)=1,HLOOKUP(B21,$B$102:$K$103,2,FALSE),HLOOKUP(B21,#REF!,2,FALSE)))","v":{"$error":"#REF!"}},{"$f":"IF(COUNTIF($B$108:$K$109,B21)=1,HLOOKUP(B21,$B$108:$K$109,2,FALSE),IF(COUNTIF($B$110:$K$111,B21)=1,HLOOKUP(B21,$B$110:$K$111,2,FALSE),HLOOKUP(B21,#REF!,2,FALSE)))","v":{"$error":"#REF!"}},{"$f":"IF(COUNTIF($B$116:$K$117,B21)=1,HLOOKUP(B21,$B$116:$K$117,2,FALSE),IF(COUNTIF($B$118:$K$119,B21)=1,HLOOKUP(B21,$B$118:$K$119,2,FALSE),HLOOKUP(B21,#REF!,2,FALSE)))","v":{"$error":"#REF!"}},{"$f":"IF(COUNTIF($B$124:$K$125,B21)=1,HLOOKUP(B21,$B$124:$K$125,2,FALSE),IF(COUNTIF($B$126:$K$127,B21)=1,HLOOKUP(B21,$B$126:$K$127,2,FALSE),HLOOKUP(B21,#REF!,2,FALSE)))","v":{"$error":"#REF!"}},{"$f":"IF(COUNTIF($B$132:$K$133,B21)=1,HLOOKUP(B21,$B$132:$K$133,2,FALSE),IF(COUNTIF($B$134:$K$135,B21)=1,HLOOKUP(B21,$B$134:$K$135,2,FALSE),HLOOKUP(B21,#REF!,2,FALSE)))","v":{"$error":"#REF!"}},{"$f":"IF(COUNTIF($B$140:$K$141,B21)=1,HLOOKUP(B21,$B$140:$K$141,2,FALSE),IF(COUNTIF($B$142:$K$143,B21)=1,HLOOKUP(B21,$B$142:$K$143,2,FALSE),HLOOKUP(B21,#REF!,2,FALSE)))","v":{"$error":"#REF!"}},{"$f":"IF(COUNTIF($B$148:$K$149,B21)=1,HLOOKUP(B21,$B$148:$K$149,2,FALSE),IF(COUNTIF($B$150:$K$151,B21)=1,HLOOKUP(B21,$B$150:$K$151,2,FALSE),HLOOKUP(B21,#REF!,2,FALSE)))","v":{"$error":"#REF!"}},{"$error":"#N/A"},null,{"$error":"#REF!"},{"$error":"#REF!"},0,0,0,0,0,0,0]
[20,"Equipage 20",{"$f":"IF(COUNTIF($B$36:$K$37,B22)=1,HLOOKUP(B22,$B$36:$K$37,2,FALSE),IF(COUNTIF($B$38:$K$39,B22)=1,HLOOKUP(B22,$B$38:$K$39,2,FALSE),HLOOKUP(B22,#REF!,2,FALSE)))","v":{"$error":"#REF!"}},{"$f":"IF(COUNTIF($B$44:$K$45,B22)=1,HLOOKUP(B22,$B$44:$K$45,2,FALSE),IF(COUNTIF($B$46:$K$47,B22)=1,HLOOKUP(B22,$B$46:$K$47,2,FALSE),HLOOKUP(B22,#REF!,2,FALSE)))","v":{"$error":"#REF!"}},{"$f":"IF(COUNTIF($B$52:$K$53,B22)=1,HLOOKUP(B22,$B$52:$K$53,2,FALSE),IF(COUNTIF($B$54:$K$55,B22)=1,HLOOKUP(B22,$B$54:$K$55,2,FALSE),HLOOKUP(B22,#REF!,2,FALSE)))","v":{"$error":"#REF!"}},{"$f":"IF(COUNTIF($B$60:$K$61,B22)=1,HLOOKUP(B22,$B$60:$K$61,2,FALSE),IF(COUNTIF($B$62:$K$63,B22)=1,HLOOKUP(B22,$B$62:$K$63,2,FALSE),HLOOKUP(B22,#REF!,2,FALSE)))","v":{"$error":"#REF!"}},{"$f":"IF(COUNTIF($B$68:$K$69,B22)=1,HLOOKUP(B22,$B$68:$K$69,2,FALSE),IF(COUNTIF($B$70:$K$71,B22)=1,HLOOKUP(B22,$B$70:$K$71,2,FALSE),HLOOKUP(B22,#REF!,2,FALSE)))","v":{"$error":"#REF!"}},{"$f":"IF(COUNTIF($B$76:$K$77,B22)=1,HLOOKUP(B22,$B$76:$K$77,2,FALSE),IF(COUNTIF($B$78:$K$79,B22)=1,HLOOKUP(B22,$B$78:$K$79,2,FALSE),HLOOKUP(B22,#REF!,2,FALSE)))","v":{"$error":"#REF!"}},{"$f":"IF(COUNTIF($B$84:$K$85,B22)=1,HLOOKUP(B22,$B$84:$K$85,2,FALSE),IF(COUNTIF($B$86:$K$87,B22)=1,HLOOKUP(B22,$B$86:$K$87,2,FALSE),HLOOKUP(B22,#REF!,2,FALSE)))","v":{"$error":"#REF!"}},{"$f":"IF(COUNTIF($B$92:$K$93,B22)=1,HLOOKUP(B22,$B$92:$K$93,2,FALSE),IF(COUNTIF($B$94:$K$95,B22)=1,HLOOKUP(B22,$B$94:$K$95,2,FALSE),HLOOKUP(B22,#REF!,2,FALSE)))","v":{"$error":"#REF!"}},{"$f":"IF(COUNTIF($B$100:$K$101,B22)=1,HLOOKUP(B22,$B$100:$K$101,2,FALSE),IF(COUNTIF($B$102:$K$103,B22)=1,HLOOKUP(B22,$B$102:$K$103,2,FALSE),HLOOKUP(B22,#REF!,2,FALSE)))","v":{"$error":"#REF!"}},{"$f":"IF(COUNTIF($B$108:$K$109,B22)=1,HLOOKUP(B22,$B$108:$K$109,2,FALSE),IF(COUNTIF($B$110:$K$111,B22)=1,HLOOKUP(B22,$B$110:$K$111,2,FALSE),HLOOKUP(B22,#REF!,2,FALSE)))","v":{"$error":"#REF!"}},{"$f":"IF(COUNTIF($B$116:$K$117,B22)=1,HLOOKUP(B22,$B$116:$K$117,2,FALSE),IF(COUNTIF($B$118:$K$119,B22)=1,HLOOKUP(B22,$B$118:$K$119,2,FALSE),HLOOKUP(B22,#REF!,2,FALSE)))","v":{"$error":"#REF!"}},{"$f":"IF(COUNTIF($B$124:$K$125,B22)=1,HLOOKUP(B22,$B$124:$K$125,2,FALSE),IF(COUNTIF($B$126:$K$127,B22)=1,HLOOKUP(B22,$B$126:$K$127,2,FALSE),HLOOKUP(B22,#REF!,2,FALSE)))","v":{"$error":"#REF!"}},{"$f":"IF(COUNTIF($B$132:$K$133,B22)=1,HLOOKUP(B22,$B$132:$K$133,2,FALSE),IF(COUNTIF($B$134:$K$135,B22)=1,HLOOKUP(B22,$B$134:$K$135,2,FALSE),HLOOKUP(B22,#REF!,2,FALSE)))","v":{"$error":"#REF!"}},{"$f":"IF(COUNTIF($B$140:$K$141,B22)=1,HLOOKUP(B22,$B$140:$K$141,2,FALSE),IF(COUNTIF($B$142:$K$143,B22)=1,HLOOKUP(B22,$B$142:$K$143,2,FALSE),HLOOKUP(B22,#REF!,2,FALSE)))","v":{"$error":"#REF!"}},{"$f":"IF(COUNTIF($B$148:$K$149,B22)=1,HLOOKUP(B22,$B$148:$K$149,2,FALSE),IF(COUNTIF($B$150:$K$151,B22)=1,HLOOKUP(B22,$B$150:$K$151,2,FALSE),HLOOKUP(B22,#REF!,2,FALSE)))","v":{"$error":"#REF!"}},{"$error":"#N/A"},null,{"$error":"#REF!"},{"$error":"#REF!"},0,0,0,0,0,0,0]
[21,"Equipage 21",{"$f":"IF(COUNTIF($B$36:$K$37,B23)=1,HLOOKUP(B23,$B$36:$K$37,2,FALSE),IF(COUNTIF($B$38:$K$39,B23)=1,HLOOKUP(B23,$B$38:$K$39,2,FALSE),HLOOKUP(B23,#REF!,2,FALSE)))","v":{"$error":"#REF!"}},{"$f":"IF(COUNTIF($B$44:$K$45,B23)=1,HLOOKUP(B23,$B$44:$K$45,2,FALSE),IF(COUNTIF($B$46:$K$47,B23)=1,HLOOKUP(B23,$B$46:$K$47,2,FALSE),HLOOKUP(B23,#REF!,2,FALSE)))","v":{"$error":"#REF!"}},{"$f":"IF(COUNTIF($B$52:$K$53,B23)=1,HLOOKUP(B23,$B$52:$K$53,2,FALSE),IF(COUNTIF($B$54:$K$55,B23)=1,HLOOKUP(B23,$B$54:$K$55,2,FALSE),HLOOKUP(B23,#REF!,2,FALSE)))","v":{"$error":"#REF!"}},{"$f":"IF(COUNTIF($B$60:$K$61,B23)=1,HLOOKUP(B23,$B$60:$K$61,2,FALSE),IF(COUNTIF($B$62:$K$63,B23)=1,HLOOKUP(B23,$B$62:$K$63,2,FALSE),HLOOKUP(B23,#REF!,2,FALSE)))","v":{"$error":"#REF!"}},{"$f":"IF(COUNTIF($B$68:$K$69,B23)=1,HLOOKUP(B23,$B$68:$K$69,2,FALSE),IF(COUNTIF($B$70:$K$71,B23)=1,HLOOKUP(B23,$B$70:$K$71,2,FALSE),HLOOKUP(B23,#REF!,2,FALSE)))","v":{"$error":"#REF!"}},{"$f":"IF(COUNTIF($B$76:$K$77,B23)=1,HLOOKUP(B23,$B$76:$K$77,2,FALSE),IF(COUNTIF($B$78:$K$79,B23)=1,HLOOKUP(B23,$B$78:$K$79,2,FALSE),HLOOKUP(B23,#REF!,2,FALSE)))","v":{"$error":"#REF!"}},{"$f":"IF(COUNTIF($B$84:$K$85,B23)=1,HLOOKUP(B23,$B$84:$K$85,2,FALSE),IF(COUNTIF($B$86:$K$87,B23)=1,HLOOKUP(B23,$B$86:$K$87,2,FALSE),HLOOKUP(B23,#REF!,2,FALSE)))","v":{"$error":"#REF!"}},{"$f":"IF(COUNTIF($B$92:$K$93,B23)=1,HLOOKUP(B23,$B$92:$K$93,2,FALSE),IF(COUNTIF($B$94:$K$95,B23)=1,HLOOKUP(B23,$B$94:$K$95,2,FALSE),HLOOKUP(B23,#REF!,2,FALSE)))","v":{"$error":"#REF!"}},{"$f":"IF(COUNTIF($B$100:$K$101,B23)=1,HLOOKUP(B23,$B$100:$K$101,2,FALSE),IF(COUNTIF($B$102:$K$103,B23)=1,HLOOKUP(B23,$B$102:$K$103,2,FALSE),HLOOKUP(B23,#REF!,2,FALSE)))","v":{"$error":"#REF!"}},{"$f":"IF(COUNTIF($B$108:$K$109,B23)=1,HLOOKUP(B23,$B$108:$K$109,2,FALSE),IF(COUNTIF($B$110:$K$111,B23)=1,HLOOKUP(B23,$B$110:$K$111,2,FALSE),HLOOKUP(B23,#REF!,2,FALSE)))","v":{"$error":"#REF!"}},{"$f":"IF(COUNTIF($B$116:$K$117,B23)=1,HLOOKUP(B23,$B$116:$K$117,2,FALSE),IF(COUNTIF($B$118:$K$119,B23)=1,HLOOKUP(B23,$B$118:$K$119,2,FALSE),HLOOKUP(B23,#REF!,2,FALSE)))","v":{"$error":"#REF!"}},{"$f":"IF(COUNTIF($B$124:$K$125,B23)=1,HLOOKUP(B23,$B$124:$K$125,2,FALSE),IF(COUNTIF($B$126:$K$127,B23)=1,HLOOKUP(B23,$B$126:$K$127,2,FALSE),HLOOKUP(B23,#REF!,2,FALSE)))","v":{"$error":"#REF!"}},{"$f":"IF(COUNTIF($B$132:$K$133,B23)=1,HLOOKUP(B23,$B$132:$K$133,2,FALSE),IF(COUNTIF($B$134:$K$135,B23)=1,HLOOKUP(B23,$B$134:$K$135,2,FALSE),HLOOKUP(B23,#REF!,2,FALSE)))","v":{"$error":"#REF!"}},{"$f":"IF(COUNTIF($B$140:$K$141,B23)=1,HLOOKUP(B23,$B$140:$K$141,2,FALSE),IF(COUNTIF($B$142:$K$143,B23)=1,HLOOKUP(B23,$B$142:$K$143,2,FALSE),HLOOKUP(B23,#REF!,2,FALSE)))","v":{"$error":"#REF!"}},{"$f":"IF(COUNTIF($B$148:$K$149,B23)=1,HLOOKUP(B23,$B$148:$K$149,2,FALSE),IF(COUNTIF($B$150:$K$151,B23)=1,HLOOKUP(B23,$B$150:$K$151,2,FALSE),HLOOKUP(B23,#REF!,2,FALSE)))","v":{"$error":"#REF!"}},{"$error":"#N/A"},null,{"$error":"#REF!"},{"$error":"#REF!"},{"$f":"COUNTIF($C23:$R23,V$1)","v":0},0,0,0,0,0,0]
[22,"Equipage 22",{"$f":"IF(COUNTIF($B$36:$K$37,B24)=1,HLOOKUP(B24,$B$36:$K$37,2,FALSE),IF(COUNTIF($B$38:$K$39,B24)=1,HLOOKUP(B24,$B$38:$K$39,2,FALSE),HLOOKUP(B24,#REF!,2,FALSE)))","v":{"$error":"#REF!"}},{"$f":"IF(COUNTIF($B$44:$K$45,B24)=1,HLOOKUP(B24,$B$44:$K$45,2,FALSE),IF(COUNTIF($B$46:$K$47,B24)=1,HLOOKUP(B24,$B$46:$K$47,2,FALSE),HLOOKUP(B24,#REF!,2,FALSE)))","v":{"$error":"#REF!"}},{"$f":"IF(COUNTIF($B$52:$K$53,B24)=1,HLOOKUP(B24,$B$52:$K$53,2,FALSE),IF(COUNTIF($B$54:$K$55,B24)=1,HLOOKUP(B24,$B$54:$K$55,2,FALSE),HLOOKUP(B24,#REF!,2,FALSE)))","v":{"$error":"#REF!"}},{"$f":"IF(COUNTIF($B$60:$K$61,B24)=1,HLOOKUP(B24,$B$60:$K$61,2,FALSE),IF(COUNTIF($B$62:$K$63,B24)=1,HLOOKUP(B24,$B$62:$K$63,2,FALSE),HLOOKUP(B24,#REF!,2,FALSE)))","v":{"$error":"#REF!"}},{"$f":"IF(COUNTIF($B$68:$K$69,B24)=1,HLOOKUP(B24,$B$68:$K$69,2,FALSE),IF(COUNTIF($B$70:$K$71,B24)=1,HLOOKUP(B24,$B$70:$K$71,2,FALSE),HLOOKUP(B24,#REF!,2,FALSE)))","v":{"$error":"#REF!"}},{"$f":"IF(COUNTIF($B$76:$K$77,B24)=1,HLOOKUP(B24,$B$76:$K$77,2,FALSE),IF(COUNTIF($B$78:$K$79,B24)=1,HLOOKUP(B24,$B$78:$K$79,2,FALSE),HLOOKUP(B24,#REF!,2,FALSE)))","v":{"$error":"#REF!"}},{"$f":"IF(COUNTIF($B$84:$K$85,B24)=1,HLOOKUP(B24,$B$84:$K$85,2,FALSE),IF(COUNTIF($B$86:$K$87,B24)=1,HLOOKUP(B24,$B$86:$K$87,2,FALSE),HLOOKUP(B24,#REF!,2,FALSE)))","v":{"$error":"#REF!"}},{"$f":"IF(COUNTIF($B$92:$K$93,B24)=1,HLOOKUP(B24,$B$92:$K$93,2,FALSE),IF(COUNTIF($B$94:$K$95,B24)=1,HLOOKUP(B24,$B$94:$K$95,2,FALSE),HLOOKUP(B24,#REF!,2,FALSE)))","v":{"$error":"#REF!"}},{"$f":"IF(COUNTIF($B$100:$K$101,B24)=1,HLOOKUP(B24,$B$100:$K$101,2,FALSE),IF(COUNTIF($B$102:$K$103,B24)=1,HLOOKUP(B24,$B$102:$K$103,2,FALSE),HLOOKUP(B24,#REF!,2,FALSE)))","v":{"$error":"#REF!"}},{"$f":"IF(COUNTIF($B$108:$K$109,B24)=1,HLOOKUP(B24,$B$108:$K$109,2,FALSE),IF(COUNTIF($B$110:$K$111,B24)=1,HLOOKUP(B24,$B$110:$K$111,2,FALSE),HLOOKUP(B24,#REF!,2,FALSE)))","v":{"$error":"#REF!"}},{"$f":"IF(COUNTIF($B$116:$K$117,B24)=1,HLOOKUP(B24,$B$116:$K$117,2,FALSE),IF(COUNTIF($B$118:$K$119,B24)=1,HLOOKUP(B24,$B$118:$K$119,2,FALSE),HLOOKUP(B24,#REF!,2,FALSE)))","v":{"$error":"#REF!"}},{"$f":"IF(COUNTIF($B$124:$K$125,B24)=1,HLOOKUP(B24,$B$124:$K$125,2,FALSE),IF(COUNTIF($B$126:$K$127,B24)=1,HLOOKUP(B24,$B$126:$K$127,2,FALSE),HLOOKUP(B24,#REF!,2,FALSE)))","v":{"$error":"#REF!"}},{"$f":"IF(COUNTIF($B$132:$K$133,B24)=1,HLOOKUP(B24,$B$132:$K$133,2,FALSE),IF(COUNTIF($B$134:$K$135,B24)=1,HLOOKUP(B24,$B$134:$K$135,2,FALSE),HLOOKUP(B24,#REF!,2,FALSE)))","v":{"$error":"#REF!"}},{"$f":"IF(COUNTIF($B$140:$K$141,B24)=1,HLOOKUP(B24,$B$140:$K$141,2,FALSE),IF(COUNTIF($B$142:$K$143,B24)=1,HLOOKUP(B24,$B$142:$K$143,2,FALSE),HLOOKUP(B24,#REF!,2,FALSE)))","v":{"$error":"#REF!"}},{"$f":"IF(COUNTIF($B$148:$K$149,B24)=1,HLOOKUP(B24,$B$148:$K$149,2,FALSE),IF(COUNTIF($B$150:$K$151,B24)=1,HLOOKUP(B24,$B$150:$K$151,2,FALSE),HLOOKUP(B24,#REF!,2,FALSE)))","v":{"$error":"#REF!"}},{"$error":"#N/A"},null,{"$error":"#REF!"},{"$error":"#REF!"},0,0,0,0,0,0,0]
[23,"Equipage 23",{"$f":"IF(COUNTIF($B$36:$K$37,B25)=1,HLOOKUP(B25,$B$36:$K$37,2,FALSE),IF(COUNTIF($B$38:$K$39,B25)=1,HLOOKUP(B25,$B$38:$K$39,2,FALSE),HLOOKUP(B25,#REF!,2,FALSE)))","v":{"$error":"#REF!"}},{"$f":"IF(COUNTIF($B$44:$K$45,B25)=1,HLOOKUP(B25,$B$44:$K$45,2,FALSE),IF(COUNTIF($B$46:$K$47,B25)=1,HLOOKUP(B25,$B$46:$K$47,2,FALSE),HLOOKUP(B25,#REF!,2,FALSE)))","v":{"$error":"#REF!"}},{"$f":"IF(COUNTIF($B$52:$K$53,B25)=1,HLOOKUP(B25,$B$52:$K$53,2,FALSE),IF(COUNTIF($B$54:$K$55,B25)=1,HLOOKUP(B25,$B$54:$K$55,2,FALSE),HLOOKUP(B25,#REF!,2,FALSE)))","v":{"$error":"#REF!"}},{"$f":"IF(COUNTIF($B$60:$K$61,B25)=1,HLOOKUP(B25,$B$60:$K$61,2,FALSE),IF(COUNTIF($B$62:$K$63,B25)=1,HLOOKUP(B25,$B$62:$K$63,2,FALSE),HLOOKUP(B25,#REF!,2,FALSE)))","v":{"$error":"#REF!"}},{"$f":"IF(COUNTIF($B$68:$K$69,B25)=1,HLOOKUP(B25,$B$68:$K$69,2,FALSE),IF(COUNTIF($B$70:$K$71,B25)=1,HLOOKUP(B25,$B$70:$K$71,2,FALSE),HLOOKUP(B25,#REF!,2,FALSE)))","v":{"$error":"#REF!"}},{"$f":"IF(COUNTIF($B$76:$K$77,B25)=1,HLOOKUP(B25,$B$76:$K$77,2,FALSE),IF(COUNTIF($B$78:$K$79,B25)=1,HLOOKUP(B25,$B$78:$K$79,2,FALSE),HLOOKUP(B25,#REF!,2,FALSE)))","v":{"$error":"#REF!"}},{"$f":"IF(COUNTIF($B$84:$K$85,B25)=1,HLOOKUP(B25,$B$84:$K$85,2,FALSE),IF(COUNTIF($B$86:$K$87,B25)=1,HLOOKUP(B25,$B$86:$K$87,2,FALSE),HLOOKUP(B25,#REF!,2,FALSE)))","v":{"$error":"#REF!"}},{"$f":"IF(COUNTIF($B$92:$K$93,B25)=1,HLOOKUP(B25,$B$92:$K$93,2,FALSE),IF(COUNTIF($B$94:$K$95,B25)=1,HLOOKUP(B25,$B$94:$K$95,2,FALSE),HLOOKUP(B25,#REF!,2,FALSE)))","v":{"$error":"#REF!"}},{"$f":"IF(COUNTIF($B$100:$K$101,B25)=1,HLOOKUP(B25,$B$100:$K$101,2,FALSE),IF(COUNTIF($B$102:$K$103,B25)=1,HLOOKUP(B25,$B$102:$K$103,2,FALSE),HLOOKUP(B25,#REF!,2,FALSE)))","v":{"$error":"#REF!"}},{"$f":"IF(COUNTIF($B$108:$K$109,B25)=1,HLOOKUP(B25,$B$108:$K$109,2,FALSE),IF(COUNTIF($B$110:$K$111,B25)=1,HLOOKUP(B25,$B$110:$K$111,2,FALSE),HLOOKUP(B25,#REF!,2,FALSE)))","v":{"$error":"#REF!"}},{"$f":"IF(COUNTIF($B$116:$K$117,B25)=1,HLOOKUP(B25,$B$116:$K$117,2,FALSE),IF(COUNTIF($B$118:$K$119,B25)=1,HLOOKUP(B25,$B$118:$K$119,2,FALSE),HLOOKUP(B25,#REF!,2,FALSE)))","v":{"$error":"#REF!"}},{"$f":"IF(COUNTIF($B$124:$K$125,B25)=1,HLOOKUP(B25,$B$124:$K$125,2,FALSE),IF(COUNTIF($B$126:$K$127,B25)=1,HLOOKUP(B25,$B$126:$K$127,2,FALSE),HLOOKUP(B25,#REF!,2,FALSE)))","v":{"$error":"#REF!"}},{"$f":"IF(COUNTIF($B$132:$K$133,B25)=1,HLOOKUP(B25,$B$132:$K$133,2,FALSE),IF(COUNTIF($B$134:$K$135,B25)=1,HLOOKUP(B25,$B$134:$K$135,2,FALSE),HLOOKUP(B25,#REF!,2,FALSE)))","v":{"$error":"#REF!"}},{"$f":"IF(COUNTIF($B$140:$K$141,B25)=1,HLOOKUP(B25,$B$140:$K$141,2,FALSE),IF(COUNTIF($B$142:$K$143,B25)=1,HLOOKUP(B25,$B$142:$K$143,2,FALSE),HLOOKUP(B25,#REF!,2,FALSE)))","v":{"$error":"#REF!"}},{"$f":"IF(COUNTIF($B$148:$K$149,B25)=1,HLOOKUP(B25,$B$148:$K$149,2,FALSE),IF(COUNTIF($B$150:$K$151,B25)=1,HLOOKUP(B25,$B$150:$K$151,2,FALSE),HLOOKUP(B25,#REF!,2,FALSE)))","v":{"$error":"#REF!"}},{"$error":"#N/A"},null,{"$error":"#REF!"},{"$error":"#REF!"},0,0,0,0,0,0,0]
[24,"Equipage 24",{"$f":"IF(COUNTIF($B$36:$K$37,B26)=1,HLOOKUP(B26,$B$36:$K$37,2,FALSE),IF(COUNTIF($B$38:$K$39,B26)=1,HLOOKUP(B26,$B$38:$K$39,2,FALSE),HLOOKUP(B26,#REF!,2,FALSE)))","v":{"$error":"#REF!"}},{"$f":"IF(COUNTIF($B$44:$K$45,B26)=1,HLOOKUP(B26,$B$44:$K$45,2,FALSE),IF(COUNTIF($B$46:$K$47,B26)=1,HLOOKUP(B26,$B$46:$K$47,2,FALSE),HLOOKUP(B26,#REF!,2,FALSE)))","v":{"$error":"#REF!"}},{"$f":"IF(COUNTIF($B$52:$K$53,B26)=1,HLOOKUP(B26,$B$52:$K$53,2,FALSE),IF(COUNTIF($B$54:$K$55,B26)=1,HLOOKUP(B26,$B$54:$K$55,2,FALSE),HLOOKUP(B26,#REF!,2,FALSE)))","v":{"$error":"#REF!"}},{"$f":"IF(COUNTIF($B$60:$K$61,B26)=1,HLOOKUP(B26,$B$60:$K$61,2,FALSE),IF(COUNTIF($B$62:$K$63,B26)=1,HLOOKUP(B26,$B$62:$K$63,2,FALSE),HLOOKUP(B26,#REF!,2,FALSE)))","v":{"$error":"#REF!"}},{"$f":"IF(COUNTIF($B$68:$K$69,B26)=1,HLOOKUP(B26,$B$68:$K$69,2,FALSE),IF(COUNTIF($B$70:$K$71,B26)=1,HLOOKUP(B26,$B$70:$K$71,2,FALSE),HLOOKUP(B26,#REF!,2,FALSE)))","v":{"$error":"#REF!"}},{"$f":"IF(COUNTIF($B$76:$K$77,B26)=1,HLOOKUP(B26,$B$76:$K$77,2,FALSE),IF(COUNTIF($B$78:$K$79,B26)=1,HLOOKUP(B26,$B$78:$K$79,2,FALSE),HLOOKUP(B26,#REF!,2,FALSE)))","v":{"$error":"#REF!"}},{"$f":"IF(COUNTIF($B$84:$K$85,B26)=1,HLOOKUP(B26,$B$84:$K$85,2,FALSE),IF(COUNTIF($B$86:$K$87,B26)=1,HLOOKUP(B26,$B$86:$K$87,2,FALSE),HLOOKUP(B26,#REF!,2,FALSE)))","v":{"$error":"#REF!"}},{"$f":"IF(COUNTIF($B$92:$K$93,B26)=1,HLOOKUP(B26,$B$92:$K$93,2,FALSE),IF(COUNTIF($B$94:$K$95,B26)=1,HLOOKUP(B26,$B$94:$K$95,2,FALSE),HLOOKUP(B26,#REF!,2,FALSE)))","v":{"$error":"#REF!"}},{"$f":"IF(COUNTIF($B$100:$K$101,B26)=1,HLOOKUP(B26,$B$100:$K$101,2,FALSE),IF(COUNTIF($B$102:$K$103,B26)=1,HLOOKUP(B26,$B$102:$K$103,2,FALSE),HLOOKUP(B26,#REF!,2,FALSE)))","v":{"$error":"#REF!"}},{"$f":"IF(COUNTIF($B$108:$K$109,B26)=1,HLOOKUP(B26,$B$108:$K$109,2,FALSE),IF(COUNTIF($B$110:$K$111,B26)=1,HLOOKUP(B26,$B$110:$K$111,2,FALSE),HLOOKUP(B26,#REF!,2,FALSE)))","v":{"$error":"#REF!"}},{"$f":"IF(COUNTIF($B$116:$K$117,B26)=1,HLOOKUP(B26,$B$116:$K$117,2,FALSE),IF(COUNTIF($B$118:$K$119,B26)=1,HLOOKUP(B26,$B$118:$K$119,2,FALSE),HLOOKUP(B26,#REF!,2,FALSE)))","v":{"$error":"#REF!"}},{"$f":"IF(COUNTIF($B$124:$K$125,B26)=1,HLOOKUP(B26,$B$124:$K$125,2,FALSE),IF(COUNTIF($B$126:$K$127,B26)=1,HLOOKUP(B26,$B$126:$K$127,2,FALSE),HLOOKUP(B26,#REF!,2,FALSE)))","v":{"$error":"#REF!"}},{"$f":"IF(COUNTIF($B$132:$K$133,B26)=1,HLOOKUP(B26,$B$132:$K$133,2,FALSE),IF(COUNTIF($B$134:$K$135,B26)=1,HLOOKUP(B26,$B$134:$K$135,2,FALSE),HLOOKUP(B26,#REF!,2,FALSE)))","v":{"$error":"#REF!"}},{"$f":"IF(COUNTIF($B$140:$K$141,B26)=1,HLOOKUP(B26,$B$140:$K$141,2,FALSE),IF(COUNTIF($B$142:$K$143,B26)=1,HLOOKUP(B26,$B$142:$K$143,2,FALSE),HLOOKUP(B26,#REF!,2,FALSE)))","v":{"$error":"#REF!"}},{"$f":"IF(COUNTIF($B$148:$K$149,B26)=1,HLOOKUP(B26,$B$148:$K$149,2,FALSE),IF(COUNTIF($B$150:$K$151,B26)=1,HLOOKUP(B26,$B$150:$K$151,2,FALSE),HLOOKUP(B26,#REF!,2,FALSE)))","v":{"$error":"#REF!"}},{"$error":"#N/A"},null,{"$error":"#REF!"},{"$error":"#REF!"},0,0,0,0,0,0,0]
[25,"Equipage 25",{"$f":"IF(COUNTIF($B$36:$K$37,B27)=1,HLOOKUP(B27,$B$36:$K$37,2,FALSE),IF(COUNTIF($B$38:$K$39,B27)=1,HLOOKUP(B27,$B$38:$K$39,2,FALSE),HLOOKUP(B27,#REF!,2,FALSE)))","v":{"$error":"#REF!"}},{"$f":"IF(COUNTIF($B$44:$K$45,B27)=1,HLOOKUP(B27,$B$44:$K$45,2,FALSE),IF(COUNTIF($B$46:$K$47,B27)=1,HLOOKUP(B27,$B$46:$K$47,2,FALSE),HLOOKUP(B27,#REF!,2,FALSE)))","v":{"$error":"#REF!"}},{"$f":"IF(COUNTIF($B$52:$K$53,B27)=1,HLOOKUP(B27,$B$52:$K$53,2,FALSE),IF(COUNTIF($B$54:$K$55,B27)=1,HLOOKUP(B27,$B$54:$K$55,2,FALSE),HLOOKUP(B27,#REF!,2,FALSE)))","v":{"$error":"#REF!"}},{"$f":"IF(COUNTIF($B$60:$K$61,B27)=1,HLOOKUP(B27,$B$60:$K$61,2,FALSE),IF(COUNTIF($B$62:$K$63,B27)=1,HLOOKUP(B27,$B$62:$K$63,2,FALSE),HLOOKUP(B27,#REF!,2,FALSE)))","v":{"$error":"#REF!"}},{"$f":"IF(COUNTIF($B$68:$K$69,B27)=1,HLOOKUP(B27,$B$68:$K$69,2,FALSE),IF(COUNTIF($B$70:$K$71,B27)=1,HLOOKUP(B27,$B$70:$K$71,2,FALSE),HLOOKUP(B27,#REF!,2,FALSE)))","v":{"$error":"#REF!"}},{"$f":"IF(COUNTIF($B$76:$K$77,B27)=1,HLOOKUP(B27,$B$76:$K$77,2,FALSE),IF(COUNTIF($B$78:$K$79,B27)=1,HLOOKUP(B27,$B$78:$K$79,2,FALSE),HLOOKUP(B27,#REF!,2,FALSE)))","v":{"$error":"#REF!"}},{"$f":"IF(COUNTIF($B$84:$K$85,B27)=1,HLOOKUP(B27,$B$84:$K$85,2,FALSE),IF(COUNTIF($B$86:$K$87,B27)=1,HLOOKUP(B27,$B$86:$K$87,2,FALSE),HLOOKUP(B27,#REF!,2,FALSE)))","v":{"$error":"#REF!"}},{"$f":"IF(COUNTIF($B$92:$K$93,B27)=1,HLOOKUP(B27,$B$92:$K$93,2,FALSE),IF(COUNTIF($B$94:$K$95,B27)=1,HLOOKUP(B27,$B$94:$K$95,2,FALSE),HLOOKUP(B27,#REF!,2,FALSE)))","v":{"$error":"#REF!"}},{"$f":"IF(COUNTIF($B$100:$K$101,B27)=1,HLOOKUP(B27,$B$100:$K$101,2,FALSE),IF(COUNTIF($B$102:$K$103,B27)=1,HLOOKUP(B27,$B$102:$K$103,2,FALSE),HLOOKUP(B27,#REF!,2,FALSE)))","v":{"$error":"#REF!"}},{"$f":"IF(COUNTIF($B$108:$K$109,B27)=1,HLOOKUP(B27,$B$108:$K$109,2,FALSE),IF(COUNTIF($B$110:$K$111,B27)=1,HLOOKUP(B27,$B$110:$K$111,2,FALSE),HLOOKUP(B27,#REF!,2,FALSE)))","v":{"$error":"#REF!"}},{"$f":"IF(COUNTIF($B$116:$K$117,B27)=1,HLOOKUP(B27,$B$116:$K$117,2,FALSE),IF(COUNTIF($B$118:$K$119,B27)=1,HLOOKUP(B27,$B$118:$K$119,2,FALSE),HLOOKUP(B27,#REF!,2,FALSE)))","v":{"$error":"#REF!"}},{"$f":"IF(COUNTIF($B$124:$K$125,B27)=1,HLOOKUP(B27,$B$124:$K$125,2,FALSE),IF(COUNTIF($B$126:$K$127,B27)=1,HLOOKUP(B27,$B$126:$K$127,2,FALSE),HLOOKUP(B27,#REF!,2,FALSE)))","v":{"$error":"#REF!"}},{"$f":"IF(COUNTIF($B$132:$K$133,B27)=1,HLOOKUP(B27,$B$132:$K$133,2,FALSE),IF(COUNTIF($B$134:$K$135,B27)=1,HLOOKUP(B27,$B$134:$K$135,2,FALSE),HLOOKUP(B27,#REF!,2,FALSE)))","v":{"$error":"#REF!"}},{"$f":"IF(COUNTIF($B$140:$K$141,B27)=1,HLOOKUP(B27,$B$140:$K$141,2,FALSE),IF(COUNTIF($B$142:$K$143,B27)=1,HLOOKUP(B27,$B$142:$K$143,2,FALSE),HLOOKUP(B27,#REF!,2,FALSE)))","v":{"$error":"#REF!"}},{"$f":"IF(COUNTIF($B$148:$K$149,B27)=1,HLOOKUP(B27,$B$148:$K$149,2,FALSE),IF(COUNTIF($B$150:$K$151,B27)=1,HLOOKUP(B27,$B$150:$K$151,2,FALSE),HLOOKUP(B27,#REF!,2,FALSE)))","v":{"$error":"#REF!"}},{"$error":"#N/A"},null,{"$error":"#REF!"},{"$error":"#REF!"},0,0,0,0,0,0,0]
[26,"Equipage 26",{"$f":"IF(COUNTIF($B$36:$K$37,B28)=1,HLOOKUP(B28,$B$36:$K$37,2,FALSE),IF(COUNTIF($B$38:$K$39,B28)=1,HLOOKUP(B28,$B$38:$K$39,2,FALSE),HLOOKUP(B28,#REF!,2,FALSE)))","v":{"$error":"#REF!"}},{"$f":"IF(COUNTIF($B$44:$K$45,B28)=1,HLOOKUP(B28,$B$44:$K$45,2,FALSE),IF(COUNTIF($B$46:$K$47,B28)=1,HLOOKUP(B28,$B$46:$K$47,2,FALSE),HLOOKUP(B28,#REF!,2,FALSE)))","v":{"$error":"#REF!"}},{"$f":"IF(COUNTIF($B$52:$K$53,B28)=1,HLOOKUP(B28,$B$52:$K$53,2,FALSE),IF(COUNTIF($B$54:$K$55,B28)=1,HLOOKUP(B28,$B$54:$K$55,2,FALSE),HLOOKUP(B28,#REF!,2,FALSE)))","v":{"$error":"#REF!"}},{"$f":"IF(COUNTIF($B$60:$K$61,B28)=1,HLOOKUP(B28,$B$60:$K$61,2,FALSE),IF(COUNTIF($B$62:$K$63,B28)=1,HLOOKUP(B28,$B$62:$K$63,2,FALSE),HLOOKUP(B28,#REF!,2,FALSE)))","v":{"$error":"#REF!"}},{"$f":"IF(COUNTIF($B$68:$K$69,B28)=1,HLOOKUP(B28,$B$68:$K$69,2,FALSE),IF(COUNTIF($B$70:$K$71,B28)=1,HLOOKUP(B28,$B$70:$K$71,2,FALSE),HLOOKUP(B28,#REF!,2,FALSE)))","v":{"$error":"#REF!"}},{"$f":"IF(COUNTIF($B$76:$K$77,B28)=1,HLOOKUP(B28,$B$76:$K$77,2,FALSE),IF(COUNTIF($B$78:$K$79,B28)=1,HLOOKUP(B28,$B$78:$K$79,2,FALSE),HLOOKUP(B28,#REF!,2,FALSE)))","v":{"$error":"#REF!"}},{"$f":"IF(COUNTIF($B$84:$K$85,B28)=1,HLOOKUP(B28,$B$84:$K$85,2,FALSE),IF(COUNTIF($B$86:$K$87,B28)=1,HLOOKUP(B28,$B$86:$K$87,2,FALSE),HLOOKUP(B28,#REF!,2,FALSE)))","v":{"$error":"#REF!"}},{"$f":"IF(COUNTIF($B$92:$K$93,B28)=1,HLOOKUP(B28,$B$92:$K$93,2,FALSE),IF(COUNTIF($B$94:$K$95,B28)=1,HLOOKUP(B28,$B$94:$K$95,2,FALSE),HLOOKUP(B28,#REF!,2,FALSE)))","v":{"$error":"#REF!"}},{"$f":"IF(COUNTIF($B$100:$K$101,B28)=1,HLOOKUP(B28,$B$100:$K$101,2,FALSE),IF(COUNTIF($B$102:$K$103,B28)=1,HLOOKUP(B28,$B$102:$K$103,2,FALSE),HLOOKUP(B28,#REF!,2,FALSE)))","v":{"$error":"#REF!"}},{"$f":"IF(COUNTIF($B$108:$K$109,B28)=1,HLOOKUP(B28,$B$108:$K$109,2,FALSE),IF(COUNTIF($B$110:$K$111,B28)=1,HLOOKUP(B28,$B$110:$K$111,2,FALSE),HLOOKUP(B28,#REF!,2,FALSE)))","v":{"$error":"#REF!"}},{"$f":"IF(COUNTIF($B$116:$K$117,B28)=1,HLOOKUP(B28,$B$116:$K$117,2,FALSE),IF(COUNTIF($B$118:$K$119,B28)=1,HLOOKUP(B28,$B$118:$K$119,2,FALSE),HLOOKUP(B28,#REF!,2,FALSE)))","v":{"$error":"#REF!"}},{"$f":"IF(COUNTIF($B$124:$K$125,B28)=1,HLOOKUP(B28,$B$124:$K$125,2,FALSE),IF(COUNTIF($B$126:$K$127,B28)=1,HLOOKUP(B28,$B$126:$K$127,2,FALSE),HLOOKUP(B28,#REF!,2,FALSE)))","v":{"$error":"#REF!"}},{"$f":"IF(COUNTIF($B$132:$K$133,B28)=1,HLOOKUP(B28,$B$132:$K$133,2,FALSE),IF(COUNTIF($B$134:$K$135,B28)=1,HLOOKUP(B28,$B$134:$K$135,2,FALSE),HLOOKUP(B28,#REF!,2,FALSE)))","v":{"$error":"#REF!"}},{"$f":"IF(COUNTIF($B$140:$K$141,B28)=1,HLOOKUP(B28,$B$140:$K$141,2,FALSE),IF(COUNTIF($B$142:$K$143,B28)=1,HLOOKUP(B28,$B$142:$K$143,2,FALSE),HLOOKUP(B28,#REF!,2,FALSE)))","v":{"$error":"#REF!"}},{"$f":"IF(COUNTIF($B$148:$K$149,B28)=1,HLOOKUP(B28,$B$148:$K$149,2,FALSE),IF(COUNTIF($B$150:$K$151,B28)=1,HLOOKUP(B28,$B$150:$K$151,2,FALSE),HLOOKUP(B28,#REF!,2,FALSE)))","v":{"$error":"#REF!"}},{"$error":"#N/A"},null,{"$error":"#REF!"},{"$error":"#REF!"},0,0,0,0,0,0,0]
[27,"Equipage 27",{"$f":"IF(COUNTIF($B$36:$K$37,B29)=1,HLOOKUP(B29,$B$36:$K$37,2,FALSE),IF(COUNTIF($B$38:$K$39,B29)=1,HLOOKUP(B29,$B$38:$K$39,2,FALSE),HLOOKUP(B29,#REF!,2,FALSE)))","v":{"$error":"#REF!"}},{"$f":"IF(COUNTIF($B$44:$K$45,B29)=1,HLOOKUP(B29,$B$44:$K$45,2,FALSE),IF(COUNTIF($B$46:$K$47,B29)=1,HLOOKUP(B29,$B$46:$K$47,2,FALSE),HLOOKUP(B29,#REF!,2,FALSE)))","v":{"$error":"#REF!"}},{"$f":"IF(COUNTIF($B$52:$K$53,B29)=1,HLOOKUP(B29,$B$52:$K$53,2,FALSE),IF(COUNTIF($B$54:$K$55,B29)=1,HLOOKUP(B29,$B$54:$K$55,2,FALSE),HLOOKUP(B29,#REF!,2,FALSE)))","v":{"$error":"#REF!"}},{"$f":"IF(COUNTIF($B$60:$K$61,B29)=1,HLOOKUP(B29,$B$60:$K$61,2,FALSE),IF(COUNTIF($B$62:$K$63,B29)=1,HLOOKUP(B29,$B$62:$K$63,2,FALSE),HLOOKUP(B29,#REF!,2,FALSE)))","v":{"$error":"#REF!"}},{"$f":"IF(COUNTIF($B$68:$K$69,B29)=1,HLOOKUP(B29,$B$68:$K$69,2,FALSE),IF(COUNTIF($B$70:$K$71,B29)=1,HLOOKUP(B29,$B$70:$K$71,2,FALSE),HLOOKUP(B29,#REF!,2,FALSE)))","v":{"$error":"#REF!"}},{"$f":"IF(COUNTIF($B$76:$K$77,B29)=1,HLOOKUP(B29,$B$76:$K$77,2,FALSE),IF(COUNTIF($B$78:$K$79,B29)=1,HLOOKUP(B29,$B$78:$K$79,2,FALSE),HLOOKUP(B29,#REF!,2,FALSE)))","v":{"$error":"#REF!"}},{"$f":"IF(COUNTIF($B$84:$K$85,B29)=1,HLOOKUP(B29,$B$84:$K$85,2,FALSE),IF(COUNTIF($B$86:$K$87,B29)=1,HLOOKUP(B29,$B$86:$K$87,2,FALSE),HLOOKUP(B29,#REF!,2,FALSE)))","v":{"$error":"#REF!"}},{"$f":"IF(COUNTIF($B$92:$K$93,B29)=1,HLOOKUP(B29,$B$92:$K$93,2,FALSE),IF(COUNTIF($B$94:$K$95,B29)=1,HLOOKUP(B29,$B$94:$K$95,2,FALSE),HLOOKUP(B29,#REF!,2,FALSE)))","v":{"$error":"#REF!"}},{"$f":"IF(COUNTIF($B$100:$K$101,B29)=1,HLOOKUP(B29,$B$100:$K$101,2,FALSE),IF(COUNTIF($B$102:$K$103,B29)=1,HLOOKUP(B29,$B$102:$K$103,2,FALSE),HLOOKUP(B29,#REF!,2,FALSE)))","v":{"$error":"#REF!"}},{"$f":"IF(COUNTIF($B$108:$K$109,B29)=1,HLOOKUP(B29,$B$108:$K$109,2,FALSE),IF(COUNTIF($B$110:$K$111,B29)=1,HLOOKUP(B29,$B$110:$K$111,2,FALSE),HLOOKUP(B29,#REF!,2,FALSE)))","v":{"$error":"#REF!"}},{"$f":"IF(COUNTIF($B$116:$K$117,B29)=1,HLOOKUP(B29,$B$116:$K$117,2,FALSE),IF(COUNTIF($B$118:$K$119,B29)=1,HLOOKUP(B29,$B$118:$K$119,2,FALSE),HLOOKUP(B29,#REF!,2,FALSE)))","v":{"$error":"#REF!"}},{"$f":"IF(COUNTIF($B$124:$K$125,B29)=1,HLOOKUP(B29,$B$124:$K$125,2,FALSE),IF(COUNTIF($B$126:$K$127,B29)=1,HLOOKUP(B29,$B$126:$K$127,2,FALSE),HLOOKUP(B29,#REF!,2,FALSE)))","v":{"$error":"#REF!"}},{"$f":"IF(COUNTIF($B$132:$K$133,B29)=1,HLOOKUP(B29,$B$132:$K$133,2,FALSE),IF(COUNTIF($B$134:$K$135,B29)=1,HLOOKUP(B29,$B$134:$K$135,2,FALSE),HLOOKUP(B29,#REF!,2,FALSE)))","v":{"$error":"#REF!"}},{"$f":"IF(COUNTIF($B$140:$K$141,B29)=1,HLOOKUP(B29,$B$140:$K$141,2,FALSE),IF(COUNTIF($B$142:$K$143,B29)=1,HLOOKUP(B29,$B$142:$K$143,2,FALSE),HLOOKUP(B29,#REF!,2,FALSE)))","v":{"$error":"#REF!"}},{"$f":"IF(COUNTIF($B$148:$K$149,B29)=1,HLOOKUP(B29,$B$148:$K$149,2,FALSE),IF(COUNTIF($B$150:$K$151,B29)=1,HLOOKUP(B29,$B$150:$K$151,2,FALSE),HLOOKUP(B29,#REF!,2,FALSE)))","v":{"$error":"#REF!"}},{"$error":"#N/A"},null,{"$error":"#REF!"},{"$error":"#REF!"},0,0,0,0,0,0,0]
[28,"Equipage 28",{"$f":"IF(COUNTIF($B$36:$K$37,B30)=1,HLOOKUP(B30,$B$36:$K$37,2,FALSE),IF(COUNTIF($B$38:$K$39,B30)=1,HLOOKUP(B30,$B$38:$K$39,2,FALSE),HLOOKUP(B30,#REF!,2,FALSE)))","v":{"$error":"#REF!"}},{"$f":"IF(COUNTIF($B$44:$K$45,B30)=1,HLOOKUP(B30,$B$44:$K$45,2,FALSE),IF(COUNTIF($B$46:$K$47,B30)=1,HLOOKUP(B30,$B$46:$K$47,2,FALSE),HLOOKUP(B30,#REF!,2,FALSE)))","v":{"$error":"#REF!"}},{"$f":"IF(COUNTIF($B$52:$K$53,B30)=1,HLOOKUP(B30,$B$52:$K$53,2,FALSE),IF(COUNTIF($B$54:$K$55,B30)=1,HLOOKUP(B30,$B$54:$K$55,2,FALSE),HLOOKUP(B30,#REF!,2,FALSE)))","v":{"$error":"#REF!"}},{"$f":"IF(COUNTIF($B$60:$K$61,B30)=1,HLOOKUP(B30,$B$60:$K$61,2,FALSE),IF(COUNTIF($B$62:$K$63,B30)=1,HLOOKUP(B30,$B$62:$K$63,2,FALSE),HLOOKUP(B30,#REF!,2,FALSE)))","v":{"$error":"#REF!"}},{"$f":"IF(COUNTIF($B$68:$K$69,B30)=1,HLOOKUP(B30,$B$68:$K$69,2,FALSE),IF(COUNTIF($B$70:$K$71,B30)=1,HLOOKUP(B30,$B$70:$K$71,2,FALSE),HLOOKUP(B30,#REF!,2,FALSE)))","v":{"$error":"#REF!"}},{"$f":"IF(COUNTIF($B$76:$K$77,B30)=1,HLOOKUP(B30,$B$76:$K$77,2,FALSE),IF(COUNTIF($B$78:$K$79,B30)=1,HLOOKUP(B30,$B$78:$K$79,2,FALSE),HLOOKUP(B30,#REF!,2,FALSE)))","v":{"$error":"#REF!"}},{"$f":"IF(COUNTIF($B$84:$K$85,B30)=1,HLOOKUP(B30,$B$84:$K$85,2,FALSE),IF(COUNTIF($B$86:$K$87,B30)=1,HLOOKUP(B30,$B$86:$K$87,2,FALSE),HLOOKUP(B30,#REF!,2,FALSE)))","v":{"$error":"#REF!"}},{"$f":"IF(COUNTIF($B$92:$K$93,B30)=1,HLOOKUP(B30,$B$92:$K$93,2,FALSE),IF(COUNTIF($B$94:$K$95,B30)=1,HLOOKUP(B30,$B$94:$K$95,2,FALSE),HLOOKUP(B30,#REF!,2,FALSE)))","v":{"$error":"#REF!"}},{"$f":"IF(COUNTIF($B$100:$K$101,B30)=1,HLOOKUP(B30,$B$100:$K$101,2,FALSE),IF(COUNTIF($B$102:$K$103,B30)=1,HLOOKUP(B30,$B$102:$K$103,2,FALSE),HLOOKUP(B30,#REF!,2,FALSE)))","v":{"$error":"#REF!"}},{"$f":"IF(COUNTIF($B$108:$K$109,B30)=1,HLOOKUP(B30,$B$108:$K$109,2,FALSE),IF(COUNTIF($B$110:$K$111,B30)=1,HLOOKUP(B30,$B$110:$K$111,2,FALSE),HLOOKUP(B30,#REF!,2,FALSE)))","v":{"$error":"#REF!"}},{"$f":"IF(COUNTIF($B$116:$K$117,B30)=1,HLOOKUP(B30,$B$116:$K$117,2,FALSE),IF(COUNTIF($B$118:$K$119,B30)=1,HLOOKUP(B30,$B$118:$K$119,2,FALSE),HLOOKUP(B30,#REF!,2,FALSE)))","v":{"$error":"#REF!"}},{"$f":"IF(COUNTIF($B$124:$K$125,B30)=1,HLOOKUP(B30,$B$124:$K$125,2,FALSE),IF(COUNTIF($B$126:$K$127,B30)=1,HLOOKUP(B30,$B$126:$K$127,2,FALSE),HLOOKUP(B30,#REF!,2,FALSE)))","v":{"$error":"#REF!"}},{"$f":"IF(COUNTIF($B$132:$K$133,B30)=1,HLOOKUP(B30,$B$132:$K$133,2,FALSE),IF(COUNTIF($B$134:$K$135,B30)=1,HLOOKUP(B30,$B$134:$K$135,2,FALSE),HLOOKUP(B30,#REF!,2,FALSE)))","v":{"$error":"#REF!"}},{"$f":"IF(COUNTIF($B$140:$K$141,B30)=1,HLOOKUP(B30,$B$140:$K$141,2,FALSE),IF(COUNTIF($B$142:$K$143,B30)=1,HLOOKUP(B30,$B$142:$K$143,2,FALSE),HLOOKUP(B30,#REF!,2,FALSE)))","v":{"$error":"#REF!"}},{"$f":"IF(COUNTIF($B$148:$K$149,B30)=1,HLOOKUP(B30,$B$148:$K$149,2,FALSE),IF(COUNTIF($B$150:$K$151,B30)=1,HLOOKUP(B30,$B$150:$K$151,2,FALSE),HLOOKUP(B30,#REF!,2,FALSE)))","v":{"$error":"#REF!"}},{"$error":"#N/A"},null,{"$error":"#REF!"},{"$error":"#REF!"},0,0,0,0,0,0,0]
[29,"Equipage 29",{"$f":"IF(COUNTIF($B$36:$K$37,B31)=1,HLOOKUP(B31,$B$36:$K$37,2,FALSE),IF(COUNTIF($B$38:$K$39,B31)=1,HLOOKUP(B31,$B$38:$K$39,2,FALSE),HLOOKUP(B31,#REF!,2,FALSE)))","v":{"$error":"#REF!"}},{"$f":"IF(COUNTIF($B$44:$K$45,B31)=1,HLOOKUP(B31,$B$44:$K$45,2,FALSE),IF(COUNTIF($B$46:$K$47,B31)=1,HLOOKUP(B31,$B$46:$K$47,2,FALSE),HLOOKUP(B31,#REF!,2,FALSE)))","v":{"$error":"#REF!"}},{"$f":"IF(COUNTIF($B$52:$K$53,B31)=1,HLOOKUP(B31,$B$52:$K$53,2,FALSE),IF(COUNTIF($B$54:$K$55,B31)=1,HLOOKUP(B31,$B$54:$K$55,2,FALSE),HLOOKUP(B31,#REF!,2,FALSE)))","v":{"$error":"#REF!"}},{"$f":"IF(COUNTIF($B$60:$K$61,B31)=1,HLOOKUP(B31,$B$60:$K$61,2,FALSE),IF(COUNTIF($B$62:$K$63,B31)=1,HLOOKUP(B31,$B$62:$K$63,2,FALSE),HLOOKUP(B31,#REF!,2,FALSE)))","v":{"$error":"#REF!"}},{"$f":"IF(COUNTIF($B$68:$K$69,B31)=1,HLOOKUP(B31,$B$68:$K$69,2,FALSE),IF(COUNTIF($B$70:$K$71,B31)=1,HLOOKUP(B31,$B$70:$K$71,2,FALSE),HLOOKUP(B31,#REF!,2,FALSE)))","v":{"$error":"#REF!"}},{"$f":"IF(COUNTIF($B$76:$K$77,B31)=1,HLOOKUP(B31,$B$76:$K$77,2,FALSE),IF(COUNTIF($B$78:$K$79,B31)=1,HLOOKUP(B31,$B$78:$K$79,2,FALSE),HLOOKUP(B31,#REF!,2,FALSE)))","v":{"$error":"#REF!"}},{"$f":"IF(COUNTIF($B$84:$K$85,B31)=1,HLOOKUP(B31,$B$84:$K$85,2,FALSE),IF(COUNTIF($B$86:$K$87,B31)=1,HLOOKUP(B31,$B$86:$K$87,2,FALSE),HLOOKUP(B31,#REF!,2,FALSE)))","v":{"$error":"#REF!"}},{"$f":"IF(COUNTIF($B$92:$K$93,B31)=1,HLOOKUP(B31,$B$92:$K$93,2,FALSE),IF(COUNTIF($B$94:$K$95,B31)=1,HLOOKUP(B31,$B$94:$K$95,2,FALSE),HLOOKUP(B31,#REF!,2,FALSE)))","v":{"$error":"#REF!"}},{"$f":"IF(COUNTIF($B$100:$K$101,B31)=1,HLOOKUP(B31,$B$100:$K$101,2,FALSE),IF(COUNTIF($B$102:$K$103,B31)=1,HLOOKUP(B31,$B$102:$K$103,2,FALSE),HLOOKUP(B31,#REF!,2,FALSE)))","v":{"$error":"#REF!"}},{"$f":"IF(COUNTIF($B$108:$K$109,B31)=1,HLOOKUP(B31,$B$108:$K$109,2,FALSE),IF(COUNTIF($B$110:$K$111,B31)=1,HLOOKUP(B31,$B$110:$K$111,2,FALSE),HLOOKUP(B31,#REF!,2,FALSE)))","v":{"$error":"#REF!"}},{"$f":"IF(COUNTIF($B$116:$K$117,B31)=1,HLOOKUP(B31,$B$116:$K$117,2,FALSE),IF(COUNTIF($B$118:$K$119,B31)=1,HLOOKUP(B31,$B$118:$K$119,2,FALSE),HLOOKUP(B31,#REF!,2,FALSE)))","v":{"$error":"#REF!"}},{"$f":"IF(COUNTIF($B$124:$K$125,B31)=1,HLOOKUP(B31,$B$124:$K$125,2,FALSE),IF(COUNTIF($B$126:$K$127,B31)=1,HLOOKUP(B31,$B$126:$K$127,2,FALSE),HLOOKUP(B31,#REF!,2,FALSE)))","v":{"$error":"#REF!"}},{"$f":"IF(COUNTIF($B$132:$K$133,B31)=1,HLOOKUP(B31,$B$132:$K$133,2,FALSE),IF(COUNTIF($B$134:$K$135,B31)=1,HLOOKUP(B31,$B$134:$K$135,2,FALSE),HLOOKUP(B31,#REF!,2,FALSE)))","v":{"$error":"#REF!"}},{"$f":"IF(COUNTIF($B$140:$K$141,B31)=1,HLOOKUP(B31,$B$140:$K$141,2,FALSE),IF(COUNTIF($B$142:$K$143,B31)=1,HLOOKUP(B31,$B$142:$K$143,2,FALSE),HLOOKUP(B31,#REF!,2,FALSE)))","v":{"$error":"#REF!"}},{"$f":"IF(COUNTIF($B$148:$K$149,B31)=1,HLOOKUP(B31,$B$148:$K$149,2,FALSE),IF(COUNTIF($B$150:$K$151,B31)=1,HLOOKUP(B31,$B$150:$K$151,2,FALSE),HLOOKUP(B31,#REF!,2,FALSE)))","v":{"$error":"#REF!"}},{"$error":"#N/A"},null,{"$error":"#REF!"},{"$error":"#REF!"},0,0,0,0,0,0,0]
[30,"Equipage 30",{"$f":"IF(COUNTIF($B$36:$K$37,B32)=1,HLOOKUP(B32,$B$36:$K$37,2,FALSE),IF(COUNTIF($B$38:$K$39,B32)=1,HLOOKUP(B32,$B$38:$K$39,2,FALSE),HLOOKUP(B32,#REF!,2,FALSE)))","v":{"$error":"#REF!"}},{"$f":"IF(COUNTIF($B$44:$K$45,B32)=1,HLOOKUP(B32,$B$44:$K$45,2,FALSE),IF(COUNTIF($B$46:$K$47,B32)=1,HLOOKUP(B32,$B$46:$K$47,2,FALSE),HLOOKUP(B32,#REF!,2,FALSE)))","v":{"$error":"#REF!"}},{"$f":"IF(COUNTIF($B$52:$K$53,B32)=1,HLOOKUP(B32,$B$52:$K$53,2,FALSE),IF(COUNTIF($B$54:$K$55,B32)=1,HLOOKUP(B32,$B$54:$K$55,2,FALSE),HLOOKUP(B32,#REF!,2,FALSE)))","v":{"$error":"#REF!"}},{"$f":"IF(COUNTIF($B$60:$K$61,B32)=1,HLOOKUP(B32,$B$60:$K$61,2,FALSE),IF(COUNTIF($B$62:$K$63,B32)=1,HLOOKUP(B32,$B$62:$K$63,2,FALSE),HLOOKUP(B32,#REF!,2,FALSE)))","v":{"$error":"#REF!"}},{"$f":"IF(COUNTIF($B$68:$K$69,B32)=1,HLOOKUP(B32,$B$68:$K$69,2,FALSE),IF(COUNTIF($B$70:$K$71,B32)=1,HLOOKUP(B32,$B$70:$K$71,2,FALSE),HLOOKUP(B32,#REF!,2,FALSE)))","v":{"$error":"#REF!"}},{"$f":"IF(COUNTIF($B$76:$K$77,B32)=1,HLOOKUP(B32,$B$76:$K$77,2,FALSE),IF(COUNTIF($B$78:$K$79,B32)=1,HLOOKUP(B32,$B$78:$K$79,2,FALSE),HLOOKUP(B32,#REF!,2,FALSE)))","v":{"$error":"#REF!"}},{"$f":"IF(COUNTIF($B$84:$K$85,B32)=1,HLOOKUP(B32,$B$84:$K$85,2,FALSE),IF(COUNTIF($B$86:$K$87,B32)=1,HLOOKUP(B32,$B$86:$K$87,2,FALSE),HLOOKUP(B32,#REF!,2,FALSE)))","v":{"$error":"#REF!"}},{"$f":"IF(COUNTIF($B$92:$K$93,B32)=1,HLOOKUP(B32,$B$92:$K$93,2,FALSE),IF(COUNTIF($B$94:$K$95,B32)=1,HLOOKUP(B32,$B$94:$K$95,2,FALSE),HLOOKUP(B32,#REF!,2,FALSE)))","v":{"$error":"#REF!"}},{"$f":"IF(COUNTIF($B$100:$K$101,B32)=1,HLOOKUP(B32,$B$100:$K$101,2,FALSE),IF(COUNTIF($B$102:$K$103,B32)=1,HLOOKUP(B32,$B$102:$K$103,2,FALSE),HLOOKUP(B32,#REF!,2,FALSE)))","v":{"$error":"#REF!"}},{"$f":"IF(COUNTIF($B$108:$K$109,B32)=1,HLOOKUP(B32,$B$108:$K$109,2,FALSE),IF(COUNTIF($B$110:$K$111,B32)=1,HLOOKUP(B32,$B$110:$K$111,2,FALSE),HLOOKUP(B32,#REF!,2,FALSE)))","v":{"$error":"#REF!"}},{"$f":"IF(COUNTIF($B$116:$K$117,B32)=1,HLOOKUP(B32,$B$116:$K$117,2,FALSE),IF(COUNTIF($B$118:$K$119,B32)=1,HLOOKUP(B32,$B$118:$K$119,2,FALSE),HLOOKUP(B32,#REF!,2,FALSE)))","v":{"$error":"#REF!"}},{"$f":"IF(COUNTIF($B$124:$K$125,B32)=1,HLOOKUP(B32,$B$124:$K$125,2,FALSE),IF(COUNTIF($B$126:$K$127,B32)=1,HLOOKUP(B32,$B$126:$K$127,2,FALSE),HLOOKUP(B32,#REF!,2,FALSE)))","v":{"$error":"#REF!"}},{"$f":"IF(COUNTIF($B$132:$K$133,B32)=1,HLOOKUP(B32,$B$132:$K$133,2,FALSE),IF(COUNTIF($B$134:$K$135,B32)=1,HLOOKUP(B32,$B$134:$K$135,2,FALSE),HLOOKUP(B32,#REF!,2,FALSE)))","v":{"$error":"#REF!"}},{"$f":"IF(COUNTIF($B$140:$K$141,B32)=1,HLOOKUP(B32,$B$140:$K$141,2,FALSE),IF(COUNTIF($B$142:$K$143,B32)=1,HLOOKUP(B32,$B$142:$K$143,2,FALSE),HLOOKUP(B32,#REF!,2,FALSE)))","v":{"$error":"#REF!"}},{"$f":"IF(COUNTIF($B$148:$K$149,B32)=1,HLOOKUP(B32,$B$148:$K$149,2,FALSE),IF(COUNTIF($B$150:$K$151,B32)=1,HLOOKUP(B32,$B$150:$K$151,2,FALSE),HLOOKUP(B32,#REF!,2,FALSE)))","v":{"$error":"#REF!"}},{"$error":"#N/A"},null,{"$error":"#REF!"},{"$error":"#REF!"},0,0,0,0,0,0,0]
[null,null,null,null,null,null,null,null,null,null,null,null,null,null,null,{"$f":"IF(COUNTIF($B$140:$K$141,B33)=1,HLOOKUP(B33,$B$140:$K$141,2,FALSE),IF(COUNTIF($B$142:$K$143,B33)=1,HLOOKUP(B33,$B$142:$K$143,2,FALSE),HLOOKUP(B33,#REF!,2,FALSE)))","v":{"$error":"#REF!"}}]
["Flight 1"]
["Race",{"$f":"'Pairing List calcul'!C1","v":"Boat 1"},{"$f":"'Pairing List calcul'!D1","v":"Boat 2"},{"$f":"'Pairing List calcul'!E1","v":"Boat 3"},{"$f":"'Pairing List calcul'!F1","v":"Boat 4"},{"$f":"'Pairing List calcul'!G1","v":"Boat 5"},{"$f":"'Pairing List calcul'!H1","v":"Boat 6"}]
[1,{"$f":"VLOOKUP(VLOOKUP($A$36,'Pairing List calcul'!$B:$H,COLUMN(),0),$A:$I,2,0)","v":"Equipage 6"},{"$f":"VLOOKUP(VLOOKUP($A$36,'Pairing List calcul'!$B:$H,COLUMN(),0),$A:$I,2,0)","v":"Equipage 7"},{"$f":"VLOOKUP(VLOOKUP($A$36,'Pairing List calcul'!$B:$H,COLUMN(),0),$A:$I,2,0)","v":"Equipage 10"},{"$f":"VLOOKUP(VLOOKUP($A$36,'Pairing List calcul'!$B:$H,COLUMN(),0),$A:$I,2,0)","v":"Equipage 2"},{"$f":"VLOOKUP(VLOOKUP($A$36,'Pairing List calcul'!$B:$H,COLUMN(),0),$A:$I,2,0)","v":"Equipage 11"},{"$f":"VLOOKUP(VLOOKUP($A$36,'Pairing List calcul'!$B:$H,COLUMN(),0),$A:$I,2,0)","v":"Equipage 5"}]
["Place"]
[2,{"$f":"VLOOKUP(VLOOKUP($A$38,'Pairing List calcul'!$B:$H,COLUMN(),0),$A:$O,2,0)","v":"Equipage 9"},{"$f":"VLOOKUP(VLOOKUP($A$38,'Pairing List calcul'!$B:$H,COLUMN(),0),$A:$O,2,0)","v":"Equipage 3"},{"$f":"VLOOKUP(VLOOKUP($A$38,'Pairing List calcul'!$B:$H,COLUMN(),0),$A:$O,2,0)","v":"Equipage 12"},{"$f":"VLOOKUP(VLOOKUP($A$38,'Pairing List calcul'!$B:$H,COLUMN(),0),$A:$O,2,0)","v":"Equipage 4"},{"$f":"VLOOKUP(VLOOKUP($A$38,'Pairing List calcul'!$B:$H,COLUMN(),0),$A:$O,2,0)","v":"Equipage 8"},{"$f":"VLOOKUP(VLOOKUP($A$38,'Pairing List calcul'!$B:$H,COLUMN(),0),$A:$O,2,0)","v":"Equipage 1"}]
["Place"]
[null,{"$f":"VLOOKUP(VLOOKUP($A$40,'Pairing List calcul'!$B:$H,COLUMN(),0),$A:$O,2,0)","v":{"$error":"#N/A"}},{"$f":"VLOOKUP(VLOOKUP($A$40,'Pairing List calcul'!$B:$H,COLUMN(),0),$A:$O,2,0)","v":{"$error":"#N/A"}},{"$f":"VLOOKUP(VLOOKUP($A$40,'Pairing List calcul'!$B:$H,COLUMN(),0),$A:$O,2,0)","v":{"$error":"#N/A"}},{"$f":"VLOOKUP(VLOOKUP($A$40,'Pairing List calcul'!$B:$H,COLUMN(),0),$A:$O,2,0)","v":{"$error":"#N/A"}},{"$f":"VLOOKUP(VLOOKUP($A$40,'Pairing List calcul'!$B:$H,COLUMN(),0),$A:$O,2,0)","v":{"$error":"#N/A"}},{"$f":"VLOOKUP(VLOOKUP($A$40,'Pairing List calcul'!$B:$H,COLUMN(),0),$A:$O,2,0)","v":{"$error":"#N/A"}}]
["Place"]
["Flight 2"]
["Race",{"$f":"B35","v":"Boat 1"},"Boat 2","Boat 3","Boat 4","Boat 5","Boat 6"]
[3,{"$f":"VLOOKUP(VLOOKUP($A$44,'Pairing List calcul'!$B:$H,COLUMN(),0),$A:$O,2,0)","v":"Equipage 7"},{"$f":"VLOOKUP(VLOOKUP($A$44,'Pairing List calcul'!$B:$H,COLUMN(),0),$A:$O,2,0)","v":"Equipage 5"},{"$f":"VLOOKUP(VLOOKUP($A$44,'Pairing List calcul'!$B:$H,COLUMN(),0),$A:$O,2,0)","v":"Equipage 6"},{"$f":"VLOOKUP(VLOOKUP($A$44,'Pairing List calcul'!$B:$H,COLUMN(),0),$A:$O,2,0)","v":"Equipage 4"},{"$f":"VLOOKUP(VLOOKUP($A$44,'Pairing List calcul'!$B:$H,COLUMN(),0),$A:$O,2,0)","v":"Equipage 8"},{"$f":"VLOOKUP(VLOOKUP($A$44,'Pairing List calcul'!$B:$H,COLUMN(),0),$A:$O,2,0)","v":"Equipage 10"}]
["Place"]
[4,{"$f":"VLOOKUP(VLOOKUP($A$46,'Pairing List calcul'!$B:$H,COLUMN(),0),$A:$O,2,0)","v":"Equipage 12"},{"$f":"VLOOKUP(VLOOKUP($A$46,'Pairing List calcul'!$B:$H,COLUMN(),0),$A:$O,2,0)","v":"Equipage 11"},{"$f":"VLOOKUP(VLOOKUP($A$46,'Pairing List calcul'!$B:$H,COLUMN(),0),$A:$O,2,0)","v":"Equipage 3"},{"$f":"VLOOKUP(VLOOKUP($A$46,'Pairing List calcul'!$B:$H,COLUMN(),0),$A:$O,2,0)","v":"Equipage 9"},{"$f":"VLOOKUP(VLOOKUP($A$46,'Pairing List calcul'!$B:$H,COLUMN(),0),$A:$O,2,0)","v":"Equipage 1"},{"$f":"VLOOKUP(VLOOKUP($A$46,'Pairing List calcul'!$B:$H,COLUMN(),0),$A:$O,2,0)","v":"Equipage 2"}]
["Place"]
[null,{"$f":"VLOOKUP(VLOOKUP($A$48,'Pairing List calcul'!$B:$H,COLUMN(),0),$A:$O,2,0)","v":{"$error":"#N/A"}},{"$f":"VLOOKUP(VLOOKUP($A$48,'Pairing List calcul'!$B:$H,COLUMN(),0),$A:$O,2,0)","v":{"$error":"#N/A"}},{"$f":"VLOOKUP(VLOOKUP($A$48,'Pairing List calcul'!$B:$H,COLUMN(),0),$A:$O,2,0)","v":{"$error":"#N/A"}},{"$f":"VLOOKUP(VLOOKUP($A$48,'Pairing List calcul'!$B:$H,COLUMN(),0),$A:$O,2,0)","v":{"$error":"#N/A"}},{"$f":"VLOOKUP(VLOOKUP($A$48,'Pairing List calcul'!$B:$H,COLUMN(),0),$A:$O,2,0)","v":{"$error":"#N/A"}},{"$f":"VLOOKUP(VLOOKUP($A$48,'Pairing List calcul'!$B:$H,COLUMN(),0),$A:$O,2,0)","v":{"$error":"#N/A"}}]
["Place"]
["Flight 3"]
["Race",{"$f":"B35","v":"Boat 1"},"Boat 2","Boat 3","Boat 4","Boat 5","Boat 6"]
[5,{"$f":"VLOOKUP(VLOOKUP($A$52,'Pairing List calcul'!$B:$H,COLUMN(),0),$A:$O,2,0)","v":"Equipage 5"},{"$f":"VLOOKUP(VLOOKUP($A$52,'Pairing List calcul'!$B:$H,COLUMN(),0),$A:$O,2,0)","v":"Equipage 11"},{"$f":"VLOOKUP(VLOOKUP($A$52,'Pairing List calcul'!$B:$H,COLUMN(),0),$A:$O,2,0)","v":"Equipage 8"},{"$f":"VLOOKUP(VLOOKUP($A$52,'Pairing List calcul'!$B:$H,COLUMN(),0),$A:$O,2,0)","v":"Equipage 10"},{"$f":"VLOOKUP(VLOOKUP($A$52,'Pairing List calcul'!$B:$H,COLUMN(),0),$A:$O,2,0)","v":"Equipage 7"},{"$f":"VLOOKUP(VLOOKUP($A$52,'Pairing List calcul'!$B:$H,COLUMN(),0),$A:$O,2,0)","v":"Equipage 2"}]
["Place"]
[6,{"$f":"VLOOKUP(VLOOKUP($A$54,'Pairing List calcul'!$B:$H,COLUMN(),0),$A:$O,2,0)","v":"Equipage 1"},{"$f":"VLOOKUP(VLOOKUP($A$54,'Pairing List calcul'!$B:$H,COLUMN(),0),$A:$O,2,0)","v":"Equipage 3"},{"$f":"VLOOKUP(VLOOKUP($A$54,'Pairing List calcul'!$B:$H,COLUMN(),0),$A:$O,2,0)","v":"Equipage 6"},{"$f":"VLOOKUP(VLOOKUP($A$54,'Pairing List calcul'!$B:$H,COLUMN(),0),$A:$O,2,0)","v":"Equipage 4"},{"$f":"VLOOKUP(VLOOKUP($A$54,'Pairing List calcul'!$B:$H,COLUMN(),0),$A:$O,2,0)","v":"Equipage 12"},{"$f":"VLOOKUP(VLOOKUP($A$54,'Pairing List calcul'!$B:$H,COLUMN(),0),$A:$O,2,0)","v":"Equipage 9"}]
["Place"]
[null,{"$f":"VLOOKUP(VLOOKUP($A$56,'Pairing List calcul'!$B:$H,COLUMN(),0),$A:$O,2,0)","v":{"$error":"#N/A"}},{"$f":"VLOOKUP(VLOOKUP($A$56,'Pairing List calcul'!$B:$H,COLUMN(),0),$A:$O,2,0)","v":{"$error":"#N/A"}},{"$f":"VLOOKUP(VLOOKUP($A$56,'Pairing List calcul'!$B:$H,COLUMN(),0),$A:$O,2,0)","v":{"$error":"#N/A"}},{"$f":"VLOOKUP(VLOOKUP($A$56,'Pairing List calcul'!$B:$H,COLUMN(),0),$A:$O,2,0)","v":{"$error":"#N/A"}},{"$f":"VLOOKUP(VLOOKUP($A$56,'Pairing List calcul'!$B:$H,COLUMN(),0),$A:$O,2,0)","v":{"$error":"#N/A"}},{"$f":"VLOOKUP(VLOOKUP($A$56,'Pairing List calcul'!$B:$H,COLUMN(),0),$A:$O,2,0)","v":{"$error":"#N/A"}}]
["Place"]
["Flight 4"]
["Race",{"$f":"B35","v":"Boat 1"},"Boat 2","Boat 3","Boat 4","Boat 5","Boat 6"]
[7,{"$f":"VLOOKUP(VLOOKUP($A$60,'Pairing List calcul'!$B:$H,COLUMN(),0),$A:$O,2,0)","v":"Equipage 8"},{"$f":"VLOOKUP(VLOOKUP($A$60,'Pairing List calcul'!$B:$H,COLUMN(),0),$A:$O,2,0)","v":"Equipage 3"},{"$f":"VLOOKUP(VLOOKUP($A$60,'Pairing List calcul'!$B:$H,COLUMN(),0),$A:$O,2,0)","v":"Equipage 6"},{"$f":"VLOOKUP(VLOOKUP($A$60,'Pairing List calcul'!$B:$H,COLUMN(),0),$A:$O,2,0)","v":"Equipage 7"},{"$f":"VLOOKUP(VLOOKUP($A$60,'Pairing List calcul'!$B:$H,COLUMN(),0),$A:$O,2,0)","v":"Equipage 2"},{"$f":"VLOOKUP(VLOOKUP($A$60,'Pairing List calcul'!$B:$H,COLUMN(),0),$A:$O,2,0)","v":"Equipage 5"}]
["Place"]
[8,{"$f":"VLOOKUP(VLOOKUP($A$62,'Pairing List calcul'!$B:$H,COLUMN(),0),$A:$O,2,0)","v":"Equipage 4"},{"$f":"VLOOKUP(VLOOKUP($A$62,'Pairing List calcul'!$B:$H,COLUMN(),0),$A:$O,2,0)","v":"Equipage 1"},{"$f":"VLOOKUP(VLOOKUP($A$62,'Pairing List calcul'!$B:$H,COLUMN(),0),$A:$O,2,0)","v":"Equipage 10"},{"$f":"VLOOKUP(VLOOKUP($A$62,'Pairing List calcul'!$B:$H,COLUMN(),0),$A:$O,2,0)","v":"Equipage 11"},{"$f":"VLOOKUP(VLOOKUP($A$62,'Pairing List calcul'!$B:$H,COLUMN(),0),$A:$O,2,0)","v":"Equipage 9"},{"$f":"VLOOKUP(VLOOKUP($A$62,'Pairing List calcul'!$B:$H,COLUMN(),0),$A:$O,2,0)","v":"Equipage 12"}]
["Place"]
[null,{"$f":"VLOOKUP(VLOOKUP($A$64,'Pairing List calcul'!$B:$H,COLUMN(),0),$A:$O,2,0)","v":{"$error":"#N/A"}},{"$f":"VLOOKUP(VLOOKUP($A$64,'Pairing List calcul'!$B:$H,COLUMN(),0),$A:$O,2,0)","v":{"$error":"#N/A"}},{"$f":"VLOOKUP(VLOOKUP($A$64,'Pairing List calcul'!$B:$H,COLUMN(),0),$A:$O,2,0)","v":{"$error":"#N/A"}},{"$f":"VLOOKUP(VLOOKUP($A$64,'Pairing List calcul'!$B:$H,COLUMN(),0),$A:$O,2,0)","v":{"$error":"#N/A"}},{"$f":"VLOOKUP(VLOOKUP($A$64,'Pairing List calcul'!$B:$H,COLUMN(),0),$A:$O,2,0)","v":{"$error":"#N/A"}},{"$f":"VLOOKUP(VLOOKUP($A$64,'Pairing List calcul'!$B:$H,COLUMN(),0),$A:$O,2,0)","v":{"$error":"#N/A"}}]
["Place"]
["Flight 5"]
["Race",{"$f":"B35","v":"Boat 1"},"Boat 2","Boat 3","Boat 4","Boat 5","Boat 6"]
[9,{"$f":"VLOOKUP(VLOOKUP($A$68,'Pairing List calcul'!$B:$H,COLUMN(),0),$A:$O,2,0)","v":"Equipage 8"},{"$f":"VLOOKUP(VLOOKUP($A$68,'Pairing List calcul'!$B:$H,COLUMN(),0),$A:$O,2,0)","v":"Equipage 1"},{"$f":"VLOOKUP(VLOOKUP($A$68,'Pairing List calcul'!$B:$H,COLUMN(),0),$A:$O,2,0)","v":"Equipage 7"},{"$f":"VLOOKUP(VLOOKUP($A$68,'Pairing List calcul'!$B:$H,COLUMN(),0),$A:$O,2,0)","v":"Equipage 3"},{"$f":"VLOOKUP(VLOOKUP($A$68,'Pairing List calcul'!$B:$H,COLUMN(),0),$A:$O,2,0)","v":"Equipage 6"},{"$f":"VLOOKUP(VLOOKUP($A$68,'Pairing List calcul'!$B:$H,COLUMN(),0),$A:$O,2,0)","v":"Equipage 12"}]
["Place"]
[10,{"$f":"VLOOKUP(VLOOKUP($A$70,'Pairing List calcul'!$B:$H,COLUMN(),0),$A:$O,2,0)","v":"Equipage 5"},{"$f":"VLOOKUP(VLOOKUP($A$70,'Pairing List calcul'!$B:$H,COLUMN(),0),$A:$O,2,0)","v":"Equipage 2"},{"$f":"VLOOKUP(VLOOKUP($A$70,'Pairing List calcul'!$B:$H,COLUMN(),0),$A:$O,2,0)","v":"Equipage 9"},{"$f":"VLOOKUP(VLOOKUP($A$70,'Pairing List calcul'!$B:$H,COLUMN(),0),$A:$O,2,0)","v":"Equipage 11"},{"$f":"VLOOKUP(VLOOKUP($A$70,'Pairing List calcul'!$B:$H,COLUMN(),0),$A:$O,2,0)","v":"Equipage 4"},{"$f":"VLOOKUP(VLOOKUP($A$70,'Pairing List calcul'!$B:$H,COLUMN(),0),$A:$O,2,0)","v":"Equipage 10"}]
["Place"]
[null,{"$f":"VLOOKUP(VLOOKUP($A$72,'Pairing List calcul'!$B:$H,COLUMN(),0),$A:$O,2,0)","v":{"$error":"#N/A"}},{"$f":"VLOOKUP(VLOOKUP($A$72,'Pairing List calcul'!$B:$H,COLUMN(),0),$A:$O,2,0)","v":{"$error":"#N/A"}},{"$f":"VLOOKUP(VLOOKUP($A$72,'Pairing List calcul'!$B:$H,COLUMN(),0),$A:$O,2,0)","v":{"$error":"#N/A"}},{"$f":"VLOOKUP(VLOOKUP($A$72,'Pairing List calcul'!$B:$H,COLUMN(),0),$A:$O,2,0)","v":{"$error":"#N/A"}},{"$f":"VLOOKUP(VLOOKUP($A$72,'Pairing List calcul'!$B:$H,COLUMN(),0),$A:$O,2,0)","v":{"$error":"#N/A"}},{"$f":"VLOOKUP(VLOOKUP($A$72,'Pairing List calcul'!$B:$H,COLUMN(),0),$A:$O,2,0)","v":{"$error":"#N/A"}}]
["Place"]
["Flight 6"]
["Race",{"$f":"B35","v":"Boat 1"},"Boat 2","Boat 3","Boat 4","Boat 5","Boat 6"]
[11,{"$f":"VLOOKUP(VLOOKUP($A$76,'Pairing List calcul'!$B:$H,COLUMN(),0),$A:$O,2,0)","v":"Equipage 5"},{"$f":"VLOOKUP(VLOOKUP($A$76,'Pairing List calcul'!$B:$H,COLUMN(),0),$A:$O,2,0)","v":"Equipage 6"},{"$f":"VLOOKUP(VLOOKUP($A$76,'Pairing List calcul'!$B:$H,COLUMN(),0),$A:$O,2,0)","v":"Equipage 9"},{"$f":"VLOOKUP(VLOOKUP($A$76,'Pairing List calcul'!$B:$H,COLUMN(),0),$A:$O,2,0)","v":"Equipage 11"},{"$f":"VLOOKUP(VLOOKUP($A$76,'Pairing List calcul'!$B:$H,COLUMN(),0),$A:$O,2,0)","v":"Equipage 8"},{"$f":"VLOOKUP(VLOOKUP($A$76,'Pairing List calcul'!$B:$H,COLUMN(),0),$A:$O,2,0)","v":"Equipage 7"}]
["Place"]
[12,{"$f":"VLOOKUP(VLOOKUP($A$78,'Pairing List calcul'!$B:$H,COLUMN(),0),$A:$O,2,0)","v":"Equipage 2"},{"$f":"VLOOKUP(VLOOKUP($A$78,'Pairing List calcul'!$B:$H,COLUMN(),0),$A:$O,2,0)","v":"Equipage 4"},{"$f":"VLOOKUP(VLOOKUP($A$78,'Pairing List calcul'!$B:$H,COLUMN(),0),$A:$O,2,0)","v":"Equipage 1"},{"$f":"VLOOKUP(VLOOKUP($A$78,'Pairing List calcul'!$B:$H,COLUMN(),0),$A:$O,2,0)","v":"Equipage 12"},{"$f":"VLOOKUP(VLOOKUP($A$78,'Pairing List calcul'!$B:$H,COLUMN(),0),$A:$O,2,0)","v":"Equipage 10"},{"$f":"VLOOKUP(VLOOKUP($A$78,'Pairing List calcul'!$B:$H,COLUMN(),0),$A:$O,2,0)","v":"Equipage 3"}]
["Place"]
[null,{"$f":"VLOOKUP(VLOOKUP($A$80,'Pairing List calcul'!$B:$H,COLUMN(),0),$A:$O,2,0)","v":{"$error":"#N/A"}},{"$f":"VLOOKUP(VLOOKUP($A$80,'Pairing List calcul'!$B:$H,COLUMN(),0),$A:$O,2,0)","v":{"$error":"#N/A"}},{"$f":"VLOOKUP(VLOOKUP($A$80,'Pairing List calcul'!$B:$H,COLUMN(),0),$A:$O,2,0)","v":{"$error":"#N/A"}},{"$f":"VLOOKUP(VLOOKUP($A$80,'Pairing List calcul'!$B:$H,COLUMN(),0),$A:$O,2,0)","v":{"$error":"#N/A"}},{"$f":"VLOOKUP(VLOOKUP($A$80,'Pairing List calcul'!$B:$H,COLUMN(),0),$A:$O,2,0)","v":{"$error":"#N/A"}},{"$f":"VLOOKUP(VLOOKUP($A$80,'Pairing List calcul'!$B:$H,COLUMN(),0),$A:$O,2,0)","v":{"$error":"#N/A"}}]
["Place"]
["Flight 7"]
["Race",{"$f":"B35","v":"Boat 1"},"Boat 2","Boat 3","Boat 4","Boat 5","Boat 6"]
[13,{"$f":"VLOOKUP(VLOOKUP($A$84,'Pairing List calcul'!$B:$H,COLUMN(),0),$A:$O,2,0)","v":"Equipage 9"},{"$f":"VLOOKUP(VLOOKUP($A$84,'Pairing List calcul'!$B:$H,COLUMN(),0),$A:$O,2,0)","v":"Equipage 4"},{"$f":"VLOOKUP(VLOOKUP($A$84,'Pairing List calcul'!$B:$H,COLUMN(),0),$A:$O,2,0)","v":"Equipage 1"},{"$f":"VLOOKUP(VLOOKUP($A$84,'Pairing List calcul'!$B:$H,COLUMN(),0),$A:$O,2,0)","v":"Equipage 7"},{"$f":"VLOOKUP(VLOOKUP($A$84,'Pairing List calcul'!$B:$H,COLUMN(),0),$A:$O,2,0)","v":"Equipage 6"},{"$f":"VLOOKUP(VLOOKUP($A$84,'Pairing List calcul'!$B:$H,COLUMN(),0),$A:$O,2,0)","v":"Equipage 3"}]
["Place"]
[14,{"$f":"VLOOKUP(VLOOKUP($A$86,'Pairing List calcul'!$B:$H,COLUMN(),0),$A:$O,2,0)","v":"Equipage 8"},{"$f":"VLOOKUP(VLOOKUP($A$86,'Pairing List calcul'!$B:$H,COLUMN(),0),$A:$O,2,0)","v":"Equipage 10"},{"$f":"VLOOKUP(VLOOKUP($A$86,'Pairing List calcul'!$B:$H,COLUMN(),0),$A:$O,2,0)","v":"Equipage 11"},{"$f":"VLOOKUP(VLOOKUP($A$86,'Pairing List calcul'!$B:$H,COLUMN(),0),$A:$O,2,0)","v":"Equipage 12"},{"$f":"VLOOKUP(VLOOKUP($A$86,'Pairing List calcul'!$B:$H,COLUMN(),0),$A:$O,2,0)","v":"Equipage 5"},{"$f":"VLOOKUP(VLOOKUP($A$86,'Pairing List calcul'!$B:$H,COLUMN(),0),$A:$O,2,0)","v":"Equipage 2"}]
["Place"]
[null,{"$f":"VLOOKUP(VLOOKUP($A$88,'Pairing List calcul'!$B:$H,COLUMN(),0),$A:$O,2,0)","v":{"$error":"#N/A"}},{"$f":"VLOOKUP(VLOOKUP($A$88,'Pairing List calcul'!$B:$H,COLUMN(),0),$A:$O,2,0)","v":{"$error":"#N/A"}},{"$f":"VLOOKUP(VLOOKUP($A$88,'Pairing List calcul'!$B:$H,COLUMN(),0),$A:$O,2,0)","v":{"$error":"#N/A"}},{"$f":"VLOOKUP(VLOOKUP($A$88,'Pairing List calcul'!$B:$H,COLUMN(),0),$A:$O,2,0)","v":{"$error":"#N/A"}},{"$f":"VLOOKUP(VLOOKUP($A$88,'Pairing List calcul'!$B:$H,COLUMN(),0),$A:$O,2,0)","v":{"$error":"#N/A"}},{"$f":"VLOOKUP(VLOOKUP($A$88,'Pairing List calcul'!$B:$H,COLUMN(),0),$A:$O,2,0)","v":{"$error":"#N/A"}}]
["Place"]
["Flight 8"]
["Race",{"$f":"B35","v":"Boat 1"},"Boat 2","Boat 3","Boat 4","Boat 5","Boat 6"]
[15,{"$f":"VLOOKUP(VLOOKUP($A$92,'Pairing List calcul'!$B:$H,COLUMN(),0),$A:$O,2,0)","v":"Equipage 3"},{"$f":"VLOOKUP(VLOOKUP($A$92,'Pairing List calcul'!$B:$H,COLUMN(),0),$A:$O,2,0)","v":"Equipage 10"},{"$f":"VLOOKUP(VLOOKUP($A$92,'Pairing List calcul'!$B:$H,COLUMN(),0),$A:$O,2,0)","v":"Equipage 7"},{"$f":"VLOOKUP(VLOOKUP($A$92,'Pairing List calcul'!$B:$H,COLUMN(),0),$A:$O,2,0)","v":"Equipage 9"},{"$f":"VLOOKUP(VLOOKUP($A$92,'Pairing List calcul'!$B:$H,COLUMN(),0),$A:$O,2,0)","v":"Equipage 5"},{"$f":"VLOOKUP(VLOOKUP($A$92,'Pairing List calcul'!$B:$H,COLUMN(),0),$A:$O,2,0)","v":"Equipage 2"}]
["Place"]
[16,{"$f":"VLOOKUP(VLOOKUP($A$94,'Pairing List calcul'!$B:$H,COLUMN(),0),$A:$O,2,0)","v":"Equipage 11"},{"$f":"VLOOKUP(VLOOKUP($A$94,'Pairing List calcul'!$B:$H,COLUMN(),0),$A:$O,2,0)","v":"Equipage 8"},{"$f":"VLOOKUP(VLOOKUP($A$94,'Pairing List calcul'!$B:$H,COLUMN(),0),$A:$O,2,0)","v":"Equipage 4"},{"$f":"VLOOKUP(VLOOKUP($A$94,'Pairing List calcul'!$B:$H,COLUMN(),0),$A:$O,2,0)","v":"Equipage 1"},{"$f":"VLOOKUP(VLOOKUP($A$94,'Pairing List calcul'!$B:$H,COLUMN(),0),$A:$O,2,0)","v":"Equipage 12"},{"$f":"VLOOKUP(VLOOKUP($A$94,'Pairing List calcul'!$B:$H,COLUMN(),0),$A:$O,2,0)","v":"Equipage 6"}]
["Place"]
[null,{"$f":"VLOOKUP(VLOOKUP($A$96,'Pairing List calcul'!$B:$H,COLUMN(),0),$A:$O,2,0)","v":{"$error":"#N/A"}},{"$f":"VLOOKUP(VLOOKUP($A$96,'Pairing List calcul'!$B:$H,COLUMN(),0),$A:$O,2,0)","v":{"$error":"#N/A"}},{"$f":"VLOOKUP(VLOOKUP($A$96,'Pairing List calcul'!$B:$H,COLUMN(),0),$A:$O,2,0)","v":{"$error":"#N/A"}},{"$f":"VLOOKUP(VLOOKUP($A$96,'Pairing List calcul'!$B:$H,COLUMN(),0),$A:$O,2,0)","v":{"$error":"#N/A"}},{"$f":"VLOOKUP(VLOOKUP($A$96,'Pairing List calcul'!$B:$H,COLUMN(),0),$A:$O,2,0)","v":{"$error":"#N/A"}},{"$f":"VLOOKUP(VLOOKUP($A$96,'Pairing List calcul'!$B:$H,COLUMN(),0),$A:$O,2,0)","v":{"$error":"#N/A"}}]
["Place"]
["Flight 9"]
["Race",{"$f":"B35","v":"Boat 1"},"Boat 2","Boat 3","Boat 4","Boat 5","Boat 6"]
[17,{"$f":"VLOOKUP(VLOOKUP($A$100,'Pairing List calcul'!$B:$H,COLUMN(),0),$A:$O,2,0)","v":"Equipage 11"},{"$f":"VLOOKUP(VLOOKUP($A$100,'Pairing List calcul'!$B:$H,COLUMN(),0),$A:$O,2,0)","v":"Equipage 7"},{"$f":"VLOOKUP(VLOOKUP($A$100,'Pairing List calcul'!$B:$H,COLUMN(),0),$A:$O,2,0)","v":"Equipage 4"},{"$f":"VLOOKUP(VLOOKUP($A$100,'Pairing List calcul'!$B:$H,COLUMN(),0),$A:$O,2,0)","v":"Equipage 1"},{"$f":"VLOOKUP(VLOOKUP($A$100,'Pairing List calcul'!$B:$H,COLUMN(),0),$A:$O,2,0)","v":"Equipage 12"},{"$f":"VLOOKUP(VLOOKUP($A$100,'Pairing List calcul'!$B:$H,COLUMN(),0),$A:$O,2,0)","v":"Equipage 9"}]
["Place"]
[18,{"$f":"VLOOKUP(VLOOKUP($A$102,'Pairing List calcul'!$B:$H,COLUMN(),0),$A:$O,2,0)","v":"Equipage 5"},{"$f":"VLOOKUP(VLOOKUP($A$102,'Pairing List calcul'!$B:$H,COLUMN(),0),$A:$O,2,0)","v":"Equipage 8"},{"$f":"VLOOKUP(VLOOKUP($A$102,'Pairing List calcul'!$B:$H,COLUMN(),0),$A:$O,2,0)","v":"Equipage 3"},{"$f":"VLOOKUP(VLOOKUP($A$102,'Pairing List calcul'!$B:$H,COLUMN(),0),$A:$O,2,0)","v":"Equipage 2"},{"$f":"VLOOKUP(VLOOKUP($A$102,'Pairing List calcul'!$B:$H,COLUMN(),0),$A:$O,2,0)","v":"Equipage 10"},{"$f":"VLOOKUP(VLOOKUP($A$102,'Pairing List calcul'!$B:$H,COLUMN(),0),$A:$O,2,0)","v":"Equipage 6"}]
["Place"]
[null,{"$f":"VLOOKUP(VLOOKUP($A$104,'Pairing List calcul'!$B:$H,COLUMN(),0),$A:$O,2,0)","v":{"$error":"#N/A"}},{"$f":"VLOOKUP(VLOOKUP($A$104,'Pairing List calcul'!$B:$H,COLUMN(),0),$A:$O,2,0)","v":{"$error":"#N/A"}},{"$f":"VLOOKUP(VLOOKUP($A$104,'Pairing List calcul'!$B:$H,COLUMN(),0),$A:$O,2,0)","v":{"$error":"#N/A"}},{"$f":"VLOOKUP(VLOOKUP($A$104,'Pairing List calcul'!$B:$H,COLUMN(),0),$A:$O,2,0)","v":{"$error":"#N/A"}},{"$f":"VLOOKUP(VLOOKUP($A$104,'Pairing List calcul'!$B:$H,COLUMN(),0),$A:$O,2,0)","v":{"$error":"#N/A"}},{"$f":"VLOOKUP(VLOOKUP($A$104,'Pairing List calcul'!$B:$H,COLUMN(),0),$A:$O,2,0)","v":{"$error":"#N/A"}}]
["Place"]
["Flight 10"]
["Race",{"$f":"B35","v":"Boat 1"},"Boat 2","Boat 3","Boat 4","Boat 5","Boat 6"]
[19,{"$f":"VLOOKUP(VLOOKUP($A$108,'Pairing List calcul'!$B:$H,COLUMN(),0),$A:$O,2,0)","v":"Equipage 4"},{"$f":"VLOOKUP(VLOOKUP($A$108,'Pairing List calcul'!$B:$H,COLUMN(),0),$A:$O,2,0)","v":"Equipage 8"},{"$f":"VLOOKUP(VLOOKUP($A$108,'Pairing List calcul'!$B:$H,COLUMN(),0),$A:$O,2,0)","v":"Equipage 12"},{"$f":"VLOOKUP(VLOOKUP($A$108,'Pairing List calcul'!$B:$H,COLUMN(),0),$A:$O,2,0)","v":"Equipage 11"},{"$f":"VLOOKUP(VLOOKUP($A$108,'Pairing List calcul'!$B:$H,COLUMN(),0),$A:$O,2,0)","v":"Equipage 10"},{"$f":"VLOOKUP(VLOOKUP($A$108,'Pairing List calcul'!$B:$H,COLUMN(),0),$A:$O,2,0)","v":"Equipage 6"}]
["Place"]
[20,{"$f":"VLOOKUP(VLOOKUP($A$110,'Pairing List calcul'!$B:$H,COLUMN(),0),$A:$O,2,0)","v":"Equipage 1"},{"$f":"VLOOKUP(VLOOKUP($A$110,'Pairing List calcul'!$B:$H,COLUMN(),0),$A:$O,2,0)","v":"Equipage 5"},{"$f":"VLOOKUP(VLOOKUP($A$110,'Pairing List calcul'!$B:$H,COLUMN(),0),$A:$O,2,0)","v":"Equipage 3"},{"$f":"VLOOKUP(VLOOKUP($A$110,'Pairing List calcul'!$B:$H,COLUMN(),0),$A:$O,2,0)","v":"Equipage 2"},{"$f":"VLOOKUP(VLOOKUP($A$110,'Pairing List calcul'!$B:$H,COLUMN(),0),$A:$O,2,0)","v":"Equipage 9"},{"$f":"VLOOKUP(VLOOKUP($A$110,'Pairing List calcul'!$B:$H,COLUMN(),0),$A:$O,2,0)","v":"Equipage 7"}]
["Place"]
[null,{"$f":"VLOOKUP(VLOOKUP($A$112,'Pairing List calcul'!$B:$H,COLUMN(),0),$A:$O,2,0)","v":{"$error":"#N/A"}},{"$f":"VLOOKUP(VLOOKUP($A$112,'Pairing List calcul'!$B:$H,COLUMN(),0),$A:$O,2,0)","v":{"$error":"#N/A"}},{"$f":"VLOOKUP(VLOOKUP($A$112,'Pairing List calcul'!$B:$H,COLUMN(),0),$A:$O,2,0)","v":{"$error":"#N/A"}},{"$f":"VLOOKUP(VLOOKUP($A$112,'Pairing List calcul'!$B:$H,COLUMN(),0),$A:$O,2,0)","v":{"$error":"#N/A"}},{"$f":"VLOOKUP(VLOOKUP($A$112,'Pairing List calcul'!$B:$H,COLUMN(),0),$A:$O,2,0)","v":{"$error":"#N/A"}},{"$f":"VLOOKUP(VLOOKUP($A$112,'Pairing List calcul'!$B:$H,COLUMN(),0),$A:$O,2,0)","v":{"$error":"#N/A"}}]
["Place"]
["Flight 11"]
["Race",{"$f":"B35","v":"Boat 1"},"Boat 2","Boat 3","Boat 4","Boat 5","Boat 6"]
[21,{"$f":"VLOOKUP(VLOOKUP($A$116,'Pairing List calcul'!$B:$H,COLUMN(),0),$A:$O,2,0)","v":"Equipage 6"},{"$f":"VLOOKUP(VLOOKUP($A$116,'Pairing List calcul'!$B:$H,COLUMN(),0),$A:$O,2,0)","v":"Equipage 5"},{"$f":"VLOOKUP(VLOOKUP($A$116,'Pairing List calcul'!$B:$H,COLUMN(),0),$A:$O,2,0)","v":"Equipage 10"},{"$f":"VLOOKUP(VLOOKUP($A$116,'Pairing List calcul'!$B:$H,COLUMN(),0),$A:$O,2,0)","v":"Equipage 12"},{"$f":"VLOOKUP(VLOOKUP($A$116,'Pairing List calcul'!$B:$H,COLUMN(),0),$A:$O,2,0)","v":"Equipage 9"},{"$f":"VLOOKUP(VLOOKUP($A$116,'Pairing List calcul'!$B:$H,COLUMN(),0),$A:$O,2,0)","v":"Equipage 11"}]
["Place"]
[22,{"$f":"VLOOKUP(VLOOKUP($A$118,'Pairing List calcul'!$B:$H,COLUMN(),0),$A:$O,2,0)","v":"Equipage 7"},{"$f":"VLOOKUP(VLOOKUP($A$118,'Pairing List calcul'!$B:$H,COLUMN(),0),$A:$O,2,0)","v":"Equipage 1"},{"$f":"VLOOKUP(VLOOKUP($A$118,'Pairing List calcul'!$B:$H,COLUMN(),0),$A:$O,2,0)","v":"Equipage 2"},{"$f":"VLOOKUP(VLOOKUP($A$118,'Pairing List calcul'!$B:$H,COLUMN(),0),$A:$O,2,0)","v":"Equipage 8"},{"$f":"VLOOKUP(VLOOKUP($A$118,'Pairing List calcul'!$B:$H,COLUMN(),0),$A:$O,2,0)","v":"Equipage 3"},{"$f":"VLOOKUP(VLOOKUP($A$118,'Pairing List calcul'!$B:$H,COLUMN(),0),$A:$O,2,0)","v":"Equipage 4"}]
["Place"]
[null,{"$f":"VLOOKUP(VLOOKUP($A$120,'Pairing List calcul'!$B:$H,COLUMN(),0),$A:$O,2,0)","v":{"$error":"#N/A"}},{"$f":"VLOOKUP(VLOOKUP($A$120,'Pairing List calcul'!$B:$H,COLUMN(),0),$A:$O,2,0)","v":{"$error":"#N/A"}},{"$f":"VLOOKUP(VLOOKUP($A$120,'Pairing List calcul'!$B:$H,COLUMN(),0),$A:$O,2,0)","v":{"$error":"#N/A"}},{"$f":"VLOOKUP(VLOOKUP($A$120,'Pairing List calcul'!$B:$H,COLUMN(),0),$A:$O,2,0)","v":{"$error":"#N/A"}},{"$f":"VLOOKUP(VLOOKUP($A$120,'Pairing List calcul'!$B:$H,COLUMN(),0),$A:$O,2,0)","v":{"$error":"#N/A"}},{"$f":"VLOOKUP(VLOOKUP($A$120,'Pairing List calcul'!$B:$H,COLUMN(),0),$A:$O,2,0)","v":{"$error":"#N/A"}}]
["Place"]
["Flight 12"]
["Race",{"$f":"B35","v":"Boat 1"},"Boat 2","Boat 3","Boat 4","Boat 5","Boat 6"]
[23,{"$f":"VLOOKUP(VLOOKUP($A$124,'Pairing List calcul'!$B:$H,COLUMN(),0),$A:$O,2,0)","v":"Equipage 7"},{"$f":"VLOOKUP(VLOOKUP($A$124,'Pairing List calcul'!$B:$H,COLUMN(),0),$A:$O,2,0)","v":"Equipage 9"},{"$f":"VLOOKUP(VLOOKUP($A$124,'Pairing List calcul'!$B:$H,COLUMN(),0),$A:$O,2,0)","v":"Equipage 2"},{"$f":"VLOOKUP(VLOOKUP($A$124,'Pairing List calcul'!$B:$H,COLUMN(),0),$A:$O,2,0)","v":"Equipage 8"},{"$f":"VLOOKUP(VLOOKUP($A$124,'Pairing List calcul'!$B:$H,COLUMN(),0),$A:$O,2,0)","v":"Equipage 5"},{"$f":"VLOOKUP(VLOOKUP($A$124,'Pairing List calcul'!$B:$H,COLUMN(),0),$A:$O,2,0)","v":"Equipage 4"}]
["Place"]
[24,{"$f":"VLOOKUP(VLOOKUP($A$126,'Pairing List calcul'!$B:$H,COLUMN(),0),$A:$O,2,0)","v":"Equipage 12"},{"$f":"VLOOKUP(VLOOKUP($A$126,'Pairing List calcul'!$B:$H,COLUMN(),0),$A:$O,2,0)","v":"Equipage 10"},{"$f":"VLOOKUP(VLOOKUP($A$126,'Pairing List calcul'!$B:$H,COLUMN(),0),$A:$O,2,0)","v":"Equipage 1"},{"$f":"VLOOKUP(VLOOKUP($A$126,'Pairing List calcul'!$B:$H,COLUMN(),0),$A:$O,2,0)","v":"Equipage 6"},{"$f":"VLOOKUP(VLOOKUP($A$126,'Pairing List calcul'!$B:$H,COLUMN(),0),$A:$O,2,0)","v":"Equipage 11"},{"$f":"VLOOKUP(VLOOKUP($A$126,'Pairing List calcul'!$B:$H,COLUMN(),0),$A:$O,2,0)","v":"Equipage 3"}]
["Place"]
[null,{"$f":"VLOOKUP(VLOOKUP($A$128,'Pairing List calcul'!$B:$H,COLUMN(),0),$A:$O,2,0)","v":{"$error":"#N/A"}},{"$f":"VLOOKUP(VLOOKUP($A$128,'Pairing List calcul'!$B:$H,COLUMN(),0),$A:$O,2,0)","v":{"$error":"#N/A"}},{"$f":"VLOOKUP(VLOOKUP($A$128,'Pairing List calcul'!$B:$H,COLUMN(),0),$A:$O,2,0)","v":{"$error":"#N/A"}},{"$f":"VLOOKUP(VLOOKUP($A$128,'Pairing List calcul'!$B:$H,COLUMN(),0),$A:$O,2,0)","v":{"$error":"#N/A"}},{"$f":"VLOOKUP(VLOOKUP($A$128,'Pairing List calcul'!$B:$H,COLUMN(),0),$A:$O,2,0)","v":{"$error":"#N/A"}},{"$f":"VLOOKUP(VLOOKUP($A$128,'Pairing List calcul'!$B:$H,COLUMN(),0),$A:$O,2,0)","v":{"$error":"#N/A"}}]
["Place"]
["Flight 13"]
["Race",{"$f":"B35","v":"Boat 1"},"Boat 2","Boat 3","Boat 4","Boat 5","Boat 6"]
[25,{"$f":"VLOOKUP(VLOOKUP($A$132,'Pairing List calcul'!$B:$H,COLUMN(),0),$A:$O,2,0)","v":"Equipage 7"},{"$f":"VLOOKUP(VLOOKUP($A$132,'Pairing List calcul'!$B:$H,COLUMN(),0),$A:$O,2,0)","v":"Equipage 10"},{"$f":"VLOOKUP(VLOOKUP($A$132,'Pairing List calcul'!$B:$H,COLUMN(),0),$A:$O,2,0)","v":"Equipage 5"},{"$f":"VLOOKUP(VLOOKUP($A$132,'Pairing List calcul'!$B:$H,COLUMN(),0),$A:$O,2,0)","v":"Equipage 6"},{"$f":"VLOOKUP(VLOOKUP($A$132,'Pairing List calcul'!$B:$H,COLUMN(),0),$A:$O,2,0)","v":"Equipage 11"},{"$f":"VLOOKUP(VLOOKUP($A$132,'Pairing List calcul'!$B:$H,COLUMN(),0),$A:$O,2,0)","v":"Equipage 3"}]
["Place"]
[26,{"$f":"VLOOKUP(VLOOKUP($A$134,'Pairing List calcul'!$B:$H,COLUMN(),0),$A:$O,2,0)","v":"Equipage 9"},{"$f":"VLOOKUP(VLOOKUP($A$134,'Pairing List calcul'!$B:$H,COLUMN(),0),$A:$O,2,0)","v":"Equipage 2"},{"$f":"VLOOKUP(VLOOKUP($A$134,'Pairing List calcul'!$B:$H,COLUMN(),0),$A:$O,2,0)","v":"Equipage 12"},{"$f":"VLOOKUP(VLOOKUP($A$134,'Pairing List calcul'!$B:$H,COLUMN(),0),$A:$O,2,0)","v":"Equipage 1"},{"$f":"VLOOKUP(VLOOKUP($A$134,'Pairing List calcul'!$B:$H,COLUMN(),0),$A:$O,2,0)","v":"Equipage 4"},{"$f":"VLOOKUP(VLOOKUP($A$134,'Pairing List calcul'!$B:$H,COLUMN(),0),$A:$O,2,0)","v":"Equipage 8"}]
["Place"]
[null,{"$f":"VLOOKUP(VLOOKUP($A$136,'Pairing List calcul'!$B:$H,COLUMN(),0),$A:$O,2,0)","v":{"$error":"#N/A"}},{"$f":"VLOOKUP(VLOOKUP($A$136,'Pairing List calcul'!$B:$H,COLUMN(),0),$A:$O,2,0)","v":{"$error":"#N/A"}},{"$f":"VLOOKUP(VLOOKUP($A$136,'Pairing List calcul'!$B:$H,COLUMN(),0),$A:$O,2,0)","v":{"$error":"#N/A"}},{"$f":"VLOOKUP(VLOOKUP($A$136,'Pairing List calcul'!$B:$H,COLUMN(),0),$A:$O,2,0)","v":{"$error":"#N/A"}},{"$f":"VLOOKUP(VLOOKUP($A$136,'Pairing List calcul'!$B:$H,COLUMN(),0),$A:$O,2,0)","v":{"$error":"#N/A"}},{"$f":"VLOOKUP(VLOOKUP($A$136,'Pairing List calcul'!$B:$H,COLUMN(),0),$A:$O,2,0)","v":{"$error":"#N/A"}}]
["Place"]
["Flight 14"]
["Race",{"$f":"B35","v":"Boat 1"},"Boat 2","Boat 3","Boat 4","Boat 5","Boat 6"]
[27,{"$f":"VLOOKUP(VLOOKUP($A$140,'Pairing List calcul'!$B:$H,COLUMN(),0),$A:$O,2,0)","v":"Equipage 6"},{"$f":"VLOOKUP(VLOOKUP($A$140,'Pairing List calcul'!$B:$H,COLUMN(),0),$A:$O,2,0)","v":"Equipage 2"},{"$f":"VLOOKUP(VLOOKUP($A$140,'Pairing List calcul'!$B:$H,COLUMN(),0),$A:$O,2,0)","v":"Equipage 12"},{"$f":"VLOOKUP(VLOOKUP($A$140,'Pairing List calcul'!$B:$H,COLUMN(),0),$A:$O,2,0)","v":"Equipage 7"},{"$f":"VLOOKUP(VLOOKUP($A$140,'Pairing List calcul'!$B:$H,COLUMN(),0),$A:$O,2,0)","v":"Equipage 4"},{"$f":"VLOOKUP(VLOOKUP($A$140,'Pairing List calcul'!$B:$H,COLUMN(),0),$A:$O,2,0)","v":"Equipage 8"}]
["Place"]
[28,{"$f":"VLOOKUP(VLOOKUP($A$142,'Pairing List calcul'!$B:$H,COLUMN(),0),$A:$O,2,0)","v":"Equipage 10"},{"$f":"VLOOKUP(VLOOKUP($A$142,'Pairing List calcul'!$B:$H,COLUMN(),0),$A:$O,2,0)","v":"Equipage 11"},{"$f":"VLOOKUP(VLOOKUP($A$142,'Pairing List calcul'!$B:$H,COLUMN(),0),$A:$O,2,0)","v":"Equipage 5"},{"$f":"VLOOKUP(VLOOKUP($A$142,'Pairing List calcul'!$B:$H,COLUMN(),0),$A:$O,2,0)","v":"Equipage 9"},{"$f":"VLOOKUP(VLOOKUP($A$142,'Pairing List calcul'!$B:$H,COLUMN(),0),$A:$O,2,0)","v":"Equipage 3"},{"$f":"VLOOKUP(VLOOKUP($A$142,'Pairing List calcul'!$B:$H,COLUMN(),0),$A:$O,2,0)","v":"Equipage 1"}]
["Place"]
[null,{"$f":"VLOOKUP(VLOOKUP($A$144,'Pairing List calcul'!$B:$H,COLUMN(),0),$A:$O,2,0)","v":{"$error":"#N/A"}},{"$f":"VLOOKUP(VLOOKUP($A$144,'Pairing List calcul'!$B:$H,COLUMN(),0),$A:$O,2,0)","v":{"$error":"#N/A"}},{"$f":"VLOOKUP(VLOOKUP($A$144,'Pairing List calcul'!$B:$H,COLUMN(),0),$A:$O,2,0)","v":{"$error":"#N/A"}},{"$f":"VLOOKUP(VLOOKUP($A$144,'Pairing List calcul'!$B:$H,COLUMN(),0),$A:$O,2,0)","v":{"$error":"#N/A"}},{"$f":"VLOOKUP(VLOOKUP($A$144,'Pairing List calcul'!$B:$H,COLUMN(),0),$A:$O,2,0)","v":{"$error":"#N/A"}},{"$f":"VLOOKUP(VLOOKUP($A$144,'Pairing List calcul'!$B:$H,COLUMN(),0),$A:$O,2,0)","v":{"$error":"#N/A"}}]
["Place"]
["Flight 15"]
["Race",{"$f":"B35","v":"Boat 1"},"Boat 2","Boat 3","Boat 4","Boat 5","Boat 6"]
[29,{"$f":"VLOOKUP(VLOOKUP($A$148,'Pairing List calcul'!$B:$H,COLUMN(),0),$A:$O,2,0)","v":"Equipage 12"},{"$f":"VLOOKUP(VLOOKUP($A$148,'Pairing List calcul'!$B:$H,COLUMN(),0),$A:$O,2,0)","v":"Equipage 11"},{"$f":"VLOOKUP(VLOOKUP($A$148,'Pairing List calcul'!$B:$H,COLUMN(),0),$A:$O,2,0)","v":"Equipage 5"},{"$f":"VLOOKUP(VLOOKUP($A$148,'Pairing List calcul'!$B:$H,COLUMN(),0),$A:$O,2,0)","v":"Equipage 8"},{"$f":"VLOOKUP(VLOOKUP($A$148,'Pairing List calcul'!$B:$H,COLUMN(),0),$A:$O,2,0)","v":"Equipage 2"},{"$f":"VLOOKUP(VLOOKUP($A$148,'Pairing List calcul'!$B:$H,COLUMN(),0),$A:$O,2,0)","v":"Equipage 4"}]
["Place"]
[30,{"$f":"VLOOKUP(VLOOKUP($A$150,'Pairing List calcul'!$B:$H,COLUMN(),0),$A:$O,2,0)","v":"Equipage 3"},{"$f":"VLOOKUP(VLOOKUP($A$150,'Pairing List calcul'!$B:$H,COLUMN(),0),$A:$O,2,0)","v":"Equipage 9"},{"$f":"VLOOKUP(VLOOKUP($A$150,'Pairing List calcul'!$B:$H,COLUMN(),0),$A:$O,2,0)","v":"Equipage 10"},{"$f":"VLOOKUP(VLOOKUP($A$150,'Pairing List calcul'!$B:$H,COLUMN(),0),$A:$O,2,0)","v":"Equipage 6"},{"$f":"VLOOKUP(VLOOKUP($A$150,'Pairing List calcul'!$B:$H,COLUMN(),0),$A:$O,2,0)","v":"Equipage 7"},{"$f":"VLOOKUP(VLOOKUP($A$150,'Pairing List calcul'!$B:$H,COLUMN(),0),$A:$O,2,0)","v":"Equipage 1"}]
["Place"]
[null,{"$f":"VLOOKUP(VLOOKUP($A$152,'Pairing List calcul'!$B:$H,COLUMN(),0),$A:$O,2,0)","v":{"$error":"#N/A"}},{"$f":"VLOOKUP(VLOOKUP($A$152,'Pairing List calcul'!$B:$H,COLUMN(),0),$A:$O,2,0)","v":{"$error":"#N/A"}},{"$f":"VLOOKUP(VLOOKUP($A$152,'Pairing List calcul'!$B:$H,COLUMN(),0),$A:$O,2,0)","v":{"$error":"#N/A"}},{"$f":"VLOOKUP(VLOOKUP($A$152,'Pairing List calcul'!$B:$H,COLUMN(),0),$A:$O,2,0)","v":{"$error":"#N/A"}},{"$f":"VLOOKUP(VLOOKUP($A$152,'Pairing List calcul'!$B:$H,COLUMN(),0),$A:$O,2,0)","v":{"$error":"#N/A"}},{"$f":"VLOOKUP(VLOOKUP($A$152,'Pairing List calcul'!$B:$H,COLUMN(),0),$A:$O,2,0)","v":{"$error":"#N/A"}}]
["Place"]
["Flight 16"]
["Race",{"$f":"B35","v":"Boat 1"},"Boat 2","Boat 3","Boat 4","Boat 5","Boat 6"]
[31,{"$f":"VLOOKUP(VLOOKUP($A$156,'Pairing List calcul'!$B:$H,COLUMN(),0),$A:$O,2,0)","v":"Equipage 8"},{"$f":"VLOOKUP(VLOOKUP($A$156,'Pairing List calcul'!$B:$H,COLUMN(),0),$A:$O,2,0)","v":"Equipage 12"},{"$f":"VLOOKUP(VLOOKUP($A$156,'Pairing List calcul'!$B:$H,COLUMN(),0),$A:$O,2,0)","v":"Equipage 2"},{"$f":"VLOOKUP(VLOOKUP($A$156,'Pairing List calcul'!$B:$H,COLUMN(),0),$A:$O,2,0)","v":"Equipage 5"},{"$f":"VLOOKUP(VLOOKUP($A$156,'Pairing List calcul'!$B:$H,COLUMN(),0),$A:$O,2,0)","v":"Equipage 7"},{"$f":"VLOOKUP(VLOOKUP($A$156,'Pairing List calcul'!$B:$H,COLUMN(),0),$A:$O,2,0)","v":"Equipage 1"}]
["Place"]
[32,{"$f":"VLOOKUP(VLOOKUP($A$158,'Pairing List calcul'!$B:$H,COLUMN(),0),$A:$O,2,0)","v":"Equipage 4"},{"$f":"VLOOKUP(VLOOKUP($A$158,'Pairing List calcul'!$B:$H,COLUMN(),0),$A:$O,2,0)","v":"Equipage 9"},{"$f":"VLOOKUP(VLOOKUP($A$158,'Pairing List calcul'!$B:$H,COLUMN(),0),$A:$O,2,0)","v":"Equipage 6"},{"$f":"VLOOKUP(VLOOKUP($A$158,'Pairing List calcul'!$B:$H,COLUMN(),0),$A:$O,2,0)","v":"Equipage 10"},{"$f":"VLOOKUP(VLOOKUP($A$158,'Pairing List calcul'!$B:$H,COLUMN(),0),$A:$O,2,0)","v":"Equipage 3"},{"$f":"VLOOKUP(VLOOKUP($A$158,'Pairing List calcul'!$B:$H,COLUMN(),0),$A:$O,2,0)","v":"Equipage 11"}]
["Place"]
["Flight 17"]
["Race",{"$f":"B35","v":"Boat 1"},"Boat 2","Boat 3","Boat 4","Boat 5","Boat 6"]
[33,{"$f":"VLOOKUP(VLOOKUP($A$156,'Pairing List calcul'!$B:$H,COLUMN(),0),$A:$O,2,0)","v":"Equipage 8"},{"$f":"VLOOKUP(VLOOKUP($A$156,'Pairing List calcul'!$B:$H,COLUMN(),0),$A:$O,2,0)","v":"Equipage 12"},{"$f":"VLOOKUP(VLOOKUP($A$156,'Pairing List calcul'!$B:$H,COLUMN(),0),$A:$O,2,0)","v":"Equipage 2"},{"$f":"VLOOKUP(VLOOKUP($A$156,'Pairing List calcul'!$B:$H,COLUMN(),0),$A:$O,2,0)","v":"Equipage 5"},{"$f":"VLOOKUP(VLOOKUP($A$156,'Pairing List calcul'!$B:$H,COLUMN(),0),$A:$O,2,0)","v":"Equipage 7"},{"$f":"VLOOKUP(VLOOKUP($A$156,'Pairing List calcul'!$B:$H,COLUMN(),0),$A:$O,2,0)","v":"Equipage 1"}]
["Place"]
[34,{"$f":"VLOOKUP(VLOOKUP($A$158,'Pairing List calcul'!$B:$H,COLUMN(),0),$A:$O,2,0)","v":"Equipage 4"},{"$f":"VLOOKUP(VLOOKUP($A$158,'Pairing List calcul'!$B:$H,COLUMN(),0),$A:$O,2,0)","v":"Equipage 9"},{"$f":"VLOOKUP(VLOOKUP($A$158,'Pairing List calcul'!$B:$H,COLUMN(),0),$A:$O,2,0)","v":"Equipage 6"},{"$f":"VLOOKUP(VLOOKUP($A$158,'Pairing List calcul'!$B:$H,COLUMN(),0),$A:$O,2,0)","v":"Equipage 10"},{"$f":"VLOOKUP(VLOOKUP($A$158,'Pairing List calcul'!$B:$H,COLUMN(),0),$A:$O,2,0)","v":"Equipage 3"},{"$f":"VLOOKUP(VLOOKUP($A$158,'Pairing List calcul'!$B:$H,COLUMN(),0),$A:$O,2,0)","v":"Equipage 11"}]
["Place"]
["Flight 18"]
["Race",{"$f":"B35","v":"Boat 1"},"Boat 2","Boat 3","Boat 4","Boat 5","Boat 6"]
[35,{"$f":"VLOOKUP(VLOOKUP($A$156,'Pairing List calcul'!$B:$H,COLUMN(),0),$A:$O,2,0)","v":"Equipage 8"},{"$f":"VLOOKUP(VLOOKUP($A$156,'Pairing List calcul'!$B:$H,COLUMN(),0),$A:$O,2,0)","v":"Equipage 12"},{"$f":"VLOOKUP(VLOOKUP($A$156,'Pairing List calcul'!$B:$H,COLUMN(),0),$A:$O,2,0)","v":"Equipage 2"},{"$f":"VLOOKUP(VLOOKUP($A$156,'Pairing List calcul'!$B:$H,COLUMN(),0),$A:$O,2,0)","v":"Equipage 5"},{"$f":"VLOOKUP(VLOOKUP($A$156,'Pairing List calcul'!$B:$H,COLUMN(),0),$A:$O,2,0)","v":"Equipage 7"},{"$f":"VLOOKUP(VLOOKUP($A$156,'Pairing List calcul'!$B:$H,COLUMN(),0),$A:$O,2,0)","v":"Equipage 1"}]
["Place"]
[36,{"$f":"VLOOKUP(VLOOKUP($A$158,'Pairing List calcul'!$B:$H,COLUMN(),0),$A:$O,2,0)","v":"Equipage 4"},{"$f":"VLOOKUP(VLOOKUP($A$158,'Pairing List calcul'!$B:$H,COLUMN(),0),$A:$O,2,0)","v":"Equipage 9"},{"$f":"VLOOKUP(VLOOKUP($A$158,'Pairing List calcul'!$B:$H,COLUMN(),0),$A:$O,2,0)","v":"Equipage 6"},{"$f":"VLOOKUP(VLOOKUP($A$158,'Pairing List calcul'!$B:$H,COLUMN(),0),$A:$O,2,0)","v":"Equipage 10"},{"$f":"VLOOKUP(VLOOKUP($A$158,'Pairing List calcul'!$B:$H,COLUMN(),0),$A:$O,2,0)","v":"Equipage 3"},{"$f":"VLOOKUP(VLOOKUP($A$158,'Pairing List calcul'!$B:$H,COLUMN(),0),$A:$O,2,0)","v":"Equipage 11"}]
["Place"]

{"sheet":"Analyse","index":4,"n_rows":21,"n_cols":15,"rows_kept":21,"cut":false,"hidden":true,"merged":[]}
[null,"Bateaux",1,{"$f":"C1+1","v":2},3,4,5,6,7,8,9,10,11,12]
[null,1,{"$f":"COUNTIF('Pairing List calcul'!$C$2:$C$37,FIXED(C1,0, ))","v":2},{"$f":"COUNTIF('Pairing List calcul'!$C$2:$C$37,FIXED(D1,0, ))","v":3},{"$f":"COUNTIF('Pairing List calcul'!$C$2:$C$37,FIXED(E1,0, ))","v":2},{"$f":"COUNTIF('Pairing List calcul'!$C$2:$C$37,FIXED(F1,0, ))","v":4},{"$f":"COUNTIF('Pairing List calcul'!$C$2:$C$37,FIXED(G1,0, ))","v":4},{"$f":"COUNTIF('Pairing List calcul'!$C$2:$C$37,FIXED(H1,0, ))","v":3},{"$f":"COUNTIF('Pairing List calcul'!$C$2:$C$37,FIXED(I1,0, ))","v":4},{"$f":"COUNTIF('Pairing List calcul'!$C$2:$C$37,FIXED(J1,0, ))","v":4},{"$f":"COUNTIF('Pairing List calcul'!$C$2:$C$37,FIXED(K1,0, ))","v":3},{"$f":"COUNTIF('Pairing List calcul'!$C$2:$C$37,FIXED(L1,0, ))","v":2},{"$f":"COUNTIF('Pairing List calcul'!$C$2:$C$37,FIXED(M1,0, ))","v":2},{"$f":"COUNTIF('Pairing List calcul'!$C$2:$C$37,FIXED(N1,0, ))","v":3}]
[null,{"$f":"B2+1","v":2},{"$f":"COUNTIF('Pairing List calcul'!$D$2:$D$37,FIXED(C1,0, ))","v":3},{"$f":"COUNTIF('Pairing List calcul'!$D$2:$D$37,FIXED(D1,0, ))","v":3},{"$f":"COUNTIF('Pairing List calcul'!$D$2:$D$37,FIXED(E1,0, ))","v":3},{"$f":"COUNTIF('Pairing List calcul'!$D$2:$D$37,FIXED(F1,0, ))","v":2},{"$f":"COUNTIF('Pairing List calcul'!$D$2:$D$37,FIXED(G1,0, ))","v":3},{"$f":"COUNTIF('Pairing List calcul'!$D$2:$D$37,FIXED(H1,0, ))","v":2},{"$f":"COUNTIF('Pairing List calcul'!$D$2:$D$37,FIXED(I1,0, ))","v":4},{"$f":"COUNTIF('Pairing List calcul'!$D$2:$D$37,FIXED(J1,0, ))","v":3},{"$f":"COUNTIF('Pairing List calcul'!$D$2:$D$37,FIXED(K1,0, ))","v":3},{"$f":"COUNTIF('Pairing List calcul'!$D$2:$D$37,FIXED(L1,0, ))","v":4},{"$f":"COUNTIF('Pairing List calcul'!$D$2:$D$37,FIXED(M1,0, ))","v":4},{"$f":"COUNTIF('Pairing List calcul'!$D$2:$D$37,FIXED(N1,0, ))","v":2}]
[null,{"$f":"B3+1","v":3},{"$f":"COUNTIF('Pairing List calcul'!$E$2:$E$37,FIXED(C1,0, ))","v":3},{"$f":"COUNTIF('Pairing List calcul'!$E$2:$E$37,FIXED(D1,0, ))","v":3},{"$f":"COUNTIF('Pairing List calcul'!$E$2:$E$37,FIXED(E1,0, ))","v":3},{"$f":"COUNTIF('Pairing List calcul'!$E$2:$E$37,FIXED(F1,0, ))","v":2},{"$f":"COUNTIF('Pairing List calcul'!$E$2:$E$37,FIXED(G1,0, ))","v":4},{"$f":"COUNTIF('Pairing List calcul'!$E$2:$E$37,FIXED(H1,0, ))","v":4},{"$f":"COUNTIF('Pairing List calcul'!$E$2:$E$37,FIXED(I1,0, ))","v":2},{"$f":"COUNTIF('Pairing List calcul'!$E$2:$E$37,FIXED(J1,0, ))","v":3},{"$f":"COUNTIF('Pairing List calcul'!$E$2:$E$37,FIXED(K1,0, ))","v":2},{"$f":"COUNTIF('Pairing List calcul'!$E$2:$E$37,FIXED(L1,0, ))","v":4},{"$f":"COUNTIF('Pairing List calcul'!$E$2:$E$37,FIXED(M1,0, ))","v":2},{"$f":"COUNTIF('Pairing List calcul'!$E$2:$E$37,FIXED(N1,0, ))","v":4}]
[null,{"$f":"B4+1","v":4},{"$f":"COUNTIF('Pairing List calcul'!$F$2:$F$37,FIXED(C1,0, ))","v":3},{"$f":"COUNTIF('Pairing List calcul'!$F$2:$F$37,FIXED(D1,0, ))","v":3},{"$f":"COUNTIF('Pairing List calcul'!$F$2:$F$37,FIXED(E1,0, ))","v":2},{"$f":"COUNTIF('Pairing List calcul'!$F$2:$F$37,FIXED(F1,0, ))","v":3},{"$f":"COUNTIF('Pairing List calcul'!$F$2:$F$37,FIXED(G1,0, ))","v":2},{"$f":"COUNTIF('Pairing List calcul'!$F$2:$F$37,FIXED(H1,0, ))","v":4},{"$f":"COUNTIF('Pairing List calcul'!$F$2:$F$37,FIXED(I1,0, ))","v":3},{"$f":"COUNTIF('Pairing List calcul'!$F$2:$F$37,FIXED(J1,0, ))","v":3},{"$f":"COUNTIF('Pairing List calcul'!$F$2:$F$37,FIXED(K1,0, ))","v":3},{"$f":"COUNTIF('Pairing List calcul'!$F$2:$F$37,FIXED(L1,0, ))","v":3},{"$f":"COUNTIF('Pairing List calcul'!$F$2:$F$37,FIXED(M1,0, ))","v":4},{"$f":"COUNTIF('Pairing List calcul'!$F$2:$F$37,FIXED(N1,0, ))","v":3}]
[null,{"$f":"B5+1","v":5},{"$f":"COUNTIF('Pairing List calcul'!$G$2:$G$37,FIXED(C1,0, ))","v":3},{"$f":"COUNTIF('Pairing List calcul'!$G$2:$G$37,FIXED(D1,0, ))","v":2},{"$f":"COUNTIF('Pairing List calcul'!$G$2:$G$37,FIXED(E1,0, ))","v":4},{"$f":"COUNTIF('Pairing List calcul'!$G$2:$G$37,FIXED(F1,0, ))","v":4},{"$f":"COUNTIF('Pairing List calcul'!$G$2:$G$37,FIXED(G1,0, ))","v":3},{"$f":"COUNTIF('Pairing List calcul'!$G$2:$G$37,FIXED(H1,0, ))","v":2},{"$f":"COUNTIF('Pairing List calcul'!$G$2:$G$37,FIXED(I1,0, ))","v":3},{"$f":"COUNTIF('Pairing List calcul'!$G$2:$G$37,FIXED(J1,0, ))","v":3},{"$f":"COUNTIF('Pairing List calcul'!$G$2:$G$37,FIXED(K1,0, ))","v":3},{"$f":"COUNTIF('Pairing List calcul'!$G$2:$G$37,FIXED(L1,0, ))","v":3},{"$f":"COUNTIF('Pairing List calcul'!$G$2:$G$37,FIXED(M1,0, ))","v":3},{"$f":"COUNTIF('Pairing List calcul'!$G$2:$G$37,FIXED(N1,0, ))","v":3}]
[null,{"$f":"B6+1","v":6},{"$f":"COUNTIF('Pairing List calcul'!$H$2:$H$37,FIXED(C1,0, ))","v":4},{"$f":"COUNTIF('Pairing List calcul'!$H$2:$H$37,FIXED(D1,0, ))","v":4},{"$f":"COUNTIF('Pairing List calcul'!$H$2:$H$37,FIXED(E1,0, ))","v":4},{"$f":"COUNTIF('Pairing List calcul'!$H$2:$H$37,FIXED(F1,0, ))","v":3},{"$f":"COUNTIF('Pairing List calcul'!$H$2:$H$37,FIXED(G1,0, ))","v":2},{"$f":"COUNTIF('Pairing List calcul'!$H$2:$H$37,FIXED(H1,0, ))","v":3},{"$f":"COUNTIF('Pairing List calcul'!$H$2:$H$37,FIXED(I1,0, ))","v":2},{"$f":"COUNTIF('Pairing List calcul'!$H$2:$H$37,FIXED(J1,0, ))","v":2},{"$f":"COUNTIF('Pairing List calcul'!$H$2:$H$37,FIXED(K1,0, ))","v":4},{"$f":"COUNTIF('Pairing List calcul'!$H$2:$H$37,FIXED(L1,0, ))","v":2},{"$f":"COUNTIF('Pairing List calcul'!$H$2:$H$37,FIXED(M1,0, ))","v":3},{"$f":"COUNTIF('Pairing List calcul'!$H$2:$H$37,FIXED(N1,0, ))","v":3}]
[]
[null,"Equipe",1,{"$f":"C9+1","v":2},3,4,5,6,7,8,9,10,11,12,"Total"]
[null,1,null,{"$f":"Eq.2!W1","v":6},{"$f":"Eq.3!W1","v":11},{"$f":"Eq.4!W1","v":9},{"$f":"Eq.5!W1","v":3},{"$f":"Eq.6!W1","v":6},{"$f":"Eq.7!W1","v":7},{"$f":"Eq.8!W1","v":6},{"$f":"Eq.9!W1","v":10},{"$f":"Eq.10!W1","v":5},{"$f":"Eq.11!W1","v":6},{"$f":"Eq.12!W1","v":11},{"$f":"SUM(C10:N10)","v":80}]
[null,{"$f":"B10+1","v":2},{"$f":"Eq.1!W2","v":6},null,{"$f":"Eq.3!W2","v":7},{"$f":"Eq.4!W2","v":7},{"$f":"Eq.5!W2","v":11},{"$f":"Eq.6!W2","v":4},{"$f":"Eq.7!W2","v":9},{"$f":"Eq.8!W2","v":10},{"$f":"Eq.9!W2","v":6},{"$f":"Eq.10!W2","v":7},{"$f":"Eq.11!W2","v":6},{"$f":"Eq.12!W2","v":7},80]
[null,3,{"$f":"Eq.1!W3","v":11},{"$f":"Eq.2!W3","v":7},null,{"$f":"Eq.4!W3","v":6},{"$f":"Eq.5!W3","v":6},{"$f":"Eq.6!W3","v":9},{"$f":"Eq.7!W3","v":8},{"$f":"Eq.8!W3","v":5},{"$f":"Eq.9!W3","v":9},{"$f":"Eq.10!W3","v":8},{"$f":"Eq.11!W3","v":5},{"$f":"Eq.12!W3","v":6},80]
[null,4,{"$f":"Eq.1!W4","v":9},{"$f":"Eq.2!W4","v":7},{"$f":"Eq.3!W4","v":6},null,{"$f":"Eq.5!W4","v":4},{"$f":"Eq.6!W4","v":7},{"$f":"Eq.7!W4","v":6},{"$f":"Eq.8!W4","v":9},{"$f":"Eq.9!W4","v":9},{"$f":"Eq.10!W4","v":6},{"$f":"Eq.11!W4","v":7},{"$f":"Eq.12!W4","v":10},80]
[null,5,{"$f":"Eq.1!W5","v":3},{"$f":"Eq.2!W5","v":11},{"$f":"Eq.3!W5","v":6},{"$f":"Eq.4!W5","v":4},null,{"$f":"Eq.6!W5","v":7},{"$f":"Eq.7!W5","v":10},{"$f":"Eq.8!W5","v":9},{"$f":"Eq.9!W5","v":7},{"$f":"Eq.10!W5","v":10},{"$f":"Eq.11!W5","v":9},{"$f":"Eq.12!W5","v":4},80]
[null,6,{"$f":"Eq.1!W6","v":6},{"$f":"Eq.2!W6","v":4},{"$f":"Eq.3!W6","v":9},{"$f":"Eq.4!W6","v":7},{"$f":"Eq.5!W6","v":7},null,{"$f":"Eq.7!W6","v":9},{"$f":"Eq.8!W6","v":8},{"$f":"Eq.9!W6","v":6},{"$f":"Eq.10!W6","v":9},{"$f":"Eq.11!W6","v":8},{"$f":"Eq.12!W6","v":7},80]
[null,7,{"$f":"Eq.1!W7","v":7},{"$f":"Eq.2!W7","v":9},{"$f":"Eq.3!W7","v":8},{"$f":"Eq.4!W7","v":6},{"$f":"Eq.5!W7","v":10},{"$f":"Eq.6!W7","v":9},null,{"$f":"Eq.8!W7","v":9},{"$f":"Eq.9!W7","v":7},{"$f":"Eq.10!W7","v":6},{"$f":"Eq.11!W7","v":5},{"$f":"Eq.12!W7","v":4},80]
[null,8,{"$f":"Eq.1!W8","v":6},{"$f":"Eq.2!W8","v":10},{"$f":"Eq.3!W8","v":5},{"$f":"Eq.4!W8","v":9},{"$f":"Eq.5!W8","v":9},{"$f":"Eq.6!W8","v":8},{"$f":"Eq.7!W8","v":9},null,{"$f":"Eq.9!W8","v":4},{"$f":"Eq.10!W8","v":5},{"$f":"Eq.11!W8","v":6},{"$f":"Eq.12!W8","v":9},80]
[null,9,{"$f":"Eq.1!W9","v":10},{"$f":"Eq.2!W9","v":6},{"$f":"Eq.3!W9","v":9},{"$f":"Eq.4!W9","v":9},{"$f":"Eq.5!W9","v":7},{"$f":"Eq.6!W9","v":6},{"$f":"Eq.7!W9","v":7},{"$f":"Eq.8!W9","v":4},null,{"$f":"Eq.10!W9","v":7},{"$f":"Eq.11!W9","v":8},{"$f":"Eq.12!W9","v":7},80]
[null,10,{"$f":"Eq.1!W10","v":5},{"$f":"Eq.2!W10","v":7},{"$f":"Eq.3!W10","v":8},{"$f":"Eq.4!W10","v":6},{"$f":"Eq.5!W10","v":10},{"$f":"Eq.6!W10","v":9},{"$f":"Eq.7!W10","v":6},{"$f":"Eq.8!W10","v":5},{"$f":"Eq.9!W10","v":7},null,{"$f":"Eq.11!W10","v":11},{"$f":"Eq.12!W10","v":6},80]
[null,11,{"$f":"Eq.1!W11","v":6},{"$f":"Eq.2!W11","v":6},{"$f":"Eq.3!W11","v":5},{"$f":"Eq.4!W11","v":7},{"$f":"Eq.5!W11","v":9},{"$f":"Eq.6!W11","v":8},{"$f":"Eq.7!W11","v":5},{"$f":"Eq.8!W11","v":6},{"$f":"Eq.9!W11","v":8},{"$f":"Eq.10!W11","v":11},null,{"$f":"Eq.12!W11","v":9},80]
[null,12,{"$f":"Eq.1!W12","v":11},{"$f":"Eq.2!W12","v":7},{"$f":"Eq.3!W12","v":6},{"$f":"Eq.4!W12","v":10},{"$f":"Eq.5!W12","v":4},{"$f":"Eq.6!W12","v":7},{"$f":"Eq.7!W12","v":4},{"$f":"Eq.8!W12","v":9},{"$f":"Eq.9!W12","v":7},{"$f":"Eq.10!W12","v":6},{"$f":"Eq.11!W12","v":9},null,80]

{"sheet":"Eq.1","index":5,"n_rows":30,"n_cols":23,"rows_kept":30,"cut":false,"hidden":true,"merged":[[17,0,17,1],[16,0,16,1],[15,0,15,1],[0,0,1,5],[0,6,1,10],[3,0,3,1],[4,0,4,1],[5,0,5,1],[14,0,14,1],[7,0,7,1],[8,0,8,1],[9,0,9,1],[10,0,10,1],[11,0,11,1],[12,0,12,1],[13,0,13,1]]}
["Equipage ",null,null,null,null,null,{"$f":"Général!B3","v":"Equipage 1"},null,null,null,null,null,null,null,null,null,null,null,null,null,null,{"$f":"Général!B3","v":"Equipage 1"},{"$f":"COUNTIF(C$8:R$17,V1)","v":16}]
[null,null,null,null,null,null,null,null,null,null,null,null,null,null,null,null,null,null,null,null,null,{"$f":"Général!B4","v":"Equipage 2"},{"$f":"COUNTIF($C$8:$R$17,V2)","v":6}]
[null,null,null,null,null,null,null,null,null,null,null,null,null,null,null,null,null,null,null,null,null,{"$f":"Général!B5","v":"Equipage 3"},{"$f":"COUNTIF($C$8:$R$17,V3)","v":11}]
[null,null,"FLIGHT 1","FLIGHT 2","FLIGHT 3","FLIGHT 4","FLIGHT 5","FLIGHT 6","FLIGHT 7","FLIGHT 8","FLIGHT 9","FLIGHT 10","FLIGHT 11","FLIGHT 12","FLIGHT 13","FLIGHT 14","FLIGHT 15","FLIGHT 16","FLIGHT 17","FLIGHT 18",null,{"$f":"Général!B6","v":"Equipage 4"},{"$f":"COUNTIF($C$8:$R$17,V4)","v":9}]
["N° de course",null,{"$f":"IF(COUNTIF(Général!B36:K36,$G$1)=1,\"Course 1\",IF(COUNTIF(Général!B38:K38,$G$1)=1,\"Course 2\",IF(COUNTIF(Général!#REF!,$G$1)=1,\"Course 3\",\"Course 4\")))","v":"Course 2"},{"$f":"IF(COUNTIF(Général!B44:K44,$G$1)=1,\"Course 1\",IF(COUNTIF(Général!B46:K46,$G$1)=1,\"Course 2\",IF(COUNTIF(Général!#REF!,$G$1)=1,\"Course 3\",\"Course 4\")))","v":"Course 2"},{"$f":"IF(COUNTIF(Général!B52:K52,$G$1)=1,\"Course 1\",IF(COUNTIF(Général!B54:K54,$G$1)=1,\"Course 2\",IF(COUNTIF(Général!#REF!,$G$1)=1,\"Course 3\",\"Course 4\")))","v":"Course 2"},{"$f":"IF(COUNTIF(Général!B60:K60,$G$1)=1,\"Course 1\",IF(COUNTIF(Général!B62:K62,$G$1)=1,\"Course 2\",IF(COUNTIF(Général!#REF!,$G$1)=1,\"Course 3\",\"Course 4\")))","v":"Course 2"},{"$f":"IF(COUNTIF(Général!B68:K68,$G$1)=1,\"Course 1\",IF(COUNTIF(Général!B70:K70,$G$1)=1,\"Course 2\",IF(COUNTIF(Général!#REF!,$G$1)=1,\"Course 3\",\"Course 4\")))","v":"Course 1"},{"$f":"IF(COUNTIF(Général!B76:K76,$G$1)=1,\"Course 1\",IF(COUNTIF(Général!B78:K78,$G$1)=1,\"Course 2\",IF(COUNTIF(Général!#REF!,$G$1)=1,\"Course 3\",\"Course 4\")))","v":"Course 2"},{"$f":"IF(COUNTIF(Général!B84:K84,$G$1)=1,\"Course 1\",IF(COUNTIF(Général!B86:K86,$G$1)=1,\"Course 2\",IF(COUNTIF(Général!#REF!,$G$1)=1,\"Course 3\",\"Course 4\")))","v":"Course 1"},{"$f":"IF(COUNTIF(Général!B92:K92,$G$1)=1,\"Course 1\",IF(COUNTIF(Général!B94:K94,$G$1)=1,\"Course 2\",IF(COUNTIF(Général!#REF!,$G$1)=1,\"Course 3\",\"Course 4\")))","v":"Course 2"},{"$f":"IF(COUNTIF(Général!B100:K100,$G$1)=1,\"Course 1\",IF(COUNTIF(Général!B102:K102,$G$1)=1,\"Course 2\",IF(COUNTIF(Général!#REF!,$G$1)=1,\"Course 3\",\"Course 4\")))","v":"Course 1"},{"$f":"IF(COUNTIF(Général!B108:K108,$G$1)=1,\"Course 1\",IF(COUNTIF(Général!B110:K110,$G$1)=1,\"Course 2\",IF(COUNTIF(Général!#REF!,$G$1)=1,\"Course 3\",\"Course 4\")))","v":"Course 2"},{"$f":"IF(COUNTIF(Général!B116:K116,$G$1)=1,\"Course 1\",IF(COUNTIF(Général!B118:K118,$G$1)=1,\"Course 2\",IF(COUNTIF(Général!#REF!,$G$1)=1,\"Course 3\",\"Course 4\")))","v":"Course 2"},{"$f":"IF(COUNTIF(Général!B124:K124,$G$1)=1,\"Course 1\",IF(COUNTIF(Général!B126:K126,$G$1)=1,\"Course 2\",IF(COUNTIF(Général!#REF!,$G$1)=1,\"Course 3\",\"Course 4\")))","v":"Course 2"},{"$f":"IF(COUNTIF(Général!B132:K132,$G$1)=1,\"Course 1\",IF(COUNTIF(Général!B134:K134,$G$1)=1,\"Course 2\",IF(COUNTIF(Général!#REF!,$G$1)=1,\"Course 3\",\"Course 4\")))","v":"Course 2"},{"$f":"IF(COUNTIF(Général!B140:K140,$G$1)=1,\"Course 1\",IF(COUNTIF(Général!B142:K142,$G$1)=1,\"Course 2\",IF(COUNTIF(Général!#REF!,$G$1)=1,\"Course 3\",\"Course 4\")))","v":"Course 2"},{"$f":"IF(COUNTIF(Général!B148:K148,$G$1)=1,\"Course 1\",IF(COUNTIF(Général!B150:K150,$G$1)=1,\"Course 2\",IF(COUNTIF(Général!#REF!,$G$1)=1,\"Course 3\",\"Course 4\")))","v":"Course 2"},{"$f":"IF(COUNTIF(Général!B156:K156,$G$1)=1,\"Course 1\",IF(COUNTIF(Général!B158:K158,$G$1)=1,\"Course 2\",IF(COUNTIF(Général!B160:K160,$G$1)=1,\"Course 3\",\"Course 4\")))","v":"Course 1"},{"$f":"IF(COUNTIF(Général!C156:L156,$G$1)=1,\"Course 1\",IF(COUNTIF(Général!C158:L158,$G$1)=1,\"Course 2\",IF(COUNTIF(Général!C160:L160,$G$1)=1,\"Course 3\",\"Course 4\")))","v":"Course 1"},{"$f":"IF(COUNTIF(Général!D156:M156,$G$1)=1,\"Course 1\",IF(COUNTIF(Général!D158:M158,$G$1)=1,\"Course 2\",IF(COUNTIF(Général!D160:M160,$G$1)=1,\"Course 3\",\"Course 4\")))","v":"Course 1"},null,{"$f":"Général!B7","v":"Equipage 5"},3]
["Bateau",null,{"$f":"IF(COUNTIF(Général!B36:B40,$G$1)=1,\"Boat 1\",IF(COUNTIF(Général!C36:C40,$G$1)=1,\"Boat 2\",IF(COUNTIF(Général!D36:D40,$G$1)=1,\"Boat 3\",IF(COUNTIF(Général!E36:E40,$G$1)=1,\"Boat 4\",IF(COUNTIF(Général!F36:F40,$G$1)=1,\"Boat 5\",IF(COUNTIF(Général!G36:G40,$G$1)=1,\"Boat 6\",IF(COUNTIF(Général!H36:H40,$G$1)=1,\"Boat 7\",IF(COUNTIF(Général!I36:I40,$G$1)=1,\"Boat 8\",IF(COUNTIF(Général!J36:J40,$G$1)=1,\"Boat 9\",\"Boat10\")))))))))","v":"Boat 6"},{"$f":"IF(COUNTIF(Général!B44:B48,$G$1)=1,\"Boat 1\",IF(COUNTIF(Général!C44:C48,$G$1)=1,\"Boat 2\",IF(COUNTIF(Général!D44:D48,$G$1)=1,\"Boat 3\",IF(COUNTIF(Général!E44:E48,$G$1)=1,\"Boat 4\",IF(COUNTIF(Général!F44:F48,$G$1)=1,\"Boat 5\",IF(COUNTIF(Général!G44:G48,$G$1)=1,\"Boat 6\",IF(COUNTIF(Général!H44:H48,$G$1)=1,\"Boat 7\",IF(COUNTIF(Général!I44:I48,$G$1)=1,\"Boat 8\",IF(COUNTIF(Général!J44:J48,$G$1)=1,\"Boat 9\",\"Boat 10\")))))))))","v":"Boat 5"},{"$f":"IF(COUNTIF(Général!B52:B56,$G$1)=1,\"Boat 1\",IF(COUNTIF(Général!C52:C56,$G$1)=1,\"Boat 2\",IF(COUNTIF(Général!D52:D56,$G$1)=1,\"Boat 3\", IF(COUNTIF(Général!E52:E56,$G$1)=1,\"Boat 4\", IF(COUNTIF(Général!F52:F56,$G$1)=1,\"Boat 5\", IF(COUNTIF(Général!G52:G56,$G$1)=1,\"Boat 6\", IF(COUNTIF(Général!H52:H56,$G$1)=1,\"Boat 7\",IF(COUNTIF(Général!I52:I56,$G$1)=1,\"Boat 8\",IF(COUNTIF(Général!J52:J56,$G$1)=1,\"Boat 9\",\"Boat 10\")))))))))","v":"Boat 1"},{"$f":"IF(COUNTIF(Général!B60:B64,$G$1)=1,\"Boat 1\",IF(COUNTIF(Général!C60:C64,$G$1)=1,\"Boat 2\",IF(COUNTIF(Général!D60:D64,$G$1)=1,\"Boat 3\", IF(COUNTIF(Général!E60:E64,$G$1)=1,\"Boat 4\", IF(COUNTIF(Général!F60:F64,$G$1)=1,\"Boat 5\", IF(COUNTIF(Général!G60:G64,$G$1)=1,\"Boat 6\", IF(COUNTIF(Général!H60:H64,$G$1)=1,\"Boat 7\",IF(COUNTIF(Général!I60:I64,$G$1)=1,\"Boat 8\",IF(COUNTIF(Général!I60:J64,$G$1)=1,\"Boat 9\",\"Boat 10\")))))))))","v":"Boat 2"},{"$f":"IF(COUNTIF(Général!B68:B72,$G$1)=1,\"Boat 1\",IF(COUNTIF(Général!C68:C72,$G$1)=1,\"Boat 2\",IF(COUNTIF(Général!D68:D72,$G$1)=1,\"Boat 3\", IF(COUNTIF(Général!E68:E72,$G$1)=1,\"Boat 4\", IF(COUNTIF(Général!F68:F72,$G$1)=1,\"Boat 5\", IF(COUNTIF(Général!G68:G72,$G$1)=1,\"Boat 6\", IF(COUNTIF(Général!H68:H72,$G$1)=1,\"Boat 7\",IF(COUNTIF(Général!I68:I72,$G$1)=1,\"Boat 8\",IF(COUNTIF(Général!J68:J72,$G$1)=1,\"Boat 9\",\"Boat 10\")))))))))","v":"Boat 2"},{"$f":"IF(COUNTIF(Général!B76:B80,$G$1)=1,\"Boat 1\",IF(COUNTIF(Général!C76:C80,$G$1)=1,\"Boat 2\",IF(COUNTIF(Général!D76:D80,$G$1)=1,\"Boat 3\", IF(COUNTIF(Général!E76:E80,$G$1)=1,\"Boat 4\", IF(COUNTIF(Général!F76:F80,$G$1)=1,\"Boat 5\", IF(COUNTIF(Général!G76:G80,$G$1)=1,\"Boat 6\", IF(COUNTIF(Général!H76:H80,$G$1)=1,\"Boat 7\",IF(COUNTIF(Général!I76:I80,$G$1)=1,\"Boat 8\",IF(COUNTIF(Général!J76:J80,$G$1)=1,\"Boat 9\",\"Boat 10\")))))))))","v":"Boat 3"},{"$f":"IF(COUNTIF(Général!B84:B88,$G$1)=1,\"Boat 1\",IF(COUNTIF(Général!C84:C88,$G$1)=1,\"Boat 2\",IF(COUNTIF(Général!D84:D88,$G$1)=1,\"Boat 3\", IF(COUNTIF(Général!E84:E88,$G$1)=1,\"Boat 4\", IF(COUNTIF(Général!F84:F88,$G$1)=1,\"Boat 5\", IF(COUNTIF(Général!G84:G88,$G$1)=1,\"Boat 6\", IF(COUNTIF(Général!H84:H88,$G$1)=1,\"Boat 7\",IF(COUNTIF(Général!I84:I88,$G$1)=1,\"Boat 8\",IF(COUNTIF(Général!J84:J88,$G$1)=1,\"Boat 9\",\"Boat 10\")))))))))","v":"Boat 3"},{"$f":"IF(COUNTIF(Général!B92:B96,$G$1)=1,\"Boat 1\",IF(COUNTIF(Général!C92:C96,$G$1)=1,\"Boat 2\",IF(COUNTIF(Général!D92:D96,$G$1)=1,\"Boat 3\", IF(COUNTIF(Général!E92:E96,$G$1)=1,\"Boat 4\", IF(COUNTIF(Général!F92:F96,$G$1)=1,\"Boat 5\", IF(COUNTIF(Général!G92:G96,$G$1)=1,\"Boat 6\", IF(COUNTIF(Général!H92:H96,$G$1)=1,\"Boat 7\",IF(COUNTIF(Général!I92:I96,$G$1)=1,\"Boat 8\",IF(COUNTIF(Général!J92:J96,$G$1)=1,\"Boat 9\",\"Boat 10\")))))))))","v":"Boat 4"},{"$f":"IF(COUNTIF(Général!B100:B104,$G$1)=1,\"Boat 1\",IF(COUNTIF(Général!C100:C104,$G$1)=1,\"Boat 2\",IF(COUNTIF(Général!D100:D104,$G$1)=1,\"Boat 3\", IF(COUNTIF(Général!E100:E104,$G$1)=1,\"Boat 4\", IF(COUNTIF(Général!F100:F104,$G$1)=1,\"Boat 5\", IF(COUNTIF(Général!G100:G104,$G$1)=1,\"Boat 6\", IF(COUNTIF(Général!H100:H104,$G$1)=1,\"Boat 7\",IF(COUNTIF(Général!I100:I104,$G$1)=1,\"Boat 8\",IF(COUNTIF(Général!J100:J104,$G$1)=1,\"Boat 9\",\"Boat 10\")))))))))","v":"Boat 4"},{"$f":"IF(COUNTIF(Général!B108:B112,$G$1)=1,\"Boat 1\",IF(COUNTIF(Général!C108:C112,$G$1)=1,\"Boat 2\",IF(COUNTIF(Général!D108:D112,$G$1)=1,\"Boat 3\", IF(COUNTIF(Général!E108:E112,$G$1)=1,\"Boat 4\", IF(COUNTIF(Général!F108:F112,$G$1)=1,\"Boat 5\", IF(COUNTIF(Général!G108:G112,$G$1)=1,\"Boat 6\", IF(COUNTIF(Général!H108:H112,$G$1)=1,\"Boat 7\",IF(COUNTIF(Général!I108:I112,$G$1)=1,\"Boat 8\",IF(COUNTIF(Général!J108:J112,$G$1)=1,\"Boat 9\",\"Boat 10\")))))))))","v":"Boat 1"},{"$f":"IF(COUNTIF(Général!B116:B120,$G$1)=1,\"Boat 1\",IF(COUNTIF(Général!C116:C120,$G$1)=1,\"Boat 2\",IF(COUNTIF(Général!C116:D120,$G$1)=1,\"Boat 3\", IF(COUNTIF(Général!C116:E120,$G$1)=1,\"Boat 4\", IF(COUNTIF(Général!F116:F120,$G$1)=1,\"Boat 5\", IF(COUNTIF(Général!G116:G120,$G$1)=1,\"Boat 6\", IF(COUNTIF(Général!H116:H120,$G$1)=1,\"Boat 7\",IF(COUNTIF(Général!I116:I120,$G$1)=1,\"Boat 8\",IF(COUNTIF(Général!J116:J120,$G$1)=1,\"Boat 9\",\"Boat 10\")))))))))","v":"Boat 2"},{"$f":"IF(COUNTIF(Général!B124:B128,$G$1)=1,\"Boat 1\",IF(COUNTIF(Général!C124:C128,$G$1)=1,\"Boat 2\",IF(COUNTIF(Général!D124:D128,$G$1)=1,\"Boat 3\", IF(COUNTIF(Général!E124:E128,$G$1)=1,\"Boat 4\", IF(COUNTIF(Général!F124:F128,$G$1)=1,\"Boat 5\", IF(COUNTIF(Général!G124:G128,$G$1)=1,\"Boat 6\", IF(COUNTIF(Général!H124:H128,$G$1)=1,\"Boat 7\",IF(COUNTIF(Général!I124:I128,$G$1)=1,\"Boat 8\",IF(COUNTIF(Général!J124:J128,$G$1)=1,\"Boat 9\",\"Boat 10\")))))))))","v":"Boat 3"},{"$f":"IF(COUNTIF(Général!B132:B136,$G$1)=1,\"Boat 1\",IF(COUNTIF(Général!C132:C136,$G$1)=1,\"Boat 2\",IF(COUNTIF(Général!D134:D136,$G$1)=1,\"Boat 3\", IF(COUNTIF(Général!E132:E136,$G$1)=1,\"Boat 4\", IF(COUNTIF(Général!F132:F136,$G$1)=1,\"Boat 5\", IF(COUNTIF(Général!G132:G136,$G$1)=1,\"Boat 6\", IF(COUNTIF(Général!H132:H136,$G$1)=1,\"Boat 7\",IF(COUNTIF(Général!I132:I136,$G$1)=1,\"Boat 8\",IF(COUNTIF(Général!J132:J136,$G$1)=1,\"Boat 9\",\"Boat 10\")))))))))","v":"Boat 4"},{"$f":"IF(COUNTIF(Général!B140:B144,$G$1)=1,\"Boat 1\",IF(COUNTIF(Général!C140:C144,$G$1)=1,\"Boat 2\",IF(COUNTIF(Général!D140:D144,$G$1)=1,\"Boat 3\", IF(COUNTIF(Général!E140:E144,$G$1)=1,\"Boat 4\", IF(COUNTIF(Général!F140:F144,$G$1)=1,\"Boat 5\", IF(COUNTIF(Général!G140:G144,$G$1)=1,\"Boat 6\", IF(COUNTIF(Général!H140:H144,$G$1)=1,\"Boat 7\",IF(COUNTIF(Général!I140:I144,$G$1)=1,\"Boat 8\",IF(COUNTIF(Général!J140:J144,$G$1)=1,\"Boat 9\",\"Boat 10\")))))))))","v":"Boat 6"},{"$f":"IF(COUNTIF(Général!B148:B152,$G$1)=1,\"Boat 1\",IF(COUNTIF(Général!C148:C152,$G$1)=1,\"Boat 2\",IF(COUNTIF(Général!D148:D152,$G$1)=1,\"Boat 3\", IF(COUNTIF(Général!E148:E152,$G$1)=1,\"Boat 4\", IF(COUNTIF(Général!F148:F152,$G$1)=1,\"Boat 5\", IF(COUNTIF(Général!G148:G152,$G$1)=1,\"Boat 6\", IF(COUNTIF(Général!H148:H152,$G$1)=1,\"Boat 7\",IF(COUNTIF(Général!I148:I152,$G$1)=1,\"Boat 8\",IF(COUNTIF(Général!J148:J152,$G$1)=1,\"Boat 9\",\"Boat 10\")))))))))","v":"Boat 6"},{"$f":"IF(COUNTIF(Général!B156:B159,$G$1)=1,\"Boat 1\",IF(COUNTIF(Général!C156:C159,$G$1)=1,\"Boat 2\",IF(COUNTIF(Général!D156:D159,$G$1)=1,\"Boat 3\", IF(COUNTIF(Général!E156:E159,$G$1)=1,\"Boat 4\", IF(COUNTIF(Général!F156:F159,$G$1)=1,\"Boat 5\", IF(COUNTIF(Général!G156:G159,$G$1)=1,\"Boat 6\", IF(COUNTIF(Général!H156:H159,$G$1)=1,\"Boat 7\",IF(COUNTIF(Général!I156:I159,$G$1)=1,\"Boat 8\",IF(COUNTIF(Général!J156:J159,$G$1)=1,\"Boat 9\",\"Boat 10\")))))))))","v":"Boat 6"},{"$f":"IF(COUNTIF(Général!B162:B165,$G$1)=1,\"Boat 1\",IF(COUNTIF(Général!C162:C165,$G$1)=1,\"Boat 2\",IF(COUNTIF(Général!D162:D165,$G$1)=1,\"Boat 3\", IF(COUNTIF(Général!E162:E165,$G$1)=1,\"Boat 4\", IF(COUNTIF(Général!F162:F165,$G$1)=1,\"Boat 5\", IF(COUNTIF(Général!G162:G165,$G$1)=1,\"Boat 6\", IF(COUNTIF(Général!H162:H165,$G$1)=1,\"Boat 7\",IF(COUNTIF(Général!I162:I165,$G$1)=1,\"Boat 8\",IF(COUNTIF(Général!J162:J165,$G$1)=1,\"Boat 9\",\"Boat 10\")))))))))","v":"Boat 6"},{"$f":"IF(COUNTIF(Général!B168:B171,$G$1)=1,\"Boat 1\",IF(COUNTIF(Général!C168:C171,$G$1)=1,\"Boat 2\",IF(COUNTIF(Général!D168:D171,$G$1)=1,\"Boat 3\", IF(COUNTIF(Général!E168:E171,$G$1)=1,\"Boat 4\", IF(COUNTIF(Général!F168:F171,$G$1)=1,\"Boat 5\", IF(COUNTIF(Général!G168:G171,$G$1)=1,\"Boat 6\", IF(COUNTIF(Général!H168:H171,$G$1)=1,\"Boat 7\",IF(COUNTIF(Général!I168:I171,$G$1)=1,\"Boat 8\",IF(COUNTIF(Général!J168:J171,$G$1)=1,\"Boat 9\",\"Boat 10\")))))))))","v":"Boat 6"},null,{"$f":"Général!B8","v":"Equipage 6"},6]
[null,null,null,null,null,null,null,null,null,null,null,null,null,null,null,null,null,null,null,null,null,{"$f":"Général!B9","v":"Equipage 7"},7]
["1er Equipage",null,{"$f":"IF($C$5=\"Course 1\",Général!B36,IF($C$5=\"Course 2\",Général!B38,IF($C$5=\"Course 3\",Général!#REF!,Général!B40)))","v":"Equipage 9"},{"$f":"IF($D$5=\"Course 1\",Général!B44,IF($D$5=\"Course 2\",Général!B46,IF($D$5=\"Course 3\",Général!#REF!,Général!B48)))","v":"Equipage 12"},{"$f":"IF($E$5=\"Course 1\",Général!B52,IF($E$5=\"Course 2\",Général!B54,IF($E$5=\"Course 3\",Général!#REF!,Général!B56)))","v":"Equipage 1"},{"$f":"IF($F$5=\"Course 1\",Général!B$60,IF($F$5=\"Course 2\",Général!B$62,IF($F$5=\"Course 3\",Général!#REF!,Général!B$64)))","v":"Equipage 4"},{"$f":"IF($G$5=\"Course 1\",Général!B$68,IF($G$5=\"Course 2\",Général!B$70,IF($G$5=\"Course 3\",Général!#REF!,Général!B$72)))","v":"Equipage 8"},{"$f":"IF($H$5=\"Course 1\",Général!B$76,IF($H$5=\"Course 2\",Général!B$78,IF($H$5=\"Course 3\",Général!#REF!,Général!B$80)))","v":"Equipage 2"},{"$f":"IF($I$5=\"Course 1\",Général!B$84,IF($I$5=\"Course 2\",Général!B$86,IF($I$5=\"Course 3\",Général!#REF!,Général!B$88)))","v":"Equipage 9"},{"$f":"IF($J$5=\"Course 1\",Général!B$92,IF($J$5=\"Course 2\",Général!B$94,IF($J$5=\"Course 3\",Général!#REF!,Général!B$96)))","v":"Equipage 11"},{"$f":"IF($K$5=\"Course 1\",Général!B$100,IF($K$5=\"Course 2\",Général!B$102,IF($K$5=\"Course 3\",Général!#REF!,Général!B$104)))","v":"Equipage 11"},{"$f":"IF($L$5=\"Course 1\",Général!B$108,IF($L$5=\"Course 2\",Général!B$110,IF($L$5=\"Course 3\",Général!#REF!,Général!B$112)))","v":"Equipage 1"},{"$f":"IF($M$5=\"Course 1\",Général!B$116,IF($M$5=\"Course 2\",Général!B$118,IF($M$5=\"Course 3\",Général!#REF!,Général!B$120)))","v":"Equipage 7"},{"$f":"IF($N$5=\"Course 1\",Général!B$124,IF($N$5=\"Course 2\",Général!B$126,IF($N$5=\"Course 3\",Général!#REF!,Général!B$128)))","v":"Equipage 12"},{"$f":"IF($O$5=\"Course 1\",Général!B$132,IF($O$5=\"Course 2\",Général!B$134,IF($O$5=\"Course 3\",Général!#REF!,Général!B$136)))","v":"Equipage 9"},{"$f":"IF($P$5=\"Course 1\",Général!B$140,IF($P$5=\"Course 2\",Général!B$142,IF($P$5=\"Course 3\",Général!#REF!,Général!B$144)))","v":"Equipage 10"},{"$f":"IF($Q$5=\"Course 1\",Général!B$148,IF($Q$5=\"Course 2\",Général!B$150,IF($Q$5=\"Course 3\",Général!#REF!,Général!B$152)))","v":"Equipage 3"},{"$f":"IF($R$5=\"Course 1\",Général!B$156,IF($R$5=\"Course 2\",Général!B$158,IF($R$5=\"Course 3\",Général!B$160,Général!B$162)))","v":"Equipage 8"},null,null,null,{"$f":"Général!B10","v":"Equipage 8"},6]
["2nd Equipage",null,{"$f":"IF($C$5=\"Course 1\",Général!C36,IF($C$5=\"Course 2\",Général!C38,IF($C$5=\"Course 3\",Général!#REF!,Général!C40)))","v":"Equipage 3"},{"$f":"IF($D$5=\"Course 1\",Général!C44,IF($D$5=\"Course 2\",Général!C46,IF($D$5=\"Course 3\",Général!#REF!,Général!C48)))","v":"Equipage 11"},{"$f":"IF($E$5=\"Course 1\",Général!C52,IF($E$5=\"Course 2\",Général!C54,IF($E$5=\"Course 3\",Général!#REF!,Général!C56)))","v":"Equipage 3"},{"$f":"IF($F$5=\"Course 1\",Général!C$60,IF($F$5=\"Course 2\",Général!C$62,IF($F$5=\"Course 3\",Général!#REF!,Général!C$64)))","v":"Equipage 1"},{"$f":"IF($G$5=\"Course 1\",Général!C$68,IF($G$5=\"Course 2\",Général!C$70,IF($G$5=\"Course 3\",Général!#REF!,Général!C$72)))","v":"Equipage 1"},{"$f":"IF($H$5=\"Course 1\",Général!C$76,IF($H$5=\"Course 2\",Général!C$78,IF($H$5=\"Course 3\",Général!#REF!,Général!C$80)))","v":"Equipage 4"},{"$f":"IF($I$5=\"Course 1\",Général!C$84,IF($I$5=\"Course 2\",Général!C$86,IF($I$5=\"Course 3\",Général!#REF!,Général!C$88)))","v":"Equipage 4"},{"$f":"IF($J$5=\"Course 1\",Général!C$92,IF($J$5=\"Course 2\",Général!C$94,IF($J$5=\"Course 3\",Général!#REF!,Général!C$96)))","v":"Equipage 8"},{"$f":"IF($K$5=\"Course 1\",Général!C$100,IF($K$5=\"Course 2\",Général!C$102,IF($K$5=\"Course 3\",Général!#REF!,Général!C$104)))","v":"Equipage 7"},{"$f":"IF($L$5=\"Course 1\",Général!C$108,IF($L$5=\"Course 2\",Général!C$110,IF($L$5=\"Course 3\",Général!#REF!,Général!C$112)))","v":"Equipage 5"},{"$f":"IF($M$5=\"Course 1\",Général!C$116,IF($M$5=\"Course 2\",Général!C$118,IF($M$5=\"Course 3\",Général!#REF!,Général!C$120)))","v":"Equipage 1"},{"$f":"IF($N$5=\"Course 1\",Général!C$124,IF($N$5=\"Course 2\",Général!C$126,IF($N$5=\"Course 3\",Général!#REF!,Général!C$128)))","v":"Equipage 10"},{"$f":"IF($O$5=\"Course 1\",Général!C$132,IF($O$5=\"Course 2\",Général!C$134,IF($O$5=\"Course 3\",Général!#REF!,Général!C$136)))","v":"Equipage 2"},{"$f":"IF($P$5=\"Course 1\",Général!C$140,IF($P$5=\"Course 2\",Général!C$142,IF($P$5=\"Course 3\",Général!#REF!,Général!C$144)))","v":"Equipage 11"},{"$f":"IF($Q$5=\"Course 1\",Général!C$148,IF($Q$5=\"Course 2\",Général!C$150,IF($Q$5=\"Course 3\",Général!#REF!,Général!C$152)))","v":"Equipage 9"},{"$f":"IF($R$5=\"Course 1\",Général!C$156,IF($R$5=\"Course 2\",Général!C$158,IF($R$5=\"Course 3\",Général!C$160,Général!C$162)))","v":"Equipage 12"},null,null,null,{"$f":"Général!B11","v":"Equipage 9"},10]
["3ème Equipage",null,{"$f":"IF($C$5=\"Course 1\",Général!D36,IF($C$5=\"Course 2\",Général!D38,IF($C$5=\"Course 3\",Général!#REF!,Général!D40)))","v":"Equipage 12"},{"$f":"IF($D$5=\"Course 1\",Général!D44,IF($D$5=\"Course 2\",Général!D46,IF($D$5=\"Course 3\",Général!#REF!,Général!D48)))","v":"Equipage 3"},{"$f":"IF($E$5=\"Course 1\",Général!D52,IF($E$5=\"Course 2\",Général!D54,IF($E$5=\"Course 3\",Général!#REF!,Général!D56)))","v":"Equipage 6"},{"$f":"IF($F$5=\"Course 1\",Général!D$60,IF($F$5=\"Course 2\",Général!D$62,IF($F$5=\"Course 3\",Général!#REF!,Général!D$64)))","v":"Equipage 10"},{"$f":"IF($G$5=\"Course 1\",Général!D$68,IF($G$5=\"Course 2\",Général!D$70,IF($G$5=\"Course 3\",Général!#REF!,Général!D$72)))","v":"Equipage 7"},{"$f":"IF($H$5=\"Course 1\",Général!D$76,IF($H$5=\"Course 2\",Général!D$78,IF($H$5=\"Course 3\",Général!#REF!,Général!D$80)))","v":"Equipage 1"},{"$f":"IF($I$5=\"Course 1\",Général!D$84,IF($I$5=\"Course 2\",Général!D$86,IF($I$5=\"Course 3\",Général!#REF!,Général!D$88)))","v":"Equipage 1"},{"$f":"IF($J$5=\"Course 1\",Général!D$92,IF($J$5=\"Course 2\",Général!D$94,IF($J$5=\"Course 3\",Général!#REF!,Général!D$96)))","v":"Equipage 4"},{"$f":"IF($K$5=\"Course 1\",Général!D$100,IF($K$5=\"Course 2\",Général!D$102,IF($K$5=\"Course 3\",Général!#REF!,Général!D$104)))","v":"Equipage 4"},{"$f":"IF($L$5=\"Course 1\",Général!D$108,IF($L$5=\"Course 2\",Général!D$110,IF($L$5=\"Course 3\",Général!#REF!,Général!D$112)))","v":"Equipage 3"},{"$f":"IF($M$5=\"Course 1\",Général!D$116,IF($M$5=\"Course 2\",Général!D$118,IF($M$5=\"Course 3\",Général!#REF!,Général!D$120)))","v":"Equipage 2"},{"$f":"IF($N$5=\"Course 1\",Général!D$124,IF($N$5=\"Course 2\",Général!D$126,IF($N$5=\"Course 3\",Général!#REF!,Général!D$128)))","v":"Equipage 1"},{"$f":"IF($O$5=\"Course 1\",Général!D$132,IF($O$5=\"Course 2\",Général!D$134,IF($O$5=\"Course 3\",Général!#REF!,Général!D$136)))","v":"Equipage 12"},{"$f":"IF($P$5=\"Course 1\",Général!D$140,IF($P$5=\"Course 2\",Général!D$142,IF($P$5=\"Course 3\",Général!#REF!,Général!D$144)))","v":"Equipage 5"},{"$f":"IF($Q$5=\"Course 1\",Général!D$148,IF($Q$5=\"Course 2\",Général!D$150,IF($Q$5=\"Course 3\",Général!#REF!,Général!D$152)))","v":"Equipage 10"},{"$f":"IF($R$5=\"Course 1\",Général!D$156,IF($R$5=\"Course 2\",Général!D$158,IF($R$5=\"Course 3\",Général!D$160,Général!D$162)))","v":"Equipage 2"},null,null,null,{"$f":"Général!B12","v":"Equipage 10"},5]
["4ème Equipage",null,{"$f":"IF($C$5=\"Course 1\",Général!E36,IF($C$5=\"Course 2\",Général!E38,IF($C$5=\"Course 3\",Général!#REF!,Général!E40)))","v":"Equipage 4"},{"$f":"IF($D$5=\"Course 1\",Général!E44,IF($D$5=\"Course 2\",Général!E46,IF($D$5=\"Course 3\",Général!#REF!,Général!E48)))","v":"Equipage 9"},{"$f":"IF($E$5=\"Course 1\",Général!E52,IF($E$5=\"Course 2\",Général!E54,IF($E$5=\"Course 3\",Général!#REF!,Général!E56)))","v":"Equipage 4"},{"$f":"IF($F$5=\"Course 1\",Général!E$60,IF($F$5=\"Course 2\",Général!E$62,IF($F$5=\"Course 3\",Général!#REF!,Général!E$64)))","v":"Equipage 11"},{"$f":"IF($G$5=\"Course 1\",Général!E$68,IF($G$5=\"Course 2\",Général!E$70,IF($G$5=\"Course 3\",Général!#REF!,Général!E$72)))","v":"Equipage 3"},{"$f":"IF($H$5=\"Course 1\",Général!E$76,IF($H$5=\"Course 2\",Général!E$78,IF($H$5=\"Course 3\",Général!#REF!,Général!E$80)))","v":"Equipage 12"},{"$f":"IF($I$5=\"Course 1\",Général!E$84,IF($I$5=\"Course 2\",Général!E$86,IF($I$5=\"Course 3\",Général!#REF!,Général!E$88)))","v":"Equipage 7"},{"$f":"IF($J$5=\"Course 1\",Général!E$92,IF($J$5=\"Course 2\",Général!E$94,IF($J$5=\"Course 3\",Général!#REF!,Général!E$96)))","v":"Equipage 1"},{"$f":"IF($K$5=\"Course 1\",Général!E$100,IF($K$5=\"Course 2\",Général!E$102,IF($K$5=\"Course 3\",Général!#REF!,Général!E$104)))","v":"Equipage 1"},{"$f":"IF($L$5=\"Course 1\",Général!E$108,IF($L$5=\"Course 2\",Général!E$110,IF($L$5=\"Course 3\",Général!#REF!,Général!E$112)))","v":"Equipage 2"},{"$f":"IF($M$5=\"Course 1\",Général!E$116,IF($M$5=\"Course 2\",Général!E$118,IF($M$5=\"Course 3\",Général!#REF!,Général!E$120)))","v":"Equipage 8"},{"$f":"IF($N$5=\"Course 1\",Général!E$124,IF($N$5=\"Course 2\",Général!E$126,IF($N$5=\"Course 3\",Général!#REF!,Général!E$128)))","v":"Equipage 6"},{"$f":"IF($O$5=\"Course 1\",Général!E$132,IF($O$5=\"Course 2\",Général!E$134,IF($O$5=\"Course 3\",Général!#REF!,Général!E$136)))","v":"Equipage 1"},{"$f":"IF($P$5=\"Course 1\",Général!E$140,IF($P$5=\"Course 2\",Général!E$142,IF($P$5=\"Course 3\",Général!#REF!,Général!E$144)))","v":"Equipage 9"},{"$f":"IF($Q$5=\"Course 1\",Général!E$148,IF($Q$5=\"Course 2\",Général!E$150,IF($Q$5=\"Course 3\",Général!#REF!,Général!E$152)))","v":"Equipage 6"},{"$f":"IF($R$5=\"Course 1\",Général!E$156,IF($R$5=\"Course 2\",Général!E$158,IF($R$5=\"Course 3\",Général!E$160,Général!E$162)))","v":"Equipage 5"},null,null,null,{"$f":"Général!B13","v":"Equipage 11"},6]
["5ème Equipage",null,{"$f":"IF($C$5=\"Course 1\",Général!F36,IF($C$5=\"Course 2\",Général!F38,IF($C$5=\"Course 3\",Général!#REF!,Général!F40)))","v":"Equipage 8"},{"$f":"IF($D$5=\"Course 1\",Général!F44,IF($D$5=\"Course 2\",Général!F46,IF($D$5=\"Course 3\",Général!#REF!,Général!F48)))","v":"Equipage 1"},{"$f":"IF($E$5=\"Course 1\",Général!F52,IF($E$5=\"Course 2\",Général!F54,IF($E$5=\"Course 3\",Général!#REF!,Général!F56)))","v":"Equipage 12"},{"$f":"IF($F$5=\"Course 1\",Général!F$60,IF($F$5=\"Course 2\",Général!F$62,IF($F$5=\"Course 3\",Général!#REF!,Général!F$64)))","v":"Equipage 9"},{"$f":"IF($G$5=\"Course 1\",Général!F$68,IF($G$5=\"Course 2\",Général!F$70,IF($G$5=\"Course 3\",Général!#REF!,Général!F$72)))","v":"Equipage 6"},{"$f":"IF($H$5=\"Course 1\",Général!F$76,IF($H$5=\"Course 2\",Général!F$78,IF($H$5=\"Course 3\",Général!#REF!,Général!F$80)))","v":"Equipage 10"},{"$f":"IF($I$5=\"Course 1\",Général!F$84,IF($I$5=\"Course 2\",Général!F$86,IF($I$5=\"Course 3\",Général!#REF!,Général!F$88)))","v":"Equipage 6"},{"$f":"IF($J$5=\"Course 1\",Général!F$92,IF($J$5=\"Course 2\",Général!F$94,IF($J$5=\"Course 3\",Général!#REF!,Général!F$96)))","v":"Equipage 12"},{"$f":"IF($K$5=\"Course 1\",Général!F$100,IF($K$5=\"Course 2\",Général!F$102,IF($K$5=\"Course 3\",Général!#REF!,Général!F$104)))","v":"Equipage 12"},{"$f":"IF($L$5=\"Course 1\",Général!F$108,IF($L$5=\"Course 2\",Général!$F110,IF($L$5=\"Course 3\",Général!#REF!,Général!F$112)))","v":"Equipage 9"},{"$f":"IF($M$5=\"Course 1\",Général!F$116,IF($M$5=\"Course 2\",Général!F$118,IF($M$5=\"Course 3\",Général!#REF!,Général!F$120)))","v":"Equipage 3"},{"$f":"IF($N$5=\"Course 1\",Général!F$124,IF($N$5=\"Course 2\",Général!F$126,IF($N$5=\"Course 3\",Général!#REF!,Général!F$128)))","v":"Equipage 11"},{"$f":"IF($O$5=\"Course 1\",Général!F$132,IF($O$5=\"Course 2\",Général!F$134,IF($O$5=\"Course 3\",Général!#REF!,Général!F$136)))","v":"Equipage 4"},{"$f":"IF($P$5=\"Course 1\",Général!F$140,IF($P$5=\"Course 2\",Général!F$142,IF($P$5=\"Course 3\",Général!#REF!,Général!F$144)))","v":"Equipage 3"},{"$f":"IF($Q$5=\"Course 1\",Général!F$148,IF($Q$5=\"Course 2\",Général!F$150,IF($Q$5=\"Course 3\",Général!#REF!,Général!F$152)))","v":"Equipage 7"},{"$f":"IF($R$5=\"Course 1\",Général!F$156,IF($R$5=\"Course 2\",Général!F$158,IF($R$5=\"Course 3\",Général!F$160,Général!F$162)))","v":"Equipage 7"},null,null,null,{"$f":"Général!B14","v":"Equipage 12"},11]
["6ème Equipage",null,{"$f":"IF($C$5=\"Course 1\",Général!G36,IF($C$5=\"Course 2\",Général!G38,IF($C$5=\"Course 3\",Général!#REF!,Général!G40)))","v":"Equipage 1"},{"$f":"IF($D$5=\"Course 1\",Général!G44,IF($D$5=\"Course 2\",Général!G46,IF($D$5=\"Course 3\",Général!#REF!,Général!G48)))","v":"Equipage 2"},{"$f":"IF($E$5=\"Course 1\",Général!G52,IF($E$5=\"Course 2\",Général!G54,IF($E$5=\"Course 3\",Général!#REF!,Général!G56)))","v":"Equipage 9"},{"$f":"IF($F$5=\"Course 1\",Général!G$60,IF($F$5=\"Course 2\",Général!G$62,IF($F$5=\"Course 3\",Général!#REF!,Général!G$64)))","v":"Equipage 12"},{"$f":"IF($G$5=\"Course 1\",Général!G$68,IF($G$5=\"Course 2\",Général!G$70,IF($G$5=\"Course 3\",Général!#REF!,Général!G$72)))","v":"Equipage 12"},{"$f":"IF($H$5=\"Course 1\",Général!G$76,IF($H$5=\"Course 2\",Général!G$78,IF($H$5=\"Course 3\",Général!#REF!,Général!G$80)))","v":"Equipage 3"},{"$f":"IF($I$5=\"Course 1\",Général!G$84,IF($I$5=\"Course 2\",Général!G$86,IF($I$5=\"Course 3\",Général!#REF!,Général!G$88)))","v":"Equipage 3"},{"$f":"IF($J$5=\"Course 1\",Général!G$92,IF($J$5=\"Course 2\",Général!G$94,IF($J$5=\"Course 3\",Général!#REF!,Général!G$96)))","v":"Equipage 6"},{"$f":"IF($K$5=\"Course 1\",Général!G$100,IF($K$5=\"Course 2\",Général!G$102,IF($K$5=\"Course 3\",Général!#REF!,Général!G$104)))","v":"Equipage 9"},{"$f":"IF($L$5=\"Course 1\",Général!G$108,IF($L$5=\"Course 2\",Général!G$110,IF($L$5=\"Course 3\",Général!#REF!,Général!G$112)))","v":"Equipage 7"},{"$f":"IF($M$5=\"Course 1\",Général!G$116,IF($M$5=\"Course 2\",Général!G$118,IF($M$5=\"Course 3\",Général!#REF!,Général!G$120)))","v":"Equipage 4"},{"$f":"IF($N$5=\"Course 1\",Général!G$124,IF($N$5=\"Course 2\",Général!G$126,IF($N$5=\"Course 3\",Général!#REF!,Général!G$128)))","v":"Equipage 3"},{"$f":"IF($O$5=\"Course 1\",Général!G$132,IF($O$5=\"Course 2\",Général!G$134,IF($O$5=\"Course 3\",Général!#REF!,Général!G$136)))","v":"Equipage 8"},{"$f":"IF($P$5=\"Course 1\",Général!G$140,IF($P$5=\"Course 2\",Général!G$142,IF($P$5=\"Course 3\",Général!#REF!,Général!G$144)))","v":"Equipage 1"},{"$f":"IF($Q$5=\"Course 1\",Général!G$148,IF($Q$5=\"Course 2\",Général!G$150,IF($Q$5=\"Course 3\",Général!#REF!,Général!G$152)))","v":"Equipage 1"},{"$f":"IF($R$5=\"Course 1\",Général!G$156,IF($R$5=\"Course 2\",Général!G$158,IF($R$5=\"Course 3\",Général!G$160,Général!G$162)))","v":"Equipage 1"},null,null,null,{"$f":"Général!B15","v":"Equipage 13"},0]
["7ème Equipage",null,{"$f":"IF($C$5=\"Course 1\",Général!H36,IF($C$5=\"Course 2\",Général!H38,IF($C$5=\"Course 3\",Général!#REF!,Général!H40)))","v":0},{"$f":"IF($D$5=\"Course 1\",Général!H44,IF($D$5=\"Course 2\",Général!H46,IF($D$5=\"Course 3\",Général!#REF!,Général!H48)))","v":0},{"$f":"IF($E$5=\"Course 1\",Général!H52,IF($E$5=\"Course 2\",Général!H54,IF($E$5=\"Course 3\",Général!#REF!,Général!H56)))","v":0},{"$f":"IF($F$5=\"Course 1\",Général!H$60,IF($F$5=\"Course 2\",Général!H$62,IF($F$5=\"Course 3\",Général!#REF!,Général!H$64)))","v":0},{"$f":"IF($G$5=\"Course 1\",Général!H$68,IF($G$5=\"Course 2\",Général!H$70,IF($G$5=\"Course 3\",Général!#REF!,Général!H$72)))","v":0},{"$f":"IF($H$5=\"Course 1\",Général!H$76,IF($H$5=\"Course 2\",Général!H$78,IF($H$5=\"Course 3\",Général!#REF!,Général!H$80)))","v":0},{"$f":"IF($I$5=\"Course 1\",Général!H$84,IF($I$5=\"Course 2\",Général!H$86,IF($I$5=\"Course 3\",Général!#REF!,Général!H$88)))","v":0},{"$f":"IF($J$5=\"Course 1\",Général!H$92,IF($J$5=\"Course 2\",Général!H$94,IF($J$5=\"Course 3\",Général!#REF!,Général!H$96)))","v":0},{"$f":"IF($K$5=\"Course 1\",Général!H$100,IF($K$5=\"Course 2\",Général!H$102,IF($K$5=\"Course 3\",Général!#REF!,Général!H$104)))","v":0},{"$f":"IF($L$5=\"Course 1\",Général!H$108,IF($L$5=\"Course 2\",Général!H$110,IF($L$5=\"Course 3\",Général!#REF!,Général!H$112)))","v":0},{"$f":"IF($M$5=\"Course 1\",Général!H$116,IF($M$5=\"Course 2\",Général!H$118,IF($M$5=\"Course 3\",Général!#REF!,Général!H$120)))","v":0},{"$f":"IF($N$5=\"Course 1\",Général!H$124,IF($N$5=\"Course 2\",Général!H$126,IF($N$5=\"Course 3\",Général!#REF!,Général!H$128)))","v":0},{"$f":"IF($O$5=\"Course 1\",Général!H$132,IF($O$5=\"Course 2\",Général!H$134,IF($O$5=\"Course 3\",Général!#REF!,Général!H$136)))","v":0},{"$f":"IF($P$5=\"Course 1\",Général!H$140,IF($P$5=\"Course 2\",Général!H$142,IF($P$5=\"Course 3\",Général!#REF!,Général!H$144)))","v":0},{"$f":"IF($Q$5=\"Course 1\",Général!H$148,IF($Q$5=\"Course 2\",Général!H$150,IF($Q$5=\"Course 3\",Général!#REF!,Général!H$152)))","v":0},{"$f":"IF($R$5=\"Course 1\",Général!H$156,IF($R$5=\"Course 2\",Général!H$158,IF($R$5=\"Course 3\",Général!H$160,Général!H$162)))","v":0},null,null,null,{"$f":"Général!B16","v":"Equipage 14"},0]
["8ème Equipage",null,{"$f":"IF($C$5=\"Course 1\",Général!I36,IF($C$5=\"Course 2\",Général!I38,IF($C$5=\"Course 3\",Général!#REF!,Général!I40)))","v":0},{"$f":"IF($D$5=\"Course 1\",Général!I44,IF($D$5=\"Course 2\",Général!I46,IF($D$5=\"Course 3\",Général!#REF!,Général!I48)))","v":0},{"$f":"IF($E$5=\"Course 1\",Général!I52,IF($E$5=\"Course 2\",Général!I54,IF($E$5=\"Course 3\",Général!#REF!,Général!I56)))","v":0},{"$f":"IF($F$5=\"Course 1\",Général!I$60,IF($F$5=\"Course 2\",Général!I$62,IF($F$5=\"Course 3\",Général!#REF!,Général!I$64)))","v":0},{"$f":"IF($G$5=\"Course 1\",Général!I$68,IF($G$5=\"Course 2\",Général!I$70,IF($G$5=\"Course 3\",Général!#REF!,Général!I$72)))","v":0},{"$f":"IF($H$5=\"Course 1\",Général!I$76,IF($H$5=\"Course 2\",Général!I$78,IF($H$5=\"Course 3\",Général!#REF!,Général!I$80)))","v":0},{"$f":"IF($I$5=\"Course 1\",Général!I$84,IF($I$5=\"Course 2\",Général!I$86,IF($I$5=\"Course 3\",Général!#REF!,Général!I$88)))","v":0},{"$f":"IF($J$5=\"Course 1\",Général!I$92,IF($J$5=\"Course 2\",Général!I$94,IF($J$5=\"Course 3\",Général!#REF!,Général!I$96)))","v":0},{"$f":"IF($K$5=\"Course 1\",Général!I$100,IF($K$5=\"Course 2\",Général!I$102,IF($K$5=\"Course 3\",Général!#REF!,Général!I$104)))","v":0},{"$f":"IF($L$5=\"Course 1\",Général!I$108,IF($L$5=\"Course 2\",Général!I$110,IF($L$5=\"Course 3\",Général!#REF!,Général!I$112)))","v":0},{"$f":"IF($M$5=\"Course 1\",Général!I$116,IF($M$5=\"Course 2\",Général!I$118,IF($M$5=\"Course 3\",Général!#REF!,Général!I$120)))","v":0},{"$f":"IF($N$5=\"Course 1\",Général!I$124,IF($N$5=\"Course 2\",Général!I$126,IF($N$5=\"Course 3\",Général!#REF!,Général!I$128)))","v":0},{"$f":"IF($O$5=\"Course 1\",Général!I$132,IF($O$5=\"Course 2\",Général!I$134,IF($O$5=\"Course 3\",Général!#REF!,Général!I$136)))","v":0},{"$f":"IF($P$5=\"Course 1\",Général!I$140,IF($P$5=\"Course 2\",Général!I$142,IF($P$5=\"Course 3\",Général!#REF!,Général!I$144)))","v":0},{"$f":"IF($Q$5=\"Course 1\",Général!I$148,IF($Q$5=\"Course 2\",Général!I$150,IF($Q$5=\"Course 3\",Général!#REF!,Général!I$152)))","v":0},{"$f":"IF($R$5=\"Course 1\",Général!I$156,IF($R$5=\"Course 2\",Général!I$158,IF($R$5=\"Course 3\",Général!I$160,Général!I$162)))","v":0},null,null,null,{"$f":"Général!B17","v":"Equipage 15"},0]
["9ème Equipage",null,{"$f":"IF($C$5=\"Course 1\",Général!J36,IF($C$5=\"Course 2\",Général!J38,IF($C$5=\"Course 3\",Général!#REF!,Général!J40)))","v":0},{"$f":"IF($D$5=\"Course 1\",Général!J44,IF($D$5=\"Course 2\",Général!J46,IF($D$5=\"Course 3\",Général!#REF!,Général!J48)))","v":0},{"$f":"IF($E$5=\"Course 1\",Général!J52,IF($E$5=\"Course 2\",Général!J54,IF($E$5=\"Course 3\",Général!#REF!,Général!J56)))","v":0},{"$f":"IF($F$5=\"Course 1\",Général!J$60,IF($F$5=\"Course 2\",Général!J$62,IF($F$5=\"Course 3\",Général!#REF!,Général!J$64)))","v":0},{"$f":"IF($G$5=\"Course 1\",Général!J$68,IF($G$5=\"Course 2\",Général!J$70,IF($G$5=\"Course 3\",Général!#REF!,Général!J$72)))","v":0},{"$f":"IF($H$5=\"Course 1\",Général!J$76,IF($H$5=\"Course 2\",Général!J$78,IF($H$5=\"Course 3\",Général!#REF!,Général!J$80)))","v":0},{"$f":"IF($I$5=\"Course 1\",Général!J$84,IF($I$5=\"Course 2\",Général!J$86,IF($I$5=\"Course 3\",Général!#REF!,Général!J$88)))","v":0},{"$f":"IF($J$5=\"Course 1\",Général!J$92,IF($J$5=\"Course 2\",Général!J$94,IF($J$5=\"Course 3\",Général!#REF!,Général!J$96)))","v":0},{"$f":"IF($K$5=\"Course 1\",Général!J$100,IF($K$5=\"Course 2\",Général!J$102,IF($K$5=\"Course 3\",Général!#REF!,Général!J$104)))","v":0},{"$f":"IF($L$5=\"Course 1\",Général!J$108,IF($L$5=\"Course 2\",Général!J$110,IF($L$5=\"Course 3\",Général!#REF!,Général!J$112)))","v":0},{"$f":"IF($M$5=\"Course 1\",Général!J$116,IF($M$5=\"Course 2\",Général!J$118,IF($M$5=\"Course 3\",Général!#REF!,Général!J$120)))","v":0},{"$f":"IF($N$5=\"Course 1\",Général!J$124,IF($N$5=\"Course 2\",Général!J$126,IF($N$5=\"Course 3\",Général!#REF!,Général!J$128)))","v":0},{"$f":"IF($O$5=\"Course 1\",Général!J$132,IF($O$5=\"Course 2\",Général!J$134,IF($O$5=\"Course 3\",Général!#REF!,Général!J$136)))","v":0},{"$f":"IF($P$5=\"Course 1\",Général!J$140,IF($P$5=\"Course 2\",Général!J$142,IF($P$5=\"Course 3\",Général!#REF!,Général!J$144)))","v":0},{"$f":"IF($Q$5=\"Course 1\",Général!J$148,IF($Q$5=\"Course 2\",Général!J$150,IF($Q$5=\"Course 3\",Général!#REF!,Général!J$152)))","v":0},{"$f":"IF($R$5=\"Course 1\",Général!J$156,IF($R$5=\"Course 2\",Général!J$158,IF($R$5=\"Course 3\",Général!J$160,Général!J$162)))","v":0},null,null,null,{"$f":"Général!B18","v":"Equipage 16"},0]
["10ème Equipage",null,{"$f":"IF($C$5=\"Course 1\",Général!K36,IF($C$5=\"Course 2\",Général!K38,IF($C$5=\"Course 3\",Général!#REF!,Général!K40)))","v":0},{"$f":"IF($D$5=\"Course 1\",Général!K44,IF($D$5=\"Course 2\",Général!K46,IF($D$5=\"Course 3\",Général!#REF!,Général!K48)))","v":0},{"$f":"IF($E$5=\"Course 1\",Général!K52,IF($E$5=\"Course 2\",Général!K54,IF($E$5=\"Course 3\",Général!#REF!,Général!K56)))","v":0},{"$f":"IF($F$5=\"Course 1\",Général!K$60,IF($F$5=\"Course 2\",Général!K$62,IF($F$5=\"Course 3\",Général!#REF!,Général!K$64)))","v":0},{"$f":"IF($G$5=\"Course 1\",Général!K$68,IF($G$5=\"Course 2\",Général!K$70,IF($G$5=\"Course 3\",Général!#REF!,Général!K$72)))","v":0},{"$f":"IF($H$5=\"Course 1\",Général!K$76,IF($H$5=\"Course 2\",Général!K$78,IF($H$5=\"Course 3\",Général!#REF!,Général!K$80)))","v":0},{"$f":"IF($I$5=\"Course 1\",Général!K$84,IF($I$5=\"Course 2\",Général!K$86,IF($I$5=\"Course 3\",Général!#REF!,Général!K$88)))","v":0},{"$f":"IF($J$5=\"Course 1\",Général!K$92,IF($J$5=\"Course 2\",Général!K$94,IF($J$5=\"Course 3\",Général!#REF!,Général!K$96)))","v":0},{"$f":"IF($K$5=\"Course 1\",Général!K$100,IF($K$5=\"Course 2\",Général!K$102,IF($K$5=\"Course 3\",Général!#REF!,Général!K$104)))","v":0},{"$f":"IF($L$5=\"Course 1\",Général!K$108,IF($L$5=\"Course 2\",Général!K$110,IF($L$5=\"Course 3\",Général!#REF!,Général!K$112)))","v":0},{"$f":"IF($M$5=\"Course 1\",Général!K$116,IF($M$5=\"Course 2\",Général!K$118,IF($M$5=\"Course 3\",Général!#REF!,Général!K$120)))","v":0},{"$f":"IF($N$5=\"Course 1\",Général!K$124,IF($N$5=\"Course 2\",Général!K$126,IF($N$5=\"Course 3\",Général!#REF!,Général!K$128)))","v":0},{"$f":"IF($O$5=\"Course 1\",Général!K$132,IF($O$5=\"Course 2\",Général!K$134,IF($O$5=\"Course 3\",Général!#REF!,Général!K$136)))","v":0},{"$f":"IF($P$5=\"Course 1\",Général!K$140,IF($P$5=\"Course 2\",Général!K$142,IF($P$5=\"Course 3\",Général!#REF!,Général!K$144)))","v":0},{"$f":"IF($Q$5=\"Course 1\",Général!K$148,IF($Q$5=\"Course 2\",Général!K$150,IF($Q$5=\"Course 3\",Général!#REF!,Général!K$152)))","v":0},{"$f":"IF($R$5=\"Course 1\",Général!K$156,IF($R$5=\"Course 2\",Général!K$158,IF($R$5=\"Course 3\",Général!K$160,Général!K$162)))","v":0},null,null,null,{"$f":"Général!B19","v":"Equipage 17"},0]
[null,null,null,null,null,null,null,null,null,null,null,null,null,null,null,null,null,null,null,null,null,{"$f":"Général!B20","v":"Equipage 18"},0]
[null,null,null,null,null,null,null,null,null,null,null,null,null,null,null,null,null,null,null,null,null,{"$f":"Général!B21","v":"Equipage 19"},{"$f":"COUNTIF($C$8:$R$17,V19)","v":0}]
[null,null,null,null,null,null,null,null,null,null,null,null,null,null,null,null,null,null,null,null,null,{"$f":"Général!B22","v":"Equipage 20"},0]
[null,null,null,null,null,null,null,null,null,null,null,null,null,null,null,null,null,null,null,null,null,{"$f":"Général!B23","v":"Equipage 21"},0]
[null,null,null,null,null,null,null,null,null,null,null,null,null,null,null,null,null,null,null,null,null,{"$f":"Général!B24","v":"Equipage 22"},0]
[null,null,null,null,null,null,null,null,null,null,null,null,null,null,null,null,null,null,null,null,null,{"$f":"Général!B25","v":"Equipage 23"},0]
[null,null,null,null,null,null,null,null,null,null,null,null,null,null,null,null,null,null,null,null,null,{"$f":"Général!B26","v":"Equipage 24"},0]
[null,null,null,null,null,null,null,null,null,null,null,null,null,null,null,null,null,null,null,null,null,{"$f":"Général!B27","v":"Equipage 25"},0]
[null,null,null,null,null,null,null,null,null,null,null,null,null,null,null,null,null,null,null,null,null,{"$f":"Général!B28","v":"Equipage 26"},0]
[null,null,null,null,null,null,null,null,null,null,null,null,null,null,null,null,null,null,null,null,null,{"$f":"Général!B29","v":"Equipage 27"},0]
[null,null,null,null,null,null,null,null,null,null,null,null,null,null,null,null,null,null,null,null,null,{"$f":"Général!B30","v":"Equipage 28"},0]
[null,null,null,null,null,null,null,null,null,null,null,null,null,null,null,null,null,null,null,null,null,{"$f":"Général!B31","v":"Equipage 29"},0]
[null,null,null,null,null,null,null,null,null,null,null,null,null,null,null,null,null,null,null,null,null,{"$f":"Général!B32","v":"Equipage 30"},0]

{"sheet":"Eq.2","index":6,"n_rows":30,"n_cols":23,"rows_kept":30,"cut":false,"hidden":true,"merged":[[7,0,7,1],[0,0,1,5],[0,6,1,10],[3,0,3,1],[4,0,4,1],[5,0,5,1],[14,0,14,1],[15,0,15,1],[16,0,16,1],[8,0,8,1],[9,0,9,1],[10,0,10,1],[11,0,11,1],[12,0,12,1],[13,0,13,1]]}
["Equipage ",null,null,null,null,null,{"$f":"Général!B4","v":"Equipage 2"},null,null,null,null,null,null,null,null,null,null,null,null,null,null,{"$f":"Général!B3","v":"Equipage 1"},{"$f":"COUNTIF(C$8:R$17,V1)","v":6}]
[null,null,null,null,null,null,null,null,null,null,null,null,null,null,null,null,null,null,null,null,null,{"$f":"Général!B4","v":"Equipage 2"},{"$f":"COUNTIF($C$8:$R$17,V2)","v":16}]
[null,null,null,null,null,null,null,null,null,null,null,null,null,null,null,null,null,null,null,null,null,{"$f":"Général!B5","v":"Equipage 3"},{"$f":"COUNTIF($C$8:$R$17,V3)","v":7}]
[null,null,"FLIGHT 1","FLIGHT 2","FLIGHT 3","FLIGHT 4","FLIGHT 5","FLIGHT 6","FLIGHT 7","FLIGHT 8","FLIGHT 9","FLIGHT 10","FLIGHT 11","FLIGHT 12","FLIGHT 13","FLIGHT 14","FLIGHT 15","FLIGHT 16","FLIGHT 17","FLIGHT 18",null,{"$f":"Général!B6","v":"Equipage 4"},{"$f":"COUNTIF($C$8:$R$17,V4)","v":7}]
["N° de course",null,{"$f":"IF(COUNTIF(Général!B36:K36,$G$1)=1,\"Course 1\",IF(COUNTIF(Général!B38:K38,$G$1)=1,\"Course 2\",IF(COUNTIF(Général!#REF!,$G$1)=1,\"Course 3\",\"Course 4\")))","v":"Course 1"},{"$f":"IF(COUNTIF(Général!B44:K44,$G$1)=1,\"Course 1\",IF(COUNTIF(Général!B46:K46,$G$1)=1,\"Course 2\",IF(COUNTIF(Général!#REF!,$G$1)=1,\"Course 3\",\"Course 4\")))","v":"Course 2"},{"$f":"IF(COUNTIF(Général!B52:K52,$G$1)=1,\"Course 1\",IF(COUNTIF(Général!B54:K54,$G$1)=1,\"Course 2\",IF(COUNTIF(Général!#REF!,$G$1)=1,\"Course 3\",\"Course 4\")))","v":"Course 1"},{"$f":"IF(COUNTIF(Général!B60:K60,$G$1)=1,\"Course 1\",IF(COUNTIF(Général!B62:K62,$G$1)=1,\"Course 2\",IF(COUNTIF(Général!#REF!,$G$1)=1,\"Course 3\",\"Course 4\")))","v":"Course 1"},{"$f":"IF(COUNTIF(Général!B68:K68,$G$1)=1,\"Course 1\",IF(COUNTIF(Général!B70:K70,$G$1)=1,\"Course 2\",IF(COUNTIF(Général!#REF!,$G$1)=1,\"Course 3\",\"Course 4\")))","v":"Course 2"},{"$f":"IF(COUNTIF(Général!B76:K76,$G$1)=1,\"Course 1\",IF(COUNTIF(Général!B78:K78,$G$1)=1,\"Course 2\",IF(COUNTIF(Général!#REF!,$G$1)=1,\"Course 3\",\"Course 4\")))","v":"Course 2"},{"$f":"IF(COUNTIF(Général!B84:K84,$G$1)=1,\"Course 1\",IF(COUNTIF(Général!B86:K86,$G$1)=1,\"Course 2\",IF(COUNTIF(Général!#REF!,$G$1)=1,\"Course 3\",\"Course 4\")))","v":"Course 2"},{"$f":"IF(COUNTIF(Général!B92:K92,$G$1)=1,\"Course 1\",IF(COUNTIF(Général!B94:K94,$G$1)=1,\"Course 2\",IF(COUNTIF(Général!#REF!,$G$1)=1,\"Course 3\",\"Course 4\")))","v":"Course 1"},{"$f":"IF(COUNTIF(Général!B100:K100,$G$1)=1,\"Course 1\",IF(COUNTIF(Général!B102:K102,$G$1)=1,\"Course 2\",IF(COUNTIF(Général!#REF!,$G$1)=1,\"Course 3\",\"Course 4\")))","v":"Course 2"},{"$f":"IF(COUNTIF(Général!B108:K108,$G$1)=1,\"Course 1\",IF(COUNTIF(Général!B110:K110,$G$1)=1,\"Course 2\",IF(COUNTIF(Général!#REF!,$G$1)=1,\"Course 3\",\"Course 4\")))","v":"Course 2"},{"$f":"IF(COUNTIF(Général!B116:K116,$G$1)=1,\"Course 1\",IF(COUNTIF(Général!B118:K118,$G$1)=1,\"Course 2\",IF(COUNTIF(Général!#REF!,$G$1)=1,\"Course 3\",\"Course 4\")))","v":"Course 2"},{"$f":"IF(COUNTIF(Général!B124:K124,$G$1)=1,\"Course 1\",IF(COUNTIF(Général!B126:K126,$G$1)=1,\"Course 2\",IF(COUNTIF(Général!#REF!,$G$1)=1,\"Course 3\",\"Course 4\")))","v":"Course 1"},{"$f":"IF(COUNTIF(Général!B132:K132,$G$1)=1,\"Course 1\",IF(COUNTIF(Général!B134:K134,$G$1)=1,\"Course 2\",IF(COUNTIF(Général!#REF!,$G$1)=1,\"Course 3\",\"Course 4\")))","v":"Course 2"},{"$f":"IF(COUNTIF(Général!B140:K140,$G$1)=1,\"Course 1\",IF(COUNTIF(Général!B142:K142,$G$1)=1,\"Course 2\",IF(COUNTIF(Général!#REF!,$G$1)=1,\"Course 3\",\"Course 4\")))","v":"Course 1"},{"$f":"IF(COUNTIF(Général!B148:K148,$G$1)=1,\"Course 1\",IF(COUNTIF(Général!B150:K150,$G$1)=1,\"Course 2\",IF(COUNTIF(Général!#REF!,$G$1)=1,\"Course 3\",\"Course 4\")))","v":"Course 1"},{"$f":"IF(COUNTIF(Général!B156:K156,$G$1)=1,\"Course 1\",IF(COUNTIF(Général!B158:K158,$G$1)=1,\"Course 2\",IF(COUNTIF(Général!B160:K160,$G$1)=1,\"Course 3\",\"Course 4\")))","v":"Course 1"},{"$f":"IF(COUNTIF(Général!C156:L156,$G$1)=1,\"Course 1\",IF(COUNTIF(Général!C158:L158,$G$1)=1,\"Course 2\",IF(COUNTIF(Général!C160:L160,$G$1)=1,\"Course 3\",\"Course 4\")))","v":"Course 1"},{"$f":"IF(COUNTIF(Général!D156:M156,$G$1)=1,\"Course 1\",IF(COUNTIF(Général!D158:M158,$G$1)=1,\"Course 2\",IF(COUNTIF(Général!D160:M160,$G$1)=1,\"Course 3\",\"Course 4\")))","v":"Course 1"},null,{"$f":"Général!B7","v":"Equipage 5"},11]
["Bateau",null,{"$f":"IF(COUNTIF(Général!B36:B40,$G$1)=1,\"Boat 1\",IF(COUNTIF(Général!C36:C40,$G$1)=1,\"Boat 2\",IF(COUNTIF(Général!D36:D40,$G$1)=1,\"Boat 3\",IF(COUNTIF(Général!E36:E40,$G$1)=1,\"Boat 4\",IF(COUNTIF(Général!F36:F40,$G$1)=1,\"Boat 5\",IF(COUNTIF(Général!G36:G40,$G$1)=1,\"Boat 6\",IF(COUNTIF(Général!H36:H40,$G$1)=1,\"Boat 7\",IF(COUNTIF(Général!I36:I40,$G$1)=1,\"Boat 8\",IF(COUNTIF(Général!J36:J40,$G$1)=1,\"Boat 9\",\"Boat10\")))))))))","v":"Boat 4"},{"$f":"IF(COUNTIF(Général!B44:B48,$G$1)=1,\"Boat 1\",IF(COUNTIF(Général!C44:C48,$G$1)=1,\"Boat 2\",IF(COUNTIF(Général!D44:D48,$G$1)=1,\"Boat 3\",IF(COUNTIF(Général!E44:E48,$G$1)=1,\"Boat 4\",IF(COUNTIF(Général!F44:F48,$G$1)=1,\"Boat 5\",IF(COUNTIF(Général!G44:G48,$G$1)=1,\"Boat 6\",IF(COUNTIF(Général!H44:H48,$G$1)=1,\"Boat 7\",IF(COUNTIF(Général!I44:I48,$G$1)=1,\"Boat 8\",IF(COUNTIF(Général!J44:J48,$G$1)=1,\"Boat 9\",\"Boat 10\")))))))))","v":"Boat 6"},{"$f":"IF(COUNTIF(Général!B52:B56,$G$1)=1,\"Boat 1\",IF(COUNTIF(Général!C52:C56,$G$1)=1,\"Boat 2\",IF(COUNTIF(Général!D52:D56,$G$1)=1,\"Boat 3\", IF(COUNTIF(Général!E52:E56,$G$1)=1,\"Boat 4\", IF(COUNTIF(Général!F52:F56,$G$1)=1,\"Boat 5\", IF(COUNTIF(Général!G52:G56,$G$1)=1,\"Boat 6\", IF(COUNTIF(Général!H52:H56,$G$1)=1,\"Boat 7\",IF(COUNTIF(Général!I52:I56,$G$1)=1,\"Boat 8\",IF(COUNTIF(Général!J52:J56,$G$1)=1,\"Boat 9\",\"Boat 10\")))))))))","v":"Boat 6"},{"$f":"IF(COUNTIF(Général!B60:B64,$G$1)=1,\"Boat 1\",IF(COUNTIF(Général!C60:C64,$G$1)=1,\"Boat 2\",IF(COUNTIF(Général!D60:D64,$G$1)=1,\"Boat 3\", IF(COUNTIF(Général!E60:E64,$G$1)=1,\"Boat 4\", IF(COUNTIF(Général!F60:F64,$G$1)=1,\"Boat 5\", IF(COUNTIF(Général!G60:G64,$G$1)=1,\"Boat 6\", IF(COUNTIF(Général!H60:H64,$G$1)=1,\"Boat 7\",IF(COUNTIF(Général!I60:I64,$G$1)=1,\"Boat 8\",IF(COUNTIF(Général!I60:J64,$G$1)=1,\"Boat 9\",\"Boat 10\")))))))))","v":"Boat 5"},{"$f":"IF(COUNTIF(Général!B68:B72,$G$1)=1,\"Boat 1\",IF(COUNTIF(Général!C68:C72,$G$1)=1,\"Boat 2\",IF(COUNTIF(Général!D68:D72,$G$1)=1,\"Boat 3\", IF(COUNTIF(Général!E68:E72,$G$1)=1,\"Boat 4\", IF(COUNTIF(Général!F68:F72,$G$1)=1,\"Boat 5\", IF(COUNTIF(Général!G68:G72,$G$1)=1,\"Boat 6\", IF(COUNTIF(Général!H68:H72,$G$1)=1,\"Boat 7\",IF(COUNTIF(Général!I68:I72,$G$1)=1,\"Boat 8\",IF(COUNTIF(Général!J68:J72,$G$1)=1,\"Boat 9\",\"Boat 10\")))))))))","v":"Boat 2"},{"$f":"IF(COUNTIF(Général!B76:B80,$G$1)=1,\"Boat 1\",IF(COUNTIF(Général!C76:C80,$G$1)=1,\"Boat 2\",IF(COUNTIF(Général!D76:D80,$G$1)=1,\"Boat 3\", IF(COUNTIF(Général!E76:E80,$G$1)=1,\"Boat 4\", IF(COUNTIF(Général!F76:F80,$G$1)=1,\"Boat 5\", IF(COUNTIF(Général!G76:G80,$G$1)=1,\"Boat 6\", IF(COUNTIF(Général!H76:H80,$G$1)=1,\"Boat 7\",IF(COUNTIF(Général!I76:I80,$G$1)=1,\"Boat 8\",IF(COUNTIF(Général!J76:J80,$G$1)=1,\"Boat 9\",\"Boat 10\")))))))))","v":"Boat 1"},{"$f":"IF(COUNTIF(Général!B84:B88,$G$1)=1,\"Boat 1\",IF(COUNTIF(Général!C84:C88,$G$1)=1,\"Boat 2\",IF(COUNTIF(Général!D84:D88,$G$1)=1,\"Boat 3\", IF(COUNTIF(Général!E84:E88,$G$1)=1,\"Boat 4\", IF(COUNTIF(Général!F84:F88,$G$1)=1,\"Boat 5\", IF(COUNTIF(Général!G84:G88,$G$1)=1,\"Boat 6\", IF(COUNTIF(Général!H84:H88,$G$1)=1,\"Boat 7\",IF(COUNTIF(Général!I84:I88,$G$1)=1,\"Boat 8\",IF(COUNTIF(Général!J84:J88,$G$1)=1,\"Boat 9\",\"Boat 10\")))))))))","v":"Boat 6"},{"$f":"IF(COUNTIF(Général!B92:B96,$G$1)=1,\"Boat 1\",IF(COUNTIF(Général!C92:C96,$G$1)=1,\"Boat 2\",IF(COUNTIF(Général!D92:D96,$G$1)=1,\"Boat 3\", IF(COUNTIF(Général!E92:E96,$G$1)=1,\"Boat 4\", IF(COUNTIF(Général!F92:F96,$G$1)=1,\"Boat 5\", IF(COUNTIF(Général!G92:G96,$G$1)=1,\"Boat 6\", IF(COUNTIF(Général!H92:H96,$G$1)=1,\"Boat 7\",IF(COUNTIF(Général!I92:I96,$G$1)=1,\"Boat 8\",IF(COUNTIF(Général!J92:J96,$G$1)=1,\"Boat 9\",\"Boat 10\")))))))))","v":"Boat 6"},{"$f":"IF(COUNTIF(Général!B100:B104,$G$1)=1,\"Boat 1\",IF(COUNTIF(Général!C100:C104,$G$1)=1,\"Boat 2\",IF(COUNTIF(Général!D100:D104,$G$1)=1,\"Boat 3\", IF(COUNTIF(Général!E100:E104,$G$1)=1,\"Boat 4\", IF(COUNTIF(Général!F100:F104,$G$1)=1,\"Boat 5\", IF(COUNTIF(Général!G100:G104,$G$1)=1,\"Boat 6\", IF(COUNTIF(Général!H100:H104,$G$1)=1,\"Boat 7\",IF(COUNTIF(Général!I100:I104,$G$1)=1,\"Boat 8\",IF(COUNTIF(Général!J100:J104,$G$1)=1,\"Boat 9\",\"Boat 10\")))))))))","v":"Boat 4"},{"$f":"IF(COUNTIF(Général!B108:B112,$G$1)=1,\"Boat 1\",IF(COUNTIF(Général!C108:C112,$G$1)=1,\"Boat 2\",IF(COUNTIF(Général!D108:D112,$G$1)=1,\"Boat 3\", IF(COUNTIF(Général!E108:E112,$G$1)=1,\"Boat 4\", IF(COUNTIF(Général!F108:F112,$G$1)=1,\"Boat 5\", IF(COUNTIF(Général!G108:G112,$G$1)=1,\"Boat 6\", IF(COUNTIF(Général!H108:H112,$G$1)=1,\"Boat 7\",IF(COUNTIF(Général!I108:I112,$G$1)=1,\"Boat 8\",IF(COUNTIF(Général!J108:J112,$G$1)=1,\"Boat 9\",\"Boat 10\")))))))))","v":"Boat 4"},{"$f":"IF(COUNTIF(Général!B116:B120,$G$1)=1,\"Boat 1\",IF(COUNTIF(Général!C116:C120,$G$1)=1,\"Boat 2\",IF(COUNTIF(Général!C116:D120,$G$1)=1,\"Boat 3\", IF(COUNTIF(Général!C116:E120,$G$1)=1,\"Boat 4\", IF(COUNTIF(Général!F116:F120,$G$1)=1,\"Boat 5\", IF(COUNTIF(Général!G116:G120,$G$1)=1,\"Boat 6\", IF(COUNTIF(Général!H116:H120,$G$1)=1,\"Boat 7\",IF(COUNTIF(Général!I116:I120,$G$1)=1,\"Boat 8\",IF(COUNTIF(Général!J116:J120,$G$1)=1,\"Boat 9\",\"Boat 10\")))))))))","v":"Boat 3"},{"$f":"IF(COUNTIF(Général!B124:B128,$G$1)=1,\"Boat 1\",IF(COUNTIF(Général!C124:C128,$G$1)=1,\"Boat 2\",IF(COUNTIF(Général!D124:D128,$G$1)=1,\"Boat 3\", IF(COUNTIF(Général!E124:E128,$G$1)=1,\"Boat 4\", IF(COUNTIF(Général!F124:F128,$G$1)=1,\"Boat 5\", IF(COUNTIF(Général!G124:G128,$G$1)=1,\"Boat 6\", IF(COUNTIF(Général!H124:H128,$G$1)=1,\"Boat 7\",IF(COUNTIF(Général!I124:I128,$G$1)=1,\"Boat 8\",IF(COUNTIF(Général!J124:J128,$G$1)=1,\"Boat 9\",\"Boat 10\")))))))))","v":"Boat 3"},{"$f":"IF(COUNTIF(Général!B132:B136,$G$1)=1,\"Boat 1\",IF(COUNTIF(Général!C132:C136,$G$1)=1,\"Boat 2\",IF(COUNTIF(Général!D134:D136,$G$1)=1,\"Boat 3\", IF(COUNTIF(Général!E132:E136,$G$1)=1,\"Boat 4\", IF(COUNTIF(Général!F132:F136,$G$1)=1,\"Boat 5\", IF(COUNTIF(Général!G132:G136,$G$1)=1,\"Boat 6\", IF(COUNTIF(Général!H132:H136,$G$1)=1,\"Boat 7\",IF(COUNTIF(Général!I132:I136,$G$1)=1,\"Boat 8\",IF(COUNTIF(Général!J132:J136,$G$1)=1,\"Boat 9\",\"Boat 10\")))))))))","v":"Boat 2"},{"$f":"IF(COUNTIF(Général!B140:B144,$G$1)=1,\"Boat 1\",IF(COUNTIF(Général!C140:C144,$G$1)=1,\"Boat 2\",IF(COUNTIF(Général!D140:D144,$G$1)=1,\"Boat 3\", IF(COUNTIF(Général!E140:E144,$G$1)=1,\"Boat 4\", IF(COUNTIF(Général!F140:F144,$G$1)=1,\"Boat 5\", IF(COUNTIF(Général!G140:G144,$G$1)=1,\"Boat 6\", IF(COUNTIF(Général!H140:H144,$G$1)=1,\"Boat 7\",IF(COUNTIF(Général!I140:I144,$G$1)=1,\"Boat 8\",IF(COUNTIF(Général!J140:J144,$G$1)=1,\"Boat 9\",\"Boat 10\")))))))))","v":"Boat 2"},{"$f":"IF(COUNTIF(Général!B148:B152,$G$1)=1,\"Boat 1\",IF(COUNTIF(Général!C148:C152,$G$1)=1,\"Boat 2\",IF(COUNTIF(Général!D148:D152,$G$1)=1,\"Boat 3\", IF(COUNTIF(Général!E148:E152,$G$1)=1,\"Boat 4\", IF(COUNTIF(Général!F148:F152,$G$1)=1,\"Boat 5\", IF(COUNTIF(Général!G148:G152,$G$1)=1,\"Boat 6\", IF(COUNTIF(Général!H148:H152,$G$1)=1,\"Boat 7\",IF(COUNTIF(Général!I148:I152,$G$1)=1,\"Boat 8\",IF(COUNTIF(Général!J148:J152,$G$1)=1,\"Boat 9\",\"Boat 10\")))))))))","v":"Boat 5"},{"$f":"IF(COUNTIF(Général!B156:B159,$G$1)=1,\"Boat 1\",IF(COUNTIF(Général!C156:C159,$G$1)=1,\"Boat 2\",IF(COUNTIF(Général!D156:D159,$G$1)=1,\"Boat 3\", IF(COUNTIF(Général!E156:E159,$G$1)=1,\"Boat 4\", IF(COUNTIF(Général!F156:F159,$G$1)=1,\"Boat 5\", IF(COUNTIF(Général!G156:G159,$G$1)=1,\"Boat 6\", IF(COUNTIF(Général!H156:H159,$G$1)=1,\"Boat 7\",IF(COUNTIF(Général!I156:I159,$G$1)=1,\"Boat 8\",IF(COUNTIF(Général!J156:J159,$G$1)=1,\"Boat 9\",\"Boat 10\")))))))))","v":"Boat 3"},{"$f":"IF(COUNTIF(Général!B162:B165,$G$1)=1,\"Boat 1\",IF(COUNTIF(Général!C162:C165,$G$1)=1,\"Boat 2\",IF(COUNTIF(Général!D162:D165,$G$1)=1,\"Boat 3\", IF(COUNTIF(Général!E162:E165,$G$1)=1,\"Boat 4\", IF(COUNTIF(Général!F162:F165,$G$1)=1,\"Boat 5\", IF(COUNTIF(Général!G162:G165,$G$1)=1,\"Boat 6\", IF(COUNTIF(Général!H162:H165,$G$1)=1,\"Boat 7\",IF(COUNTIF(Général!I162:I165,$G$1)=1,\"Boat 8\",IF(COUNTIF(Général!J162:J165,$G$1)=1,\"Boat 9\",\"Boat 10\")))))))))","v":"Boat 3"},{"$f":"IF(COUNTIF(Général!B168:B171,$G$1)=1,\"Boat 1\",IF(COUNTIF(Général!C168:C171,$G$1)=1,\"Boat 2\",IF(COUNTIF(Général!D168:D171,$G$1)=1,\"Boat 3\", IF(COUNTIF(Général!E168:E171,$G$1)=1,\"Boat 4\", IF(COUNTIF(Général!F168:F171,$G$1)=1,\"Boat 5\", IF(COUNTIF(Général!G168:G171,$G$1)=1,\"Boat 6\", IF(COUNTIF(Général!H168:H171,$G$1)=1,\"Boat 7\",IF(COUNTIF(Général!I168:I171,$G$1)=1,\"Boat 8\",IF(COUNTIF(Général!J168:J171,$G$1)=1,\"Boat 9\",\"Boat 10\")))))))))","v":"Boat 3"},null,{"$f":"Général!B8","v":"Equipage 6"},4]
[null,null,null,null,null,null,null,null,null,null,null,null,null,null,null,null,null,null,null,null,null,{"$f":"Général!B9","v":"Equipage 7"},9]
["1er Equipage",null,{"$f":"IF($C$5=\"Course 1\",Général!B36,IF($C$5=\"Course 2\",Général!B38,IF($C$5=\"Course 3\",Général!#REF!,Général!B40)))","v":"Equipage 6"},{"$f":"IF($D$5=\"Course 1\",Général!B44,IF($D$5=\"Course 2\",Général!B46,IF($D$5=\"Course 3\",Général!#REF!,Général!B48)))","v":"Equipage 12"},{"$f":"IF($E$5=\"Course 1\",Général!B52,IF($E$5=\"Course 2\",Général!B54,IF($E$5=\"Course 3\",Général!#REF!,Général!B56)))","v":"Equipage 5"},{"$f":"IF($F$5=\"Course 1\",Général!B$60,IF($F$5=\"Course 2\",Général!B$62,IF($F$5=\"Course 3\",Général!#REF!,Général!B$64)))","v":"Equipage 8"},{"$f":"IF($G$5=\"Course 1\",Général!B$68,IF($G$5=\"Course 2\",Général!B$70,IF($G$5=\"Course 3\",Général!#REF!,Général!B$72)))","v":"Equipage 5"},{"$f":"IF($H$5=\"Course 1\",Général!B$76,IF($H$5=\"Course 2\",Général!B$78,IF($H$5=\"Course 3\",Général!#REF!,Général!B$80)))","v":"Equipage 2"},{"$f":"IF($I$5=\"Course 1\",Général!B$84,IF($I$5=\"Course 2\",Général!B$86,IF($I$5=\"Course 3\",Général!#REF!,Général!B$88)))","v":"Equipage 8"},{"$f":"IF($J$5=\"Course 1\",Général!B$92,IF($J$5=\"Course 2\",Général!B$94,IF($J$5=\"Course 3\",Général!#REF!,Général!B$96)))","v":"Equipage 3"},{"$f":"IF($K$5=\"Course 1\",Général!B$100,IF($K$5=\"Course 2\",Général!B$102,IF($K$5=\"Course 3\",Général!#REF!,Général!B$104)))","v":"Equipage 5"},{"$f":"IF($L$5=\"Course 1\",Général!B$108,IF($L$5=\"Course 2\",Général!B$110,IF($L$5=\"Course 3\",Général!#REF!,Général!B$112)))","v":"Equipage 1"},{"$f":"IF($M$5=\"Course 1\",Général!B$116,IF($M$5=\"Course 2\",Général!B$118,IF($M$5=\"Course 3\",Général!#REF!,Général!B$120)))","v":"Equipage 7"},{"$f":"IF($N$5=\"Course 1\",Général!B$124,IF($N$5=\"Course 2\",Général!B$126,IF($N$5=\"Course 3\",Général!#REF!,Général!B$128)))","v":"Equipage 7"},{"$f":"IF($O$5=\"Course 1\",Général!B$132,IF($O$5=\"Course 2\",Général!B$134,IF($O$5=\"Course 3\",Général!#REF!,Général!B$136)))","v":"Equipage 9"},{"$f":"IF($P$5=\"Course 1\",Général!B$140,IF($P$5=\"Course 2\",Général!B$142,IF($P$5=\"Course 3\",Général!#REF!,Général!B$144)))","v":"Equipage 6"},{"$f":"IF($Q$5=\"Course 1\",Général!B$148,IF($Q$5=\"Course 2\",Général!B$150,IF($Q$5=\"Course 3\",Général!#REF!,Général!B$152)))","v":"Equipage 12"},{"$f":"IF($R$5=\"Course 1\",Général!B$156,IF($R$5=\"Course 2\",Général!B$158,IF($R$5=\"Course 3\",Général!B$160,Général!B$162)))","v":"Equipage 8"},null,null,null,{"$f":"Général!B10","v":"Equipage 8"},10]
["2nd Equipage",null,{"$f":"IF($C$5=\"Course 1\",Général!C36,IF($C$5=\"Course 2\",Général!C38,IF($C$5=\"Course 3\",Général!#REF!,Général!C40)))","v":"Equipage 7"},{"$f":"IF($D$5=\"Course 1\",Général!C44,IF($D$5=\"Course 2\",Général!C46,IF($D$5=\"Course 3\",Général!#REF!,Général!C48)))","v":"Equipage 11"},{"$f":"IF($E$5=\"Course 1\",Général!C52,IF($E$5=\"Course 2\",Général!C54,IF($E$5=\"Course 3\",Général!#REF!,Général!C56)))","v":"Equipage 11"},{"$f":"IF($F$5=\"Course 1\",Général!C$60,IF($F$5=\"Course 2\",Général!C$62,IF($F$5=\"Course 3\",Général!#REF!,Général!C$64)))","v":"Equipage 3"},{"$f":"IF($G$5=\"Course 1\",Général!C$68,IF($G$5=\"Course 2\",Général!C$70,IF($G$5=\"Course 3\",Général!#REF!,Général!C$72)))","v":"Equipage 2"},{"$f":"IF($H$5=\"Course 1\",Général!C$76,IF($H$5=\"Course 2\",Général!C$78,IF($H$5=\"Course 3\",Général!#REF!,Général!C$80)))","v":"Equipage 4"},{"$f":"IF($I$5=\"Course 1\",Général!C$84,IF($I$5=\"Course 2\",Général!C$86,IF($I$5=\"Course 3\",Général!#REF!,Général!C$88)))","v":"Equipage 10"},{"$f":"IF($J$5=\"Course 1\",Général!C$92,IF($J$5=\"Course 2\",Général!C$94,IF($J$5=\"Course 3\",Général!#REF!,Général!C$96)))","v":"Equipage 10"},{"$f":"IF($K$5=\"Course 1\",Général!C$100,IF($K$5=\"Course 2\",Général!C$102,IF($K$5=\"Course 3\",Général!#REF!,Général!C$104)))","v":"Equipage 8"},{"$f":"IF($L$5=\"Course 1\",Général!C$108,IF($L$5=\"Course 2\",Général!C$110,IF($L$5=\"Course 3\",Général!#REF!,Général!C$112)))","v":"Equipage 5"},{"$f":"IF($M$5=\"Course 1\",Général!C$116,IF($M$5=\"Course 2\",Général!C$118,IF($M$5=\"Course 3\",Général!#REF!,Général!C$120)))","v":"Equipage 1"},{"$f":"IF($N$5=\"Course 1\",Général!C$124,IF($N$5=\"Course 2\",Général!C$126,IF($N$5=\"Course 3\",Général!#REF!,Général!C$128)))","v":"Equipage 9"},{"$f":"IF($O$5=\"Course 1\",Général!C$132,IF($O$5=\"Course 2\",Général!C$134,IF($O$5=\"Course 3\",Général!#REF!,Général!C$136)))","v":"Equipage 2"},{"$f":"IF($P$5=\"Course 1\",Général!C$140,IF($P$5=\"Course 2\",Général!C$142,IF($P$5=\"Course 3\",Général!#REF!,Général!C$144)))","v":"Equipage 2"},{"$f":"IF($Q$5=\"Course 1\",Général!C$148,IF($Q$5=\"Course 2\",Général!C$150,IF($Q$5=\"Course 3\",Général!#REF!,Général!C$152)))","v":"Equipage 11"},{"$f":"IF($R$5=\"Course 1\",Général!C$156,IF($R$5=\"Course 2\",Général!C$158,IF($R$5=\"Course 3\",Général!C$160,Général!C$162)))","v":"Equipage 12"},null,null,null,{"$f":"Général!B11","v":"Equipage 9"},6]
["3ème Equipage",null,{"$f":"IF($C$5=\"Course 1\",Général!D36,IF($C$5=\"Course 2\",Général!D38,IF($C$5=\"Course 3\",Général!#REF!,Général!D40)))","v":"Equipage 10"},{"$f":"IF($D$5=\"Course 1\",Général!D44,IF($D$5=\"Course 2\",Général!D46,IF($D$5=\"Course 3\",Général!#REF!,Général!D48)))","v":"Equipage 3"},{"$f":"IF($E$5=\"Course 1\",Général!D52,IF($E$5=\"Course 2\",Général!D54,IF($E$5=\"Course 3\",Général!#REF!,Général!D56)))","v":"Equipage 8"},{"$f":"IF($F$5=\"Course 1\",Général!D$60,IF($F$5=\"Course 2\",Général!D$62,IF($F$5=\"Course 3\",Général!#REF!,Général!D$64)))","v":"Equipage 6"},{"$f":"IF($G$5=\"Course 1\",Général!D$68,IF($G$5=\"Course 2\",Général!D$70,IF($G$5=\"Course 3\",Général!#REF!,Général!D$72)))","v":"Equipage 9"},{"$f":"IF($H$5=\"Course 1\",Général!D$76,IF($H$5=\"Course 2\",Général!D$78,IF($H$5=\"Course 3\",Général!#REF!,Général!D$80)))","v":"Equipage 1"},{"$f":"IF($I$5=\"Course 1\",Général!D$84,IF($I$5=\"Course 2\",Général!D$86,IF($I$5=\"Course 3\",Général!#REF!,Général!D$88)))","v":"Equipage 11"},{"$f":"IF($J$5=\"Course 1\",Général!D$92,IF($J$5=\"Course 2\",Général!D$94,IF($J$5=\"Course 3\",Général!#REF!,Général!D$96)))","v":"Equipage 7"},{"$f":"IF($K$5=\"Course 1\",Général!D$100,IF($K$5=\"Course 2\",Général!D$102,IF($K$5=\"Course 3\",Général!#REF!,Général!D$104)))","v":"Equipage 3"},{"$f":"IF($L$5=\"Course 1\",Général!D$108,IF($L$5=\"Course 2\",Général!D$110,IF($L$5=\"Course 3\",Général!#REF!,Général!D$112)))","v":"Equipage 3"},{"$f":"IF($M$5=\"Course 1\",Général!D$116,IF($M$5=\"Course 2\",Général!D$118,IF($M$5=\"Course 3\",Général!#REF!,Général!D$120)))","v":"Equipage 2"},{"$f":"IF($N$5=\"Course 1\",Général!D$124,IF($N$5=\"Course 2\",Général!D$126,IF($N$5=\"Course 3\",Général!#REF!,Général!D$128)))","v":"Equipage 2"},{"$f":"IF($O$5=\"Course 1\",Général!D$132,IF($O$5=\"Course 2\",Général!D$134,IF($O$5=\"Course 3\",Général!#REF!,Général!D$136)))","v":"Equipage 12"},{"$f":"IF($P$5=\"Course 1\",Général!D$140,IF($P$5=\"Course 2\",Général!D$142,IF($P$5=\"Course 3\",Général!#REF!,Général!D$144)))","v":"Equipage 12"},{"$f":"IF($Q$5=\"Course 1\",Général!D$148,IF($Q$5=\"Course 2\",Général!D$150,IF($Q$5=\"Course 3\",Général!#REF!,Général!D$152)))","v":"Equipage 5"},{"$f":"IF($R$5=\"Course 1\",Général!D$156,IF($R$5=\"Course 2\",Général!D$158,IF($R$5=\"Course 3\",Général!D$160,Général!D$162)))","v":"Equipage 2"},null,null,null,{"$f":"Général!B12","v":"Equipage 10"},7]
["4ème Equipage",null,{"$f":"IF($C$5=\"Course 1\",Général!E36,IF($C$5=\"Course 2\",Général!E38,IF($C$5=\"Course 3\",Général!#REF!,Général!E40)))","v":"Equipage 2"},{"$f":"IF($D$5=\"Course 1\",Général!E44,IF($D$5=\"Course 2\",Général!E46,IF($D$5=\"Course 3\",Général!#REF!,Général!E48)))","v":"Equipage 9"},{"$f":"IF($E$5=\"Course 1\",Général!E52,IF($E$5=\"Course 2\",Général!E54,IF($E$5=\"Course 3\",Général!#REF!,Général!E56)))","v":"Equipage 10"},{"$f":"IF($F$5=\"Course 1\",Général!E$60,IF($F$5=\"Course 2\",Général!E$62,IF($F$5=\"Course 3\",Général!#REF!,Général!E$64)))","v":"Equipage 7"},{"$f":"IF($G$5=\"Course 1\",Général!E$68,IF($G$5=\"Course 2\",Général!E$70,IF($G$5=\"Course 3\",Général!#REF!,Général!E$72)))","v":"Equipage 11"},{"$f":"IF($H$5=\"Course 1\",Général!E$76,IF($H$5=\"Course 2\",Général!E$78,IF($H$5=\"Course 3\",Général!#REF!,Général!E$80)))","v":"Equipage 12"},{"$f":"IF($I$5=\"Course 1\",Général!E$84,IF($I$5=\"Course 2\",Général!E$86,IF($I$5=\"Course 3\",Général!#REF!,Général!E$88)))","v":"Equipage 12"},{"$f":"IF($J$5=\"Course 1\",Général!E$92,IF($J$5=\"Course 2\",Général!E$94,IF($J$5=\"Course 3\",Général!#REF!,Général!E$96)))","v":"Equipage 9"},{"$f":"IF($K$5=\"Course 1\",Général!E$100,IF($K$5=\"Course 2\",Général!E$102,IF($K$5=\"Course 3\",Général!#REF!,Général!E$104)))","v":"Equipage 2"},{"$f":"IF($L$5=\"Course 1\",Général!E$108,IF($L$5=\"Course 2\",Général!E$110,IF($L$5=\"Course 3\",Général!#REF!,Général!E$112)))","v":"Equipage 2"},{"$f":"IF($M$5=\"Course 1\",Général!E$116,IF($M$5=\"Course 2\",Général!E$118,IF($M$5=\"Course 3\",Général!#REF!,Général!E$120)))","v":"Equipage 8"},{"$f":"IF($N$5=\"Course 1\",Général!E$124,IF($N$5=\"Course 2\",Général!E$126,IF($N$5=\"Course 3\",Général!#REF!,Général!E$128)))","v":"Equipage 8"},{"$f":"IF($O$5=\"Course 1\",Général!E$132,IF($O$5=\"Course 2\",Général!E$134,IF($O$5=\"Course 3\",Général!#REF!,Général!E$136)))","v":"Equipage 1"},{"$f":"IF($P$5=\"Course 1\",Général!E$140,IF($P$5=\"Course 2\",Général!E$142,IF($P$5=\"Course 3\",Général!#REF!,Général!E$144)))","v":"Equipage 7"},{"$f":"IF($Q$5=\"Course 1\",Général!E$148,IF($Q$5=\"Course 2\",Général!E$150,IF($Q$5=\"Course 3\",Général!#REF!,Général!E$152)))","v":"Equipage 8"},{"$f":"IF($R$5=\"Course 1\",Général!E$156,IF($R$5=\"Course 2\",Général!E$158,IF($R$5=\"Course 3\",Général!E$160,Général!E$162)))","v":"Equipage 5"},null,null,null,{"$f":"Général!B13","v":"Equipage 11"},6]
["5ème Equipage",null,{"$f":"IF($C$5=\"Course 1\",Général!F36,IF($C$5=\"Course 2\",Général!F38,IF($C$5=\"Course 3\",Général!#REF!,Général!F40)))","v":"Equipage 11"},{"$f":"IF($D$5=\"Course 1\",Général!F44,IF($D$5=\"Course 2\",Général!F46,IF($D$5=\"Course 3\",Général!#REF!,Général!F48)))","v":"Equipage 1"},{"$f":"IF($E$5=\"Course 1\",Général!F52,IF($E$5=\"Course 2\",Général!F54,IF($E$5=\"Course 3\",Général!#REF!,Général!F56)))","v":"Equipage 7"},{"$f":"IF($F$5=\"Course 1\",Général!F$60,IF($F$5=\"Course 2\",Général!F$62,IF($F$5=\"Course 3\",Général!#REF!,Général!F$64)))","v":"Equipage 2"},{"$f":"IF($G$5=\"Course 1\",Général!F$68,IF($G$5=\"Course 2\",Général!F$70,IF($G$5=\"Course 3\",Général!#REF!,Général!F$72)))","v":"Equipage 4"},{"$f":"IF($H$5=\"Course 1\",Général!F$76,IF($H$5=\"Course 2\",Général!F$78,IF($H$5=\"Course 3\",Général!#REF!,Général!F$80)))","v":"Equipage 10"},{"$f":"IF($I$5=\"Course 1\",Général!F$84,IF($I$5=\"Course 2\",Général!F$86,IF($I$5=\"Course 3\",Général!#REF!,Général!F$88)))","v":"Equipage 5"},{"$f":"IF($J$5=\"Course 1\",Général!F$92,IF($J$5=\"Course 2\",Général!F$94,IF($J$5=\"Course 3\",Général!#REF!,Général!F$96)))","v":"Equipage 5"},{"$f":"IF($K$5=\"Course 1\",Général!F$100,IF($K$5=\"Course 2\",Général!F$102,IF($K$5=\"Course 3\",Général!#REF!,Général!F$104)))","v":"Equipage 10"},{"$f":"IF($L$5=\"Course 1\",Général!F$108,IF($L$5=\"Course 2\",Général!$F110,IF($L$5=\"Course 3\",Général!#REF!,Général!F$112)))","v":"Equipage 9"},{"$f":"IF($M$5=\"Course 1\",Général!F$116,IF($M$5=\"Course 2\",Général!F$118,IF($M$5=\"Course 3\",Général!#REF!,Général!F$120)))","v":"Equipage 3"},{"$f":"IF($N$5=\"Course 1\",Général!F$124,IF($N$5=\"Course 2\",Général!F$126,IF($N$5=\"Course 3\",Général!#REF!,Général!F$128)))","v":"Equipage 5"},{"$f":"IF($O$5=\"Course 1\",Général!F$132,IF($O$5=\"Course 2\",Général!F$134,IF($O$5=\"Course 3\",Général!#REF!,Général!F$136)))","v":"Equipage 4"},{"$f":"IF($P$5=\"Course 1\",Général!F$140,IF($P$5=\"Course 2\",Général!F$142,IF($P$5=\"Course 3\",Général!#REF!,Général!F$144)))","v":"Equipage 4"},{"$f":"IF($Q$5=\"Course 1\",Général!F$148,IF($Q$5=\"Course 2\",Général!F$150,IF($Q$5=\"Course 3\",Général!#REF!,Général!F$152)))","v":"Equipage 2"},{"$f":"IF($R$5=\"Course 1\",Général!F$156,IF($R$5=\"Course 2\",Général!F$158,IF($R$5=\"Course 3\",Général!F$160,Général!F$162)))","v":"Equipage 7"},null,null,null,{"$f":"Général!B14","v":"Equipage 12"},7]
["6ème Equipage",null,{"$f":"IF($C$5=\"Course 1\",Général!G36,IF($C$5=\"Course 2\",Général!G38,IF($C$5=\"Course 3\",Général!#REF!,Général!G40)))","v":"Equipage 5"},{"$f":"IF($D$5=\"Course 1\",Général!G44,IF($D$5=\"Course 2\",Général!G46,IF($D$5=\"Course 3\",Général!#REF!,Général!G48)))","v":"Equipage 2"},{"$f":"IF($E$5=\"Course 1\",Général!G52,IF($E$5=\"Course 2\",Général!G54,IF($E$5=\"Course 3\",Général!#REF!,Général!G56)))","v":"Equipage 2"},{"$f":"IF($F$5=\"Course 1\",Général!G$60,IF($F$5=\"Course 2\",Général!G$62,IF($F$5=\"Course 3\",Général!#REF!,Général!G$64)))","v":"Equipage 5"},{"$f":"IF($G$5=\"Course 1\",Général!G$68,IF($G$5=\"Course 2\",Général!G$70,IF($G$5=\"Course 3\",Général!#REF!,Général!G$72)))","v":"Equipage 10"},{"$f":"IF($H$5=\"Course 1\",Général!G$76,IF($H$5=\"Course 2\",Général!G$78,IF($H$5=\"Course 3\",Général!#REF!,Général!G$80)))","v":"Equipage 3"},{"$f":"IF($I$5=\"Course 1\",Général!G$84,IF($I$5=\"Course 2\",Général!G$86,IF($I$5=\"Course 3\",Général!#REF!,Général!G$88)))","v":"Equipage 2"},{"$f":"IF($J$5=\"Course 1\",Général!G$92,IF($J$5=\"Course 2\",Général!G$94,IF($J$5=\"Course 3\",Général!#REF!,Général!G$96)))","v":"Equipage 2"},{"$f":"IF($K$5=\"Course 1\",Général!G$100,IF($K$5=\"Course 2\",Général!G$102,IF($K$5=\"Course 3\",Général!#REF!,Général!G$104)))","v":"Equipage 6"},{"$f":"IF($L$5=\"Course 1\",Général!G$108,IF($L$5=\"Course 2\",Général!G$110,IF($L$5=\"Course 3\",Général!#REF!,Général!G$112)))","v":"Equipage 7"},{"$f":"IF($M$5=\"Course 1\",Général!G$116,IF($M$5=\"Course 2\",Général!G$118,IF($M$5=\"Course 3\",Général!#REF!,Général!G$120)))","v":"Equipage 4"},{"$f":"IF($N$5=\"Course 1\",Général!G$124,IF($N$5=\"Course 2\",Général!G$126,IF($N$5=\"Course 3\",Général!#REF!,Général!G$128)))","v":"Equipage 4"},{"$f":"IF($O$5=\"Course 1\",Général!G$132,IF($O$5=\"Course 2\",Général!G$134,IF($O$5=\"Course 3\",Général!#REF!,Général!G$136)))","v":"Equipage 8"},{"$f":"IF($P$5=\"Course 1\",Général!G$140,IF($P$5=\"Course 2\",Général!G$142,IF($P$5=\"Course 3\",Général!#REF!,Général!G$144)))","v":"Equipage 8"},{"$f":"IF($Q$5=\"Course 1\",Général!G$148,IF($Q$5=\"Course 2\",Général!G$150,IF($Q$5=\"Course 3\",Général!#REF!,Général!G$152)))","v":"Equipage 4"},{"$f":"IF($R$5=\"Course 1\",Général!G$156,IF($R$5=\"Course 2\",Général!G$158,IF($R$5=\"Course 3\",Général!G$160,Général!G$162)))","v":"Equipage 1"},null,null,null,{"$f":"Général!B15","v":"Equipage 13"},0]
["7ème Equipage",null,{"$f":"IF($C$5=\"Course 1\",Général!H36,IF($C$5=\"Course 2\",Général!H38,IF($C$5=\"Course 3\",Général!#REF!,Général!H40)))","v":0},{"$f":"IF($D$5=\"Course 1\",Général!H44,IF($D$5=\"Course 2\",Général!H46,IF($D$5=\"Course 3\",Général!#REF!,Général!H48)))","v":0},{"$f":"IF($E$5=\"Course 1\",Général!H52,IF($E$5=\"Course 2\",Général!H54,IF($E$5=\"Course 3\",Général!#REF!,Général!H56)))","v":0},{"$f":"IF($F$5=\"Course 1\",Général!H$60,IF($F$5=\"Course 2\",Général!H$62,IF($F$5=\"Course 3\",Général!#REF!,Général!H$64)))","v":0},{"$f":"IF($G$5=\"Course 1\",Général!H$68,IF($G$5=\"Course 2\",Général!H$70,IF($G$5=\"Course 3\",Général!#REF!,Général!H$72)))","v":0},{"$f":"IF($H$5=\"Course 1\",Général!H$76,IF($H$5=\"Course 2\",Général!H$78,IF($H$5=\"Course 3\",Général!#REF!,Général!H$80)))","v":0},{"$f":"IF($I$5=\"Course 1\",Général!H$84,IF($I$5=\"Course 2\",Général!H$86,IF($I$5=\"Course 3\",Général!#REF!,Général!H$88)))","v":0},{"$f":"IF($J$5=\"Course 1\",Général!H$92,IF($J$5=\"Course 2\",Général!H$94,IF($J$5=\"Course 3\",Général!#REF!,Général!H$96)))","v":0},{"$f":"IF($K$5=\"Course 1\",Général!H$100,IF($K$5=\"Course 2\",Général!H$102,IF($K$5=\"Course 3\",Général!#REF!,Général!H$104)))","v":0},{"$f":"IF($L$5=\"Course 1\",Général!H$108,IF($L$5=\"Course 2\",Général!H$110,IF($L$5=\"Course 3\",Général!#REF!,Général!H$112)))","v":0},{"$f":"IF($M$5=\"Course 1\",Général!H$116,IF($M$5=\"Course 2\",Général!H$118,IF($M$5=\"Course 3\",Général!#REF!,Général!H$120)))","v":0},{"$f":"IF($N$5=\"Course 1\",Général!H$124,IF($N$5=\"Course 2\",Général!H$126,IF($N$5=\"Course 3\",Général!#REF!,Général!H$128)))","v":0},{"$f":"IF($O$5=\"Course 1\",Général!H$132,IF($O$5=\"Course 2\",Général!H$134,IF($O$5=\"Course 3\",Général!#REF!,Général!H$136)))","v":0},{"$f":"IF($P$5=\"Course 1\",Général!H$140,IF($P$5=\"Course 2\",Général!H$142,IF($P$5=\"Course 3\",Général!#REF!,Général!H$144)))","v":0},{"$f":"IF($Q$5=\"Course 1\",Général!H$148,IF($Q$5=\"Course 2\",Général!H$150,IF($Q$5=\"Course 3\",Général!#REF!,Général!H$152)))","v":0},{"$f":"IF($R$5=\"Course 1\",Général!H$156,IF($R$5=\"Course 2\",Général!H$158,IF($R$5=\"Course 3\",Général!H$160,Général!H$162)))","v":0},null,null,null,{"$f":"Général!B16","v":"Equipage 14"},0]
["8ème Equipage",null,{"$f":"IF($C$5=\"Course 1\",Général!I36,IF($C$5=\"Course 2\",Général!I38,IF($C$5=\"Course 3\",Général!#REF!,Général!I40)))","v":0},{"$f":"IF($D$5=\"Course 1\",Général!I44,IF($D$5=\"Course 2\",Général!I46,IF($D$5=\"Course 3\",Général!#REF!,Général!I48)))","v":0},{"$f":"IF($E$5=\"Course 1\",Général!I52,IF($E$5=\"Course 2\",Général!I54,IF($E$5=\"Course 3\",Général!#REF!,Général!I56)))","v":0},{"$f":"IF($F$5=\"Course 1\",Général!I$60,IF($F$5=\"Course 2\",Général!I$62,IF($F$5=\"Course 3\",Général!#REF!,Général!I$64)))","v":0},{"$f":"IF($G$5=\"Course 1\",Général!I$68,IF($G$5=\"Course 2\",Général!I$70,IF($G$5=\"Course 3\",Général!#REF!,Général!I$72)))","v":0},{"$f":"IF($H$5=\"Course 1\",Général!I$76,IF($H$5=\"Course 2\",Général!I$78,IF($H$5=\"Course 3\",Général!#REF!,Général!I$80)))","v":0},{"$f":"IF($I$5=\"Course 1\",Général!I$84,IF($I$5=\"Course 2\",Général!I$86,IF($I$5=\"Course 3\",Général!#REF!,Général!I$88)))","v":0},{"$f":"IF($J$5=\"Course 1\",Général!I$92,IF($J$5=\"Course 2\",Général!I$94,IF($J$5=\"Course 3\",Général!#REF!,Général!I$96)))","v":0},{"$f":"IF($K$5=\"Course 1\",Général!I$100,IF($K$5=\"Course 2\",Général!I$102,IF($K$5=\"Course 3\",Général!#REF!,Général!I$104)))","v":0},{"$f":"IF($L$5=\"Course 1\",Général!I$108,IF($L$5=\"Course 2\",Général!I$110,IF($L$5=\"Course 3\",Général!#REF!,Général!I$112)))","v":0},{"$f":"IF($M$5=\"Course 1\",Général!I$116,IF($M$5=\"Course 2\",Général!I$118,IF($M$5=\"Course 3\",Général!#REF!,Général!I$120)))","v":0},{"$f":"IF($N$5=\"Course 1\",Général!I$124,IF($N$5=\"Course 2\",Général!I$126,IF($N$5=\"Course 3\",Général!#REF!,Général!I$128)))","v":0},{"$f":"IF($O$5=\"Course 1\",Général!I$132,IF($O$5=\"Course 2\",Général!I$134,IF($O$5=\"Course 3\",Général!#REF!,Général!I$136)))","v":0},{"$f":"IF($P$5=\"Course 1\",Général!I$140,IF($P$5=\"Course 2\",Général!I$142,IF($P$5=\"Course 3\",Général!#REF!,Général!I$144)))","v":0},{"$f":"IF($Q$5=\"Course 1\",Général!I$148,IF($Q$5=\"Course 2\",Général!I$150,IF($Q$5=\"Course 3\",Général!#REF!,Général!I$152)))","v":0},{"$f":"IF($R$5=\"Course 1\",Général!I$156,IF($R$5=\"Course 2\",Général!I$158,IF($R$5=\"Course 3\",Général!I$160,Général!I$162)))","v":0},null,null,null,{"$f":"Général!B17","v":"Equipage 15"},0]
["9ème Equipage",null,{"$f":"IF($C$5=\"Course 1\",Général!J36,IF($C$5=\"Course 2\",Général!J38,IF($C$5=\"Course 3\",Général!#REF!,Général!J40)))","v":0},{"$f":"IF($D$5=\"Course 1\",Général!J44,IF($D$5=\"Course 2\",Général!J46,IF($D$5=\"Course 3\",Général!#REF!,Général!J48)))","v":0},{"$f":"IF($E$5=\"Course 1\",Général!J52,IF($E$5=\"Course 2\",Général!J54,IF($E$5=\"Course 3\",Général!#REF!,Général!J56)))","v":0},{"$f":"IF($F$5=\"Course 1\",Général!J$60,IF($F$5=\"Course 2\",Général!J$62,IF($F$5=\"Course 3\",Général!#REF!,Général!J$64)))","v":0},{"$f":"IF($G$5=\"Course 1\",Général!J$68,IF($G$5=\"Course 2\",Général!J$70,IF($G$5=\"Course 3\",Général!#REF!,Général!J$72)))","v":0},{"$f":"IF($H$5=\"Course 1\",Général!J$76,IF($H$5=\"Course 2\",Général!J$78,IF($H$5=\"Course 3\",Général!#REF!,Général!J$80)))","v":0},{"$f":"IF($I$5=\"Course 1\",Général!J$84,IF($I$5=\"Course 2\",Général!J$86,IF($I$5=\"Course 3\",Général!#REF!,Général!J$88)))","v":0},{"$f":"IF($J$5=\"Course 1\",Général!J$92,IF($J$5=\"Course 2\",Général!J$94,IF($J$5=\"Course 3\",Général!#REF!,Général!J$96)))","v":0},{"$f":"IF($K$5=\"Course 1\",Général!J$100,IF($K$5=\"Course 2\",Général!J$102,IF($K$5=\"Course 3\",Général!#REF!,Général!J$104)))","v":0},{"$f":"IF($L$5=\"Course 1\",Général!J$108,IF($L$5=\"Course 2\",Général!J$110,IF($L$5=\"Course 3\",Général!#REF!,Général!J$112)))","v":0},{"$f":"IF($M$5=\"Course 1\",Général!J$116,IF($M$5=\"Course 2\",Général!J$118,IF($M$5=\"Course 3\",Général!#REF!,Général!J$120)))","v":0},{"$f":"IF($N$5=\"Course 1\",Général!J$124,IF($N$5=\"Course 2\",Général!J$126,IF($N$5=\"Course 3\",Général!#REF!,Général!J$128)))","v":0},{"$f":"IF($O$5=\"Course 1\",Général!J$132,IF($O$5=\"Course 2\",Général!J$134,IF($O$5=\"Course 3\",Général!#REF!,Général!J$136)))","v":0},{"$f":"IF($P$5=\"Course 1\",Général!J$140,IF($P$5=\"Course 2\",Général!J$142,IF($P$5=\"Course 3\",Général!#REF!,Général!J$144)))","v":0},{"$f":"IF($Q$5=\"Course 1\",Général!J$148,IF($Q$5=\"Course 2\",Général!J$150,IF($Q$5=\"Course 3\",Général!#REF!,Général!J$152)))","v":0},{"$f":"IF($R$5=\"Course 1\",Général!J$156,IF($R$5=\"Course 2\",Général!J$158,IF($R$5=\"Course 3\",Général!J$160,Général!J$162)))","v":0},null,null,null,{"$f":"Général!B18","v":"Equipage 16"},0]
["10ème Equipage",null,{"$f":"IF($C$5=\"Course 1\",Général!K36,IF($C$5=\"Course 2\",Général!K38,IF($C$5=\"Course 3\",Général!#REF!,Général!K40)))","v":0},{"$f":"IF($D$5=\"Course 1\",Général!K44,IF($D$5=\"Course 2\",Général!K46,IF($D$5=\"Course 3\",Général!#REF!,Général!K48)))","v":0},{"$f":"IF($E$5=\"Course 1\",Général!K52,IF($E$5=\"Course 2\",Général!K54,IF($E$5=\"Course 3\",Général!#REF!,Général!K56)))","v":0},{"$f":"IF($F$5=\"Course 1\",Général!K$60,IF($F$5=\"Course 2\",Général!K$62,IF($F$5=\"Course 3\",Général!#REF!,Général!K$64)))","v":0},{"$f":"IF($G$5=\"Course 1\",Général!K$68,IF($G$5=\"Course 2\",Général!K$70,IF($G$5=\"Course 3\",Général!#REF!,Général!K$72)))","v":0},{"$f":"IF($H$5=\"Course 1\",Général!K$76,IF($H$5=\"Course 2\",Général!K$78,IF($H$5=\"Course 3\",Général!#REF!,Général!K$80)))","v":0},{"$f":"IF($I$5=\"Course 1\",Général!K$84,IF($I$5=\"Course 2\",Général!K$86,IF($I$5=\"Course 3\",Général!#REF!,Général!K$88)))","v":0},{"$f":"IF($J$5=\"Course 1\",Général!K$92,IF($J$5=\"Course 2\",Général!K$94,IF($J$5=\"Course 3\",Général!#REF!,Général!K$96)))","v":0},{"$f":"IF($K$5=\"Course 1\",Général!K$100,IF($K$5=\"Course 2\",Général!K$102,IF($K$5=\"Course 3\",Général!#REF!,Général!K$104)))","v":0},{"$f":"IF($L$5=\"Course 1\",Général!K$108,IF($L$5=\"Course 2\",Général!K$110,IF($L$5=\"Course 3\",Général!#REF!,Général!K$112)))","v":0},{"$f":"IF($M$5=\"Course 1\",Général!K$116,IF($M$5=\"Course 2\",Général!K$118,IF($M$5=\"Course 3\",Général!#REF!,Général!K$120)))","v":0},{"$f":"IF($N$5=\"Course 1\",Général!K$124,IF($N$5=\"Course 2\",Général!K$126,IF($N$5=\"Course 3\",Général!#REF!,Général!K$128)))","v":0},{"$f":"IF($O$5=\"Course 1\",Général!K$132,IF($O$5=\"Course 2\",Général!K$134,IF($O$5=\"Course 3\",Général!#REF!,Général!K$136)))","v":0},{"$f":"IF($P$5=\"Course 1\",Général!K$140,IF($P$5=\"Course 2\",Général!K$142,IF($P$5=\"Course 3\",Général!#REF!,Général!K$144)))","v":0},{"$f":"IF($Q$5=\"Course 1\",Général!K$148,IF($Q$5=\"Course 2\",Général!K$150,IF($Q$5=\"Course 3\",Général!#REF!,Général!K$152)))","v":0},{"$f":"IF($R$5=\"Course 1\",Général!K$156,IF($R$5=\"Course 2\",Général!K$158,IF($R$5=\"Course 3\",Général!K$160,Général!K$162)))","v":0},null,null,null,{"$f":"Général!B19","v":"Equipage 17"},0]
[null,null,null,null,null,null,null,null,null,null,null,null,null,null,null,null,null,null,null,null,null,{"$f":"Général!B20","v":"Equipage 18"},0]
[null,null,null,null,null,null,null,null,null,null,null,null,null,null,null,null,null,null,null,null,null,{"$f":"Général!B21","v":"Equipage 19"},{"$f":"COUNTIF($C$8:$R$17,V19)","v":0}]
[null,null,null,null,null,null,null,null,null,null,null,null,null,null,null,null,null,null,null,null,null,{"$f":"Général!B22","v":"Equipage 20"},0]
[null,null,null,null,null,null,null,null,null,null,null,null,null,null,null,null,null,null,null,null,null,{"$f":"Général!B23","v":"Equipage 21"},0]
[null,null,null,null,null,null,null,null,null,null,null,null,null,null,null,null,null,null,null,null,null,{"$f":"Général!B24","v":"Equipage 22"},0]
[null,null,null,null,null,null,null,null,null,null,null,null,null,null,null,null,null,null,null,null,null,{"$f":"Général!B25","v":"Equipage 23"},0]
[null,null,null,null,null,null,null,null,null,null,null,null,null,null,null,null,null,null,null,null,null,{"$f":"Général!B26","v":"Equipage 24"},0]
[null,null,null,null,null,null,null,null,null,null,null,null,null,null,null,null,null,null,null,null,null,{"$f":"Général!B27","v":"Equipage 25"},0]
[null,null,null,null,null,null,null,null,null,null,null,null,null,null,null,null,null,null,null,null,null,{"$f":"Général!B28","v":"Equipage 26"},0]
[null,null,null,null,null,null,null,null,null,null,null,null,null,null,null,null,null,null,null,null,null,{"$f":"Général!B29","v":"Equipage 27"},0]
[null,null,null,null,null,null,null,null,null,null,null,null,null,null,null,null,null,null,null,null,null,{"$f":"Général!B30","v":"Equipage 28"},0]
[null,null,null,null,null,null,null,null,null,null,null,null,null,null,null,null,null,null,null,null,null,{"$f":"Général!B31","v":"Equipage 29"},0]
[null,null,null,null,null,null,null,null,null,null,null,null,null,null,null,null,null,null,null,null,null,{"$f":"Général!B32","v":"Equipage 30"},0]

{"sheet":"Eq.3","index":7,"n_rows":30,"n_cols":23,"rows_kept":30,"cut":false,"hidden":true,"merged":[[7,0,7,1],[0,0,1,5],[0,6,1,10],[3,0,3,1],[4,0,4,1],[5,0,5,1],[14,0,14,1],[15,0,15,1],[16,0,16,1],[8,0,8,1],[9,0,9,1],[10,0,10,1],[11,0,11,1],[12,0,12,1],[13,0,13,1]]}
["Equipage ",null,null,null,null,null,{"$f":"Général!B5","v":"Equipage 3"},null,null,null,null,null,null,null,null,null,null,null,null,null,null,{"$f":"Général!B3","v":"Equipage 1"},{"$f":"COUNTIF(C$8:R$17,V1)","v":11}]
[null,null,null,null,null,null,null,null,null,null,null,null,null,null,null,null,null,null,null,null,null,{"$f":"Général!B4","v":"Equipage 2"},{"$f":"COUNTIF($C$8:$R$17,V2)","v":7}]
[null,null,null,null,null,null,null,null,null,null,null,null,null,null,null,null,null,null,null,null,null,{"$f":"Général!B5","v":"Equipage 3"},{"$f":"COUNTIF($C$8:$R$17,V3)","v":16}]
[null,null,"FLIGHT 1","FLIGHT 2","FLIGHT 3","FLIGHT 4","FLIGHT 5","FLIGHT 6","FLIGHT 7","FLIGHT 8","FLIGHT 9","FLIGHT 10","FLIGHT 11","FLIGHT 12","FLIGHT 13","FLIGHT 14","FLIGHT 15","FLIGHT 16","FLIGHT 17","FLIGHT 18",null,{"$f":"Général!B6","v":"Equipage 4"},{"$f":"COUNTIF($C$8:$R$17,V4)","v":6}]
["N° de course",null,{"$f":"IF(COUNTIF(Général!B36:K36,$G$1)=1,\"Course 1\",IF(COUNTIF(Général!B38:K38,$G$1)=1,\"Course 2\",IF(COUNTIF(Général!#REF!,$G$1)=1,\"Course 3\",\"Course 4\")))","v":"Course 2"},{"$f":"IF(COUNTIF(Général!B44:K44,$G$1)=1,\"Course 1\",IF(COUNTIF(Général!B46:K46,$G$1)=1,\"Course 2\",IF(COUNTIF(Général!#REF!,$G$1)=1,\"Course 3\",\"Course 4\")))","v":"Course 2"},{"$f":"IF(COUNTIF(Général!B52:K52,$G$1)=1,\"Course 1\",IF(COUNTIF(Général!B54:K54,$G$1)=1,\"Course 2\",IF(COUNTIF(Général!#REF!,$G$1)=1,\"Course 3\",\"Course 4\")))","v":"Course 2"},{"$f":"IF(COUNTIF(Général!B60:K60,$G$1)=1,\"Course 1\",IF(COUNTIF(Général!B62:K62,$G$1)=1,\"Course 2\",IF(COUNTIF(Général!#REF!,$G$1)=1,\"Course 3\",\"Course 4\")))","v":"Course 1"},{"$f":"IF(COUNTIF(Général!B68:K68,$G$1)=1,\"Course 1\",IF(COUNTIF(Général!B70:K70,$G$1)=1,\"Course 2\",IF(COUNTIF(Général!#REF!,$G$1)=1,\"Course 3\",\"Course 4\")))","v":"Course 1"},{"$f":"IF(COUNTIF(Général!B76:K76,$G$1)=1,\"Course 1\",IF(COUNTIF(Général!B78:K78,$G$1)=1,\"Course 2\",IF(COUNTIF(Général!#REF!,$G$1)=1,\"Course 3\",\"Course 4\")))","v":"Course 2"},{"$f":"IF(COUNTIF(Général!B84:K84,$G$1)=1,\"Course 1\",IF(COUNTIF(Général!B86:K86,$G$1)=1,\"Course 2\",IF(COUNTIF(Général!#REF!,$G$1)=1,\"Course 3\",\"Course 4\")))","v":"Course 1"},{"$f":"IF(COUNTIF(Général!B92:K92,$G$1)=1,\"Course 1\",IF(COUNTIF(Général!B94:K94,$G$1)=1,\"Course 2\",IF(COUNTIF(Général!#REF!,$G$1)=1,\"Course 3\",\"Course 4\")))","v":"Course 1"},{"$f":"IF(COUNTIF(Général!B100:K100,$G$1)=1,\"Course 1\",IF(COUNTIF(Général!B102:K102,$G$1)=1,\"Course 2\",IF(COUNTIF(Général!#REF!,$G$1)=1,\"Course 3\",\"Course 4\")))","v":"Course 2"},{"$f":"IF(COUNTIF(Général!B108:K108,$G$1)=1,\"Course 1\",IF(COUNTIF(Général!B110:K110,$G$1)=1,\"Course 2\",IF(COUNTIF(Général!#REF!,$G$1)=1,\"Course 3\",\"Course 4\")))","v":"Course 2"},{"$f":"IF(COUNTIF(Général!B116:K116,$G$1)=1,\"Course 1\",IF(COUNTIF(Général!B118:K118,$G$1)=1,\"Course 2\",IF(COUNTIF(Général!#REF!,$G$1)=1,\"Course 3\",\"Course 4\")))","v":"Course 2"},{"$f":"IF(COUNTIF(Général!B124:K124,$G$1)=1,\"Course 1\",IF(COUNTIF(Général!B126:K126,$G$1)=1,\"Course 2\",IF(COUNTIF(Général!#REF!,$G$1)=1,\"Course 3\",\"Course 4\")))","v":"Course 2"},{"$f":"IF(COUNTIF(Général!B132:K132,$G$1)=1,\"Course 1\",IF(COUNTIF(Général!B134:K134,$G$1)=1,\"Course 2\",IF(COUNTIF(Général!#REF!,$G$1)=1,\"Course 3\",\"Course 4\")))","v":"Course 1"},{"$f":"IF(COUNTIF(Général!B140:K140,$G$1)=1,\"Course 1\",IF(COUNTIF(Général!B142:K142,$G$1)=1,\"Course 2\",IF(COUNTIF(Général!#REF!,$G$1)=1,\"Course 3\",\"Course 4\")))","v":"Course 2"},{"$f":"IF(COUNTIF(Général!B148:K148,$G$1)=1,\"Course 1\",IF(COUNTIF(Général!B150:K150,$G$1)=1,\"Course 2\",IF(COUNTIF(Général!#REF!,$G$1)=1,\"Course 3\",\"Course 4\")))","v":"Course 2"},{"$f":"IF(COUNTIF(Général!B156:K156,$G$1)=1,\"Course 1\",IF(COUNTIF(Général!B158:K158,$G$1)=1,\"Course 2\",IF(COUNTIF(Général!B160:K160,$G$1)=1,\"Course 3\",\"Course 4\")))","v":"Course 2"},{"$f":"IF(COUNTIF(Général!C156:L156,$G$1)=1,\"Course 1\",IF(COUNTIF(Général!C158:L158,$G$1)=1,\"Course 2\",IF(COUNTIF(Général!C160:L160,$G$1)=1,\"Course 3\",\"Course 4\")))","v":"Course 2"},{"$f":"IF(COUNTIF(Général!D156:M156,$G$1)=1,\"Course 1\",IF(COUNTIF(Général!D158:M158,$G$1)=1,\"Course 2\",IF(COUNTIF(Général!D160:M160,$G$1)=1,\"Course 3\",\"Course 4\")))","v":"Course 2"},null,{"$f":"Général!B7","v":"Equipage 5"},6]
["Bateau",null,{"$f":"IF(COUNTIF(Général!B36:B40,$G$1)=1,\"Boat 1\",IF(COUNTIF(Général!C36:C40,$G$1)=1,\"Boat 2\",IF(COUNTIF(Général!D36:D40,$G$1)=1,\"Boat 3\",IF(COUNTIF(Général!E36:E40,$G$1)=1,\"Boat 4\",IF(COUNTIF(Général!F36:F40,$G$1)=1,\"Boat 5\",IF(COUNTIF(Général!G36:G40,$G$1)=1,\"Boat 6\",IF(COUNTIF(Général!H36:H40,$G$1)=1,\"Boat 7\",IF(COUNTIF(Général!I36:I40,$G$1)=1,\"Boat 8\",IF(COUNTIF(Général!J36:J40,$G$1)=1,\"Boat 9\",\"Boat10\")))))))))","v":"Boat 2"},{"$f":"IF(COUNTIF(Général!B44:B48,$G$1)=1,\"Boat 1\",IF(COUNTIF(Général!C44:C48,$G$1)=1,\"Boat 2\",IF(COUNTIF(Général!D44:D48,$G$1)=1,\"Boat 3\",IF(COUNTIF(Général!E44:E48,$G$1)=1,\"Boat 4\",IF(COUNTIF(Général!F44:F48,$G$1)=1,\"Boat 5\",IF(COUNTIF(Général!G44:G48,$G$1)=1,\"Boat 6\",IF(COUNTIF(Général!H44:H48,$G$1)=1,\"Boat 7\",IF(COUNTIF(Général!I44:I48,$G$1)=1,\"Boat 8\",IF(COUNTIF(Général!J44:J48,$G$1)=1,\"Boat 9\",\"Boat 10\")))))))))","v":"Boat 3"},{"$f":"IF(COUNTIF(Général!B52:B56,$G$1)=1,\"Boat 1\",IF(COUNTIF(Général!C52:C56,$G$1)=1,\"Boat 2\",IF(COUNTIF(Général!D52:D56,$G$1)=1,\"Boat 3\", IF(COUNTIF(Général!E52:E56,$G$1)=1,\"Boat 4\", IF(COUNTIF(Général!F52:F56,$G$1)=1,\"Boat 5\", IF(COUNTIF(Général!G52:G56,$G$1)=1,\"Boat 6\", IF(COUNTIF(Général!H52:H56,$G$1)=1,\"Boat 7\",IF(COUNTIF(Général!I52:I56,$G$1)=1,\"Boat 8\",IF(COUNTIF(Général!J52:J56,$G$1)=1,\"Boat 9\",\"Boat 10\")))))))))","v":"Boat 2"},{"$f":"IF(COUNTIF(Général!B60:B64,$G$1)=1,\"Boat 1\",IF(COUNTIF(Général!C60:C64,$G$1)=1,\"Boat 2\",IF(COUNTIF(Général!D60:D64,$G$1)=1,\"Boat 3\", IF(COUNTIF(Général!E60:E64,$G$1)=1,\"Boat 4\", IF(COUNTIF(Général!F60:F64,$G$1)=1,\"Boat 5\", IF(COUNTIF(Général!G60:G64,$G$1)=1,\"Boat 6\", IF(COUNTIF(Général!H60:H64,$G$1)=1,\"Boat 7\",IF(COUNTIF(Général!I60:I64,$G$1)=1,\"Boat 8\",IF(COUNTIF(Général!I60:J64,$G$1)=1,\"Boat 9\",\"Boat 10\")))))))))","v":"Boat 2"},{"$f":"IF(COUNTIF(Général!B68:B72,$G$1)=1,\"Boat 1\",IF(COUNTIF(Général!C68:C72,$G$1)=1,\"Boat 2\",IF(COUNTIF(Général!D68:D72,$G$1)=1,\"Boat 3\", IF(COUNTIF(Général!E68:E72,$G$1)=1,\"Boat 4\", IF(COUNTIF(Général!F68:F72,$G$1)=1,\"Boat 5\", IF(COUNTIF(Général!G68:G72,$G$1)=1,\"Boat 6\", IF(COUNTIF(Général!H68:H72,$G$1)=1,\"Boat 7\",IF(COUNTIF(Général!I68:I72,$G$1)=1,\"Boat 8\",IF(COUNTIF(Général!J68:J72,$G$1)=1,\"Boat 9\",\"Boat 10\")))))))))","v":"Boat 4"},{"$f":"IF(COUNTIF(Général!B76:B80,$G$1)=1,\"Boat 1\",IF(COUNTIF(Général!C76:C80,$G$1)=1,\"Boat 2\",IF(COUNTIF(Général!D76:D80,$G$1)=1,\"Boat 3\", IF(COUNTIF(Général!E76:E80,$G$1)=1,\"Boat 4\", IF(COUNTIF(Général!F76:F80,$G$1)=1,\"Boat 5\", IF(COUNTIF(Général!G76:G80,$G$1)=1,\"Boat 6\", IF(COUNTIF(Général!H76:H80,$G$1)=1,\"Boat 7\",IF(COUNTIF(Général!I76:I80,$G$1)=1,\"Boat 8\",IF(COUNTIF(Général!J76:J80,$G$1)=1,\"Boat 9\",\"Boat 10\")))))))))","v":"Boat 6"},{"$f":"IF(COUNTIF(Général!B84:B88,$G$1)=1,\"Boat 1\",IF(COUNTIF(Général!C84:C88,$G$1)=1,\"Boat 2\",IF(COUNTIF(Général!D84:D88,$G$1)=1,\"Boat 3\", IF(COUNTIF(Général!E84:E88,$G$1)=1,\"Boat 4\", IF(COUNTIF(Général!F84:F88,$G$1)=1,\"Boat 5\", IF(COUNTIF(Général!G84:G88,$G$1)=1,\"Boat 6\", IF(COUNTIF(Général!H84:H88,$G$1)=1,\"Boat 7\",IF(COUNTIF(Général!I84:I88,$G$1)=1,\"Boat 8\",IF(COUNTIF(Général!J84:J88,$G$1)=1,\"Boat 9\",\"Boat 10\")))))))))","v":"Boat 6"},{"$f":"IF(COUNTIF(Général!B92:B96,$G$1)=1,\"Boat 1\",IF(COUNTIF(Général!C92:C96,$G$1)=1,\"Boat 2\",IF(COUNTIF(Général!D92:D96,$G$1)=1,\"Boat 3\", IF(COUNTIF(Général!E92:E96,$G$1)=1,\"Boat 4\", IF(COUNTIF(Général!F92:F96,$G$1)=1,\"Boat 5\", IF(COUNTIF(Général!G92:G96,$G$1)=1,\"Boat 6\", IF(COUNTIF(Général!H92:H96,$G$1)=1,\"Boat 7\",IF(COUNTIF(Général!I92:I96,$G$1)=1,\"Boat 8\",IF(COUNTIF(Général!J92:J96,$G$1)=1,\"Boat 9\",\"Boat 10\")))))))))","v":"Boat 1"},{"$f":"IF(COUNTIF(Général!B100:B104,$G$1)=1,\"Boat 1\",IF(COUNTIF(Général!C100:C104,$G$1)=1,\"Boat 2\",IF(COUNTIF(Général!D100:D104,$G$1)=1,\"Boat 3\", IF(COUNTIF(Général!E100:E104,$G$1)=1,\"Boat 4\", IF(COUNTIF(Général!F100:F104,$G$1)=1,\"Boat 5\", IF(COUNTIF(Général!G100:G104,$G$1)=1,\"Boat 6\", IF(COUNTIF(Général!H100:H104,$G$1)=1,\"Boat 7\",IF(COUNTIF(Général!I100:I104,$G$1)=1,\"Boat 8\",IF(COUNTIF(Général!J100:J104,$G$1)=1,\"Boat 9\",\"Boat 10\")))))))))","v":"Boat 3"},{"$f":"IF(COUNTIF(Général!B108:B112,$G$1)=1,\"Boat 1\",IF(COUNTIF(Général!C108:C112,$G$1)=1,\"Boat 2\",IF(COUNTIF(Général!D108:D112,$G$1)=1,\"Boat 3\", IF(COUNTIF(Général!E108:E112,$G$1)=1,\"Boat 4\", IF(COUNTIF(Général!F108:F112,$G$1)=1,\"Boat 5\", IF(COUNTIF(Général!G108:G112,$G$1)=1,\"Boat 6\", IF(COUNTIF(Général!H108:H112,$G$1)=1,\"Boat 7\",IF(COUNTIF(Général!I108:I112,$G$1)=1,\"Boat 8\",IF(COUNTIF(Général!J108:J112,$G$1)=1,\"Boat 9\",\"Boat 10\")))))))))","v":"Boat 3"},{"$f":"IF(COUNTIF(Général!B116:B120,$G$1)=1,\"Boat 1\",IF(COUNTIF(Général!C116:C120,$G$1)=1,\"Boat 2\",IF(COUNTIF(Général!C116:D120,$G$1)=1,\"Boat 3\", IF(COUNTIF(Général!C116:E120,$G$1)=1,\"Boat 4\", IF(COUNTIF(Général!F116:F120,$G$1)=1,\"Boat 5\", IF(COUNTIF(Général!G116:G120,$G$1)=1,\"Boat 6\", IF(COUNTIF(Général!H116:H120,$G$1)=1,\"Boat 7\",IF(COUNTIF(Général!I116:I120,$G$1)=1,\"Boat 8\",IF(COUNTIF(Général!J116:J120,$G$1)=1,\"Boat 9\",\"Boat 10\")))))))))","v":"Boat 5"},{"$f":"IF(COUNTIF(Général!B124:B128,$G$1)=1,\"Boat 1\",IF(COUNTIF(Général!C124:C128,$G$1)=1,\"Boat 2\",IF(COUNTIF(Général!D124:D128,$G$1)=1,\"Boat 3\", IF(COUNTIF(Général!E124:E128,$G$1)=1,\"Boat 4\", IF(COUNTIF(Général!F124:F128,$G$1)=1,\"Boat 5\", IF(COUNTIF(Général!G124:G128,$G$1)=1,\"Boat 6\", IF(COUNTIF(Général!H124:H128,$G$1)=1,\"Boat 7\",IF(COUNTIF(Général!I124:I128,$G$1)=1,\"Boat 8\",IF(COUNTIF(Général!J124:J128,$G$1)=1,\"Boat 9\",\"Boat 10\")))))))))","v":"Boat 6"},{"$f":"IF(COUNTIF(Général!B132:B136,$G$1)=1,\"Boat 1\",IF(COUNTIF(Général!C132:C136,$G$1)=1,\"Boat 2\",IF(COUNTIF(Général!D134:D136,$G$1)=1,\"Boat 3\", IF(COUNTIF(Général!E132:E136,$G$1)=1,\"Boat 4\", IF(COUNTIF(Général!F132:F136,$G$1)=1,\"Boat 5\", IF(COUNTIF(Général!G132:G136,$G$1)=1,\"Boat 6\", IF(COUNTIF(Général!H132:H136,$G$1)=1,\"Boat 7\",IF(COUNTIF(Général!I132:I136,$G$1)=1,\"Boat 8\",IF(COUNTIF(Général!J132:J136,$G$1)=1,\"Boat 9\",\"Boat 10\")))))))))","v":"Boat 6"},{"$f":"IF(COUNTIF(Général!B140:B144,$G$1)=1,\"Boat 1\",IF(COUNTIF(Général!C140:C144,$G$1)=1,\"Boat 2\",IF(COUNTIF(Général!D140:D144,$G$1)=1,\"Boat 3\", IF(COUNTIF(Général!E140:E144,$G$1)=1,\"Boat 4\", IF(COUNTIF(Général!F140:F144,$G$1)=1,\"Boat 5\", IF(COUNTIF(Général!G140:G144,$G$1)=1,\"Boat 6\", IF(COUNTIF(Général!H140:H144,$G$1)=1,\"Boat 7\",IF(COUNTIF(Général!I140:I144,$G$1)=1,\"Boat 8\",IF(COUNTIF(Général!J140:J144,$G$1)=1,\"Boat 9\",\"Boat 10\")))))))))","v":"Boat 5"},{"$f":"IF(COUNTIF(Général!B148:B152,$G$1)=1,\"Boat 1\",IF(COUNTIF(Général!C148:C152,$G$1)=1,\"Boat 2\",IF(COUNTIF(Général!D148:D152,$G$1)=1,\"Boat 3\", IF(COUNTIF(Général!E148:E152,$G$1)=1,\"Boat 4\", IF(COUNTIF(Général!F148:F152,$G$1)=1,\"Boat 5\", IF(COUNTIF(Général!G148:G152,$G$1)=1,\"Boat 6\", IF(COUNTIF(Général!H148:H152,$G$1)=1,\"Boat 7\",IF(COUNTIF(Général!I148:I152,$G$1)=1,\"Boat 8\",IF(COUNTIF(Général!J148:J152,$G$1)=1,\"Boat 9\",\"Boat 10\")))))))))","v":"Boat 1"},{"$f":"IF(COUNTIF(Général!B156:B159,$G$1)=1,\"Boat 1\",IF(COUNTIF(Général!C156:C159,$G$1)=1,\"Boat 2\",IF(COUNTIF(Général!D156:D159,$G$1)=1,\"Boat 3\", IF(COUNTIF(Général!E156:E159,$G$1)=1,\"Boat 4\", IF(COUNTIF(Général!F156:F159,$G$1)=1,\"Boat 5\", IF(COUNTIF(Général!G156:G159,$G$1)=1,\"Boat 6\", IF(COUNTIF(Général!H156:H159,$G$1)=1,\"Boat 7\",IF(COUNTIF(Général!I156:I159,$G$1)=1,\"Boat 8\",IF(COUNTIF(Général!J156:J159,$G$1)=1,\"Boat 9\",\"Boat 10\")))))))))","v":"Boat 5"},{"$f":"IF(COUNTIF(Général!B162:B165,$G$1)=1,\"Boat 1\",IF(COUNTIF(Général!C162:C165,$G$1)=1,\"Boat 2\",IF(COUNTIF(Général!D162:D165,$G$1)=1,\"Boat 3\", IF(COUNTIF(Général!E162:E165,$G$1)=1,\"Boat 4\", IF(COUNTIF(Général!F162:F165,$G$1)=1,\"Boat 5\", IF(COUNTIF(Général!G162:G165,$G$1)=1,\"Boat 6\", IF(COUNTIF(Général!H162:H165,$G$1)=1,\"Boat 7\",IF(COUNTIF(Général!I162:I165,$G$1)=1,\"Boat 8\",IF(COUNTIF(Général!J162:J165,$G$1)=1,\"Boat 9\",\"Boat 10\")))))))))","v":"Boat 5"},{"$f":"IF(COUNTIF(Général!B168:B171,$G$1)=1,\"Boat 1\",IF(COUNTIF(Général!C168:C171,$G$1)=1,\"Boat 2\",IF(COUNTIF(Général!D168:D171,$G$1)=1,\"Boat 3\", IF(COUNTIF(Général!E168:E171,$G$1)=1,\"Boat 4\", IF(COUNTIF(Général!F168:F171,$G$1)=1,\"Boat 5\", IF(COUNTIF(Général!G168:G171,$G$1)=1,\"Boat 6\", IF(COUNTIF(Général!H168:H171,$G$1)=1,\"Boat 7\",IF(COUNTIF(Général!I168:I171,$G$1)=1,\"Boat 8\",IF(COUNTIF(Général!J168:J171,$G$1)=1,\"Boat 9\",\"Boat 10\")))))))))","v":"Boat 5"},null,{"$f":"Général!B8","v":"Equipage 6"},9]
[null,null,null,null,null,null,null,null,null,null,null,null,null,null,null,null,null,null,null,null,null,{"$f":"Général!B9","v":"Equipage 7"},8]
["1er Equipage",null,{"$f":"IF($C$5=\"Course 1\",Général!B36,IF($C$5=\"Course 2\",Général!B38,IF($C$5=\"Course 3\",Général!#REF!,Général!B40)))","v":"Equipage 9"},{"$f":"IF($D$5=\"Course 1\",Général!B44,IF($D$5=\"Course 2\",Général!B46,IF($D$5=\"Course 3\",Général!#REF!,Général!B48)))","v":"Equipage 12"},{"$f":"IF($E$5=\"Course 1\",Général!B52,IF($E$5=\"Course 2\",Général!B54,IF($E$5=\"Course 3\",Général!#REF!,Général!B56)))","v":"Equipage 1"},{"$f":"IF($F$5=\"Course 1\",Général!B$60,IF($F$5=\"Course 2\",Général!B$62,IF($F$5=\"Course 3\",Général!#REF!,Général!B$64)))","v":"Equipage 8"},{"$f":"IF($G$5=\"Course 1\",Général!B$68,IF($G$5=\"Course 2\",Général!B$70,IF($G$5=\"Course 3\",Général!#REF!,Général!B$72)))","v":"Equipage 8"},{"$f":"IF($H$5=\"Course 1\",Général!B$76,IF($H$5=\"Course 2\",Général!B$78,IF($H$5=\"Course 3\",Général!#REF!,Général!B$80)))","v":"Equipage 2"},{"$f":"IF($I$5=\"Course 1\",Général!B$84,IF($I$5=\"Course 2\",Général!B$86,IF($I$5=\"Course 3\",Général!#REF!,Général!B$88)))","v":"Equipage 9"},{"$f":"IF($J$5=\"Course 1\",Général!B$92,IF($J$5=\"Course 2\",Général!B$94,IF($J$5=\"Course 3\",Général!#REF!,Général!B$96)))","v":"Equipage 3"},{"$f":"IF($K$5=\"Course 1\",Général!B$100,IF($K$5=\"Course 2\",Général!B$102,IF($K$5=\"Course 3\",Général!#REF!,Général!B$104)))","v":"Equipage 5"},{"$f":"IF($L$5=\"Course 1\",Général!B$108,IF($L$5=\"Course 2\",Général!B$110,IF($L$5=\"Course 3\",Général!#REF!,Général!B$112)))","v":"Equipage 1"},{"$f":"IF($M$5=\"Course 1\",Général!B$116,IF($M$5=\"Course 2\",Général!B$118,IF($M$5=\"Course 3\",Général!#REF!,Général!B$120)))","v":"Equipage 7"},{"$f":"IF($N$5=\"Course 1\",Général!B$124,IF($N$5=\"Course 2\",Général!B$126,IF($N$5=\"Course 3\",Général!#REF!,Général!B$128)))","v":"Equipage 12"},{"$f":"IF($O$5=\"Course 1\",Général!B$132,IF($O$5=\"Course 2\",Général!B$134,IF($O$5=\"Course 3\",Général!#REF!,Général!B$136)))","v":"Equipage 7"},{"$f":"IF($P$5=\"Course 1\",Général!B$140,IF($P$5=\"Course 2\",Général!B$142,IF($P$5=\"Course 3\",Général!#REF!,Général!B$144)))","v":"Equipage 10"},{"$f":"IF($Q$5=\"Course 1\",Général!B$148,IF($Q$5=\"Course 2\",Général!B$150,IF($Q$5=\"Course 3\",Général!#REF!,Général!B$152)))","v":"Equipage 3"},{"$f":"IF($R$5=\"Course 1\",Général!B$156,IF($R$5=\"Course 2\",Général!B$158,IF($R$5=\"Course 3\",Général!B$160,Général!B$162)))","v":"Equipage 4"},null,null,null,{"$f":"Général!B10","v":"Equipage 8"},5]
["2nd Equipage",null,{"$f":"IF($C$5=\"Course 1\",Général!C36,IF($C$5=\"Course 2\",Général!C38,IF($C$5=\"Course 3\",Général!#REF!,Général!C40)))","v":"Equipage 3"},{"$f":"IF($D$5=\"Course 1\",Général!C44,IF($D$5=\"Course 2\",Général!C46,IF($D$5=\"Course 3\",Général!#REF!,Général!C48)))","v":"Equipage 11"},{"$f":"IF($E$5=\"Course 1\",Général!C52,IF($E$5=\"Course 2\",Général!C54,IF($E$5=\"Course 3\",Général!#REF!,Général!C56)))","v":"Equipage 3"},{"$f":"IF($F$5=\"Course 1\",Général!C$60,IF($F$5=\"Course 2\",Général!C$62,IF($F$5=\"Course 3\",Général!#REF!,Général!C$64)))","v":"Equipage 3"},{"$f":"IF($G$5=\"Course 1\",Général!C$68,IF($G$5=\"Course 2\",Général!C$70,IF($G$5=\"Course 3\",Général!#REF!,Général!C$72)))","v":"Equipage 1"},{"$f":"IF($H$5=\"Course 1\",Général!C$76,IF($H$5=\"Course 2\",Général!C$78,IF($H$5=\"Course 3\",Général!#REF!,Général!C$80)))","v":"Equipage 4"},{"$f":"IF($I$5=\"Course 1\",Général!C$84,IF($I$5=\"Course 2\",Général!C$86,IF($I$5=\"Course 3\",Général!#REF!,Général!C$88)))","v":"Equipage 4"},{"$f":"IF($J$5=\"Course 1\",Général!C$92,IF($J$5=\"Course 2\",Général!C$94,IF($J$5=\"Course 3\",Général!#REF!,Général!C$96)))","v":"Equipage 10"},{"$f":"IF($K$5=\"Course 1\",Général!C$100,IF($K$5=\"Course 2\",Général!C$102,IF($K$5=\"Course 3\",Général!#REF!,Général!C$104)))","v":"Equipage 8"},{"$f":"IF($L$5=\"Course 1\",Général!C$108,IF($L$5=\"Course 2\",Général!C$110,IF($L$5=\"Course 3\",Général!#REF!,Général!C$112)))","v":"Equipage 5"},{"$f":"IF($M$5=\"Course 1\",Général!C$116,IF($M$5=\"Course 2\",Général!C$118,IF($M$5=\"Course 3\",Général!#REF!,Général!C$120)))","v":"Equipage 1"},{"$f":"IF($N$5=\"Course 1\",Général!C$124,IF($N$5=\"Course 2\",Général!C$126,IF($N$5=\"Course 3\",Général!#REF!,Général!C$128)))","v":"Equipage 10"},{"$f":"IF($O$5=\"Course 1\",Général!C$132,IF($O$5=\"Course 2\",Général!C$134,IF($O$5=\"Course 3\",Général!#REF!,Général!C$136)))","v":"Equipage 10"},{"$f":"IF($P$5=\"Course 1\",Général!C$140,IF($P$5=\"Course 2\",Général!C$142,IF($P$5=\"Course 3\",Général!#REF!,Général!C$144)))","v":"Equipage 11"},{"$f":"IF($Q$5=\"Course 1\",Général!C$148,IF($Q$5=\"Course 2\",Général!C$150,IF($Q$5=\"Course 3\",Général!#REF!,Général!C$152)))","v":"Equipage 9"},{"$f":"IF($R$5=\"Course 1\",Général!C$156,IF($R$5=\"Course 2\",Général!C$158,IF($R$5=\"Course 3\",Général!C$160,Général!C$162)))","v":"Equipage 9"},null,null,null,{"$f":"Général!B11","v":"Equipage 9"},9]
["3ème Equipage",null,{"$f":"IF($C$5=\"Course 1\",Général!D36,IF($C$5=\"Course 2\",Général!D38,IF($C$5=\"Course 3\",Général!#REF!,Général!D40)))","v":"Equipage 12"},{"$f":"IF($D$5=\"Course 1\",Général!D44,IF($D$5=\"Course 2\",Général!D46,IF($D$5=\"Course 3\",Général!#REF!,Général!D48)))","v":"Equipage 3"},{"$f":"IF($E$5=\"Course 1\",Général!D52,IF($E$5=\"Course 2\",Général!D54,IF($E$5=\"Course 3\",Général!#REF!,Général!D56)))","v":"Equipage 6"},{"$f":"IF($F$5=\"Course 1\",Général!D$60,IF($F$5=\"Course 2\",Général!D$62,IF($F$5=\"Course 3\",Général!#REF!,Général!D$64)))","v":"Equipage 6"},{"$f":"IF($G$5=\"Course 1\",Général!D$68,IF($G$5=\"Course 2\",Général!D$70,IF($G$5=\"Course 3\",Général!#REF!,Général!D$72)))","v":"Equipage 7"},{"$f":"IF($H$5=\"Course 1\",Général!D$76,IF($H$5=\"Course 2\",Général!D$78,IF($H$5=\"Course 3\",Général!#REF!,Général!D$80)))","v":"Equipage 1"},{"$f":"IF($I$5=\"Course 1\",Général!D$84,IF($I$5=\"Course 2\",Général!D$86,IF($I$5=\"Course 3\",Général!#REF!,Général!D$88)))","v":"Equipage 1"},{"$f":"IF($J$5=\"Course 1\",Général!D$92,IF($J$5=\"Course 2\",Général!D$94,IF($J$5=\"Course 3\",Général!#REF!,Général!D$96)))","v":"Equipage 7"},{"$f":"IF($K$5=\"Course 1\",Général!D$100,IF($K$5=\"Course 2\",Général!D$102,IF($K$5=\"Course 3\",Général!#REF!,Général!D$104)))","v":"Equipage 3"},{"$f":"IF($L$5=\"Course 1\",Général!D$108,IF($L$5=\"Course 2\",Général!D$110,IF($L$5=\"Course 3\",Général!#REF!,Général!D$112)))","v":"Equipage 3"},{"$f":"IF($M$5=\"Course 1\",Général!D$116,IF($M$5=\"Course 2\",Général!D$118,IF($M$5=\"Course 3\",Général!#REF!,Général!D$120)))","v":"Equipage 2"},{"$f":"IF($N$5=\"Course 1\",Général!D$124,IF($N$5=\"Course 2\",Général!D$126,IF($N$5=\"Course 3\",Général!#REF!,Général!D$128)))","v":"Equipage 1"},{"$f":"IF($O$5=\"Course 1\",Général!D$132,IF($O$5=\"Course 2\",Général!D$134,IF($O$5=\"Course 3\",Général!#REF!,Général!D$136)))","v":"Equipage 5"},{"$f":"IF($P$5=\"Course 1\",Général!D$140,IF($P$5=\"Course 2\",Général!D$142,IF($P$5=\"Course 3\",Général!#REF!,Général!D$144)))","v":"Equipage 5"},{"$f":"IF($Q$5=\"Course 1\",Général!D$148,IF($Q$5=\"Course 2\",Général!D$150,IF($Q$5=\"Course 3\",Général!#REF!,Général!D$152)))","v":"Equipage 10"},{"$f":"IF($R$5=\"Course 1\",Général!D$156,IF($R$5=\"Course 2\",Général!D$158,IF($R$5=\"Course 3\",Général!D$160,Général!D$162)))","v":"Equipage 6"},null,null,null,{"$f":"Général!B12","v":"Equipage 10"},8]
["4ème Equipage",null,{"$f":"IF($C$5=\"Course 1\",Général!E36,IF($C$5=\"Course 2\",Général!E38,IF($C$5=\"Course 3\",Général!#REF!,Général!E40)))","v":"Equipage 4"},{"$f":"IF($D$5=\"Course 1\",Général!E44,IF($D$5=\"Course 2\",Général!E46,IF($D$5=\"Course 3\",Général!#REF!,Général!E48)))","v":"Equipage 9"},{"$f":"IF($E$5=\"Course 1\",Général!E52,IF($E$5=\"Course 2\",Général!E54,IF($E$5=\"Course 3\",Général!#REF!,Général!E56)))","v":"Equipage 4"},{"$f":"IF($F$5=\"Course 1\",Général!E$60,IF($F$5=\"Course 2\",Général!E$62,IF($F$5=\"Course 3\",Général!#REF!,Général!E$64)))","v":"Equipage 7"},{"$f":"IF($G$5=\"Course 1\",Général!E$68,IF($G$5=\"Course 2\",Général!E$70,IF($G$5=\"Course 3\",Général!#REF!,Général!E$72)))","v":"Equipage 3"},{"$f":"IF($H$5=\"Course 1\",Général!E$76,IF($H$5=\"Course 2\",Général!E$78,IF($H$5=\"Course 3\",Général!#REF!,Général!E$80)))","v":"Equipage 12"},{"$f":"IF($I$5=\"Course 1\",Général!E$84,IF($I$5=\"Course 2\",Général!E$86,IF($I$5=\"Course 3\",Général!#REF!,Général!E$88)))","v":"Equipage 7"},{"$f":"IF($J$5=\"Course 1\",Général!E$92,IF($J$5=\"Course 2\",Général!E$94,IF($J$5=\"Course 3\",Général!#REF!,Général!E$96)))","v":"Equipage 9"},{"$f":"IF($K$5=\"Course 1\",Général!E$100,IF($K$5=\"Course 2\",Général!E$102,IF($K$5=\"Course 3\",Général!#REF!,Général!E$104)))","v":"Equipage 2"},{"$f":"IF($L$5=\"Course 1\",Général!E$108,IF($L$5=\"Course 2\",Général!E$110,IF($L$5=\"Course 3\",Général!#REF!,Général!E$112)))","v":"Equipage 2"},{"$f":"IF($M$5=\"Course 1\",Général!E$116,IF($M$5=\"Course 2\",Général!E$118,IF($M$5=\"Course 3\",Général!#REF!,Général!E$120)))","v":"Equipage 8"},{"$f":"IF($N$5=\"Course 1\",Général!E$124,IF($N$5=\"Course 2\",Général!E$126,IF($N$5=\"Course 3\",Général!#REF!,Général!E$128)))","v":"Equipage 6"},{"$f":"IF($O$5=\"Course 1\",Général!E$132,IF($O$5=\"Course 2\",Général!E$134,IF($O$5=\"Course 3\",Général!#REF!,Général!E$136)))","v":"Equipage 6"},{"$f":"IF($P$5=\"Course 1\",Général!E$140,IF($P$5=\"Course 2\",Général!E$142,IF($P$5=\"Course 3\",Général!#REF!,Général!E$144)))","v":"Equipage 9"},{"$f":"IF($Q$5=\"Course 1\",Général!E$148,IF($Q$5=\"Course 2\",Général!E$150,IF($Q$5=\"Course 3\",Général!#REF!,Général!E$152)))","v":"Equipage 6"},{"$f":"IF($R$5=\"Course 1\",Général!E$156,IF($R$5=\"Course 2\",Général!E$158,IF($R$5=\"Course 3\",Général!E$160,Général!E$162)))","v":"Equipage 10"},null,null,null,{"$f":"Général!B13","v":"Equipage 11"},5]
["5ème Equipage",null,{"$f":"IF($C$5=\"Course 1\",Général!F36,IF($C$5=\"Course 2\",Général!F38,IF($C$5=\"Course 3\",Général!#REF!,Général!F40)))","v":"Equipage 8"},{"$f":"IF($D$5=\"Course 1\",Général!F44,IF($D$5=\"Course 2\",Général!F46,IF($D$5=\"Course 3\",Général!#REF!,Général!F48)))","v":"Equipage 1"},{"$f":"IF($E$5=\"Course 1\",Général!F52,IF($E$5=\"Course 2\",Général!F54,IF($E$5=\"Course 3\",Général!#REF!,Général!F56)))","v":"Equipage 12"},{"$f":"IF($F$5=\"Course 1\",Général!F$60,IF($F$5=\"Course 2\",Général!F$62,IF($F$5=\"Course 3\",Général!#REF!,Général!F$64)))","v":"Equipage 2"},{"$f":"IF($G$5=\"Course 1\",Général!F$68,IF($G$5=\"Course 2\",Général!F$70,IF($G$5=\"Course 3\",Général!#REF!,Général!F$72)))","v":"Equipage 6"},{"$f":"IF($H$5=\"Course 1\",Général!F$76,IF($H$5=\"Course 2\",Général!F$78,IF($H$5=\"Course 3\",Général!#REF!,Général!F$80)))","v":"Equipage 10"},{"$f":"IF($I$5=\"Course 1\",Général!F$84,IF($I$5=\"Course 2\",Général!F$86,IF($I$5=\"Course 3\",Général!#REF!,Général!F$88)))","v":"Equipage 6"},{"$f":"IF($J$5=\"Course 1\",Général!F$92,IF($J$5=\"Course 2\",Général!F$94,IF($J$5=\"Course 3\",Général!#REF!,Général!F$96)))","v":"Equipage 5"},{"$f":"IF($K$5=\"Course 1\",Général!F$100,IF($K$5=\"Course 2\",Général!F$102,IF($K$5=\"Course 3\",Général!#REF!,Général!F$104)))","v":"Equipage 10"},{"$f":"IF($L$5=\"Course 1\",Général!F$108,IF($L$5=\"Course 2\",Général!$F110,IF($L$5=\"Course 3\",Général!#REF!,Général!F$112)))","v":"Equipage 9"},{"$f":"IF($M$5=\"Course 1\",Général!F$116,IF($M$5=\"Course 2\",Général!F$118,IF($M$5=\"Course 3\",Général!#REF!,Général!F$120)))","v":"Equipage 3"},{"$f":"IF($N$5=\"Course 1\",Général!F$124,IF($N$5=\"Course 2\",Général!F$126,IF($N$5=\"Course 3\",Général!#REF!,Général!F$128)))","v":"Equipage 11"},{"$f":"IF($O$5=\"Course 1\",Général!F$132,IF($O$5=\"Course 2\",Général!F$134,IF($O$5=\"Course 3\",Général!#REF!,Général!F$136)))","v":"Equipage 11"},{"$f":"IF($P$5=\"Course 1\",Général!F$140,IF($P$5=\"Course 2\",Général!F$142,IF($P$5=\"Course 3\",Général!#REF!,Général!F$144)))","v":"Equipage 3"},{"$f":"IF($Q$5=\"Course 1\",Général!F$148,IF($Q$5=\"Course 2\",Général!F$150,IF($Q$5=\"Course 3\",Général!#REF!,Général!F$152)))","v":"Equipage 7"},{"$f":"IF($R$5=\"Course 1\",Général!F$156,IF($R$5=\"Course 2\",Général!F$158,IF($R$5=\"Course 3\",Général!F$160,Général!F$162)))","v":"Equipage 3"},null,null,null,{"$f":"Général!B14","v":"Equipage 12"},6]
["6ème Equipage",null,{"$f":"IF($C$5=\"Course 1\",Général!G36,IF($C$5=\"Course 2\",Général!G38,IF($C$5=\"Course 3\",Général!#REF!,Général!G40)))","v":"Equipage 1"},{"$f":"IF($D$5=\"Course 1\",Général!G44,IF($D$5=\"Course 2\",Général!G46,IF($D$5=\"Course 3\",Général!#REF!,Général!G48)))","v":"Equipage 2"},{"$f":"IF($E$5=\"Course 1\",Général!G52,IF($E$5=\"Course 2\",Général!G54,IF($E$5=\"Course 3\",Général!#REF!,Général!G56)))","v":"Equipage 9"},{"$f":"IF($F$5=\"Course 1\",Général!G$60,IF($F$5=\"Course 2\",Général!G$62,IF($F$5=\"Course 3\",Général!#REF!,Général!G$64)))","v":"Equipage 5"},{"$f":"IF($G$5=\"Course 1\",Général!G$68,IF($G$5=\"Course 2\",Général!G$70,IF($G$5=\"Course 3\",Général!#REF!,Général!G$72)))","v":"Equipage 12"},{"$f":"IF($H$5=\"Course 1\",Général!G$76,IF($H$5=\"Course 2\",Général!G$78,IF($H$5=\"Course 3\",Général!#REF!,Général!G$80)))","v":"Equipage 3"},{"$f":"IF($I$5=\"Course 1\",Général!G$84,IF($I$5=\"Course 2\",Général!G$86,IF($I$5=\"Course 3\",Général!#REF!,Général!G$88)))","v":"Equipage 3"},{"$f":"IF($J$5=\"Course 1\",Général!G$92,IF($J$5=\"Course 2\",Général!G$94,IF($J$5=\"Course 3\",Général!#REF!,Général!G$96)))","v":"Equipage 2"},{"$f":"IF($K$5=\"Course 1\",Général!G$100,IF($K$5=\"Course 2\",Général!G$102,IF($K$5=\"Course 3\",Général!#REF!,Général!G$104)))","v":"Equipage 6"},{"$f":"IF($L$5=\"Course 1\",Général!G$108,IF($L$5=\"Course 2\",Général!G$110,IF($L$5=\"Course 3\",Général!#REF!,Général!G$112)))","v":"Equipage 7"},{"$f":"IF($M$5=\"Course 1\",Général!G$116,IF($M$5=\"Course 2\",Général!G$118,IF($M$5=\"Course 3\",Général!#REF!,Général!G$120)))","v":"Equipage 4"},{"$f":"IF($N$5=\"Course 1\",Général!G$124,IF($N$5=\"Course 2\",Général!G$126,IF($N$5=\"Course 3\",Général!#REF!,Général!G$128)))","v":"Equipage 3"},{"$f":"IF($O$5=\"Course 1\",Général!G$132,IF($O$5=\"Course 2\",Général!G$134,IF($O$5=\"Course 3\",Général!#REF!,Général!G$136)))","v":"Equipage 3"},{"$f":"IF($P$5=\"Course 1\",Général!G$140,IF($P$5=\"Course 2\",Général!G$142,IF($P$5=\"Course 3\",Général!#REF!,Général!G$144)))","v":"Equipage 1"},{"$f":"IF($Q$5=\"Course 1\",Général!G$148,IF($Q$5=\"Course 2\",Général!G$150,IF($Q$5=\"Course 3\",Général!#REF!,Général!G$152)))","v":"Equipage 1"},{"$f":"IF($R$5=\"Course 1\",Général!G$156,IF($R$5=\"Course 2\",Général!G$158,IF($R$5=\"Course 3\",Général!G$160,Général!G$162)))","v":"Equipage 11"},null,null,null,{"$f":"Général!B15","v":"Equipage 13"},0]
["7ème Equipage",null,{"$f":"IF($C$5=\"Course 1\",Général!H36,IF($C$5=\"Course 2\",Général!H38,IF($C$5=\"Course 3\",Général!#REF!,Général!H40)))","v":0},{"$f":"IF($D$5=\"Course 1\",Général!H44,IF($D$5=\"Course 2\",Général!H46,IF($D$5=\"Course 3\",Général!#REF!,Général!H48)))","v":0},{"$f":"IF($E$5=\"Course 1\",Général!H52,IF($E$5=\"Course 2\",Général!H54,IF($E$5=\"Course 3\",Général!#REF!,Général!H56)))","v":0},{"$f":"IF($F$5=\"Course 1\",Général!H$60,IF($F$5=\"Course 2\",Général!H$62,IF($F$5=\"Course 3\",Général!#REF!,Général!H$64)))","v":0},{"$f":"IF($G$5=\"Course 1\",Général!H$68,IF($G$5=\"Course 2\",Général!H$70,IF($G$5=\"Course 3\",Général!#REF!,Général!H$72)))","v":0},{"$f":"IF($H$5=\"Course 1\",Général!H$76,IF($H$5=\"Course 2\",Général!H$78,IF($H$5=\"Course 3\",Général!#REF!,Général!H$80)))","v":0},{"$f":"IF($I$5=\"Course 1\",Général!H$84,IF($I$5=\"Course 2\",Général!H$86,IF($I$5=\"Course 3\",Général!#REF!,Général!H$88)))","v":0},{"$f":"IF($J$5=\"Course 1\",Général!H$92,IF($J$5=\"Course 2\",Général!H$94,IF($J$5=\"Course 3\",Général!#REF!,Général!H$96)))","v":0},{"$f":"IF($K$5=\"Course 1\",Général!H$100,IF($K$5=\"Course 2\",Général!H$102,IF($K$5=\"Course 3\",Général!#REF!,Général!H$104)))","v":0},{"$f":"IF($L$5=\"Course 1\",Général!H$108,IF($L$5=\"Course 2\",Général!H$110,IF($L$5=\"Course 3\",Général!#REF!,Général!H$112)))","v":0},{"$f":"IF($M$5=\"Course 1\",Général!H$116,IF($M$5=\"Course 2\",Général!H$118,IF($M$5=\"Course 3\",Général!#REF!,Général!H$120)))","v":0},{"$f":"IF($N$5=\"Course 1\",Général!H$124,IF($N$5=\"Course 2\",Général!H$126,IF($N$5=\"Course 3\",Général!#REF!,Général!H$128)))","v":0},{"$f":"IF($O$5=\"Course 1\",Général!H$132,IF($O$5=\"Course 2\",Général!H$134,IF($O$5=\"Course 3\",Général!#REF!,Général!H$136)))","v":0},{"$f":"IF($P$5=\"Course 1\",Général!H$140,IF($P$5=\"Course 2\",Général!H$142,IF($P$5=\"Course 3\",Général!#REF!,Général!H$144)))","v":0},{"$f":"IF($Q$5=\"Course 1\",Général!H$148,IF($Q$5=\"Course 2\",Général!H$150,IF($Q$5=\"Course 3\",Général!#REF!,Général!H$152)))","v":0},{"$f":"IF($R$5=\"Course 1\",Général!H$156,IF($R$5=\"Course 2\",Général!H$158,IF($R$5=\"Course 3\",Général!H$160,Général!H$162)))","v":0},null,null,null,{"$f":"Général!B16","v":"Equipage 14"},0]
["8ème Equipage",null,{"$f":"IF($C$5=\"Course 1\",Général!I36,IF($C$5=\"Course 2\",Général!I38,IF($C$5=\"Course 3\",Général!#REF!,Général!I40)))","v":0},{"$f":"IF($D$5=\"Course 1\",Général!I44,IF($D$5=\"Course 2\",Général!I46,IF($D$5=\"Course 3\",Général!#REF!,Général!I48)))","v":0},{"$f":"IF($E$5=\"Course 1\",Général!I52,IF($E$5=\"Course 2\",Général!I54,IF($E$5=\"Course 3\",Général!#REF!,Général!I56)))","v":0},{"$f":"IF($F$5=\"Course 1\",Général!I$60,IF($F$5=\"Course 2\",Général!I$62,IF($F$5=\"Course 3\",Général!#REF!,Général!I$64)))","v":0},{"$f":"IF($G$5=\"Course 1\",Général!I$68,IF($G$5=\"Course 2\",Général!I$70,IF($G$5=\"Course 3\",Général!#REF!,Général!I$72)))","v":0},{"$f":"IF($H$5=\"Course 1\",Général!I$76,IF($H$5=\"Course 2\",Général!I$78,IF($H$5=\"Course 3\",Général!#REF!,Général!I$80)))","v":0},{"$f":"IF($I$5=\"Course 1\",Général!I$84,IF($I$5=\"Course 2\",Général!I$86,IF($I$5=\"Course 3\",Général!#REF!,Général!I$88)))","v":0},{"$f":"IF($J$5=\"Course 1\",Général!I$92,IF($J$5=\"Course 2\",Général!I$94,IF($J$5=\"Course 3\",Général!#REF!,Général!I$96)))","v":0},{"$f":"IF($K$5=\"Course 1\",Général!I$100,IF($K$5=\"Course 2\",Général!I$102,IF($K$5=\"Course 3\",Général!#REF!,Général!I$104)))","v":0},{"$f":"IF($L$5=\"Course 1\",Général!I$108,IF($L$5=\"Course 2\",Général!I$110,IF($L$5=\"Course 3\",Général!#REF!,Général!I$112)))","v":0},{"$f":"IF($M$5=\"Course 1\",Général!I$116,IF($M$5=\"Course 2\",Général!I$118,IF($M$5=\"Course 3\",Général!#REF!,Général!I$120)))","v":0},{"$f":"IF($N$5=\"Course 1\",Général!I$124,IF($N$5=\"Course 2\",Général!I$126,IF($N$5=\"Course 3\",Général!#REF!,Général!I$128)))","v":0},{"$f":"IF($O$5=\"Course 1\",Général!I$132,IF($O$5=\"Course 2\",Général!I$134,IF($O$5=\"Course 3\",Général!#REF!,Général!I$136)))","v":0},{"$f":"IF($P$5=\"Course 1\",Général!I$140,IF($P$5=\"Course 2\",Général!I$142,IF($P$5=\"Course 3\",Général!#REF!,Général!I$144)))","v":0},{"$f":"IF($Q$5=\"Course 1\",Général!I$148,IF($Q$5=\"Course 2\",Général!I$150,IF($Q$5=\"Course 3\",Général!#REF!,Général!I$152)))","v":0},{"$f":"IF($R$5=\"Course 1\",Général!I$156,IF($R$5=\"Course 2\",Général!I$158,IF($R$5=\"Course 3\",Général!I$160,Général!I$162)))","v":0},null,null,null,{"$f":"Général!B17","v":"Equipage 15"},0]
["9ème Equipage",null,{"$f":"IF($C$5=\"Course 1\",Général!J36,IF($C$5=\"Course 2\",Général!J38,IF($C$5=\"Course 3\",Général!#REF!,Général!J40)))","v":0},{"$f":"IF($D$5=\"Course 1\",Général!J44,IF($D$5=\"Course 2\",Général!J46,IF($D$5=\"Course 3\",Général!#REF!,Général!J48)))","v":0},{"$f":"IF($E$5=\"Course 1\",Général!J52,IF($E$5=\"Course 2\",Général!J54,IF($E$5=\"Course 3\",Général!#REF!,Général!J56)))","v":0},{"$f":"IF($F$5=\"Course 1\",Général!J$60,IF($F$5=\"Course 2\",Général!J$62,IF($F$5=\"Course 3\",Général!#REF!,Général!J$64)))","v":0},{"$f":"IF($G$5=\"Course 1\",Général!J$68,IF($G$5=\"Course 2\",Général!J$70,IF($G$5=\"Course 3\",Général!#REF!,Général!J$72)))","v":0},{"$f":"IF($H$5=\"Course 1\",Général!J$76,IF($H$5=\"Course 2\",Général!J$78,IF($H$5=\"Course 3\",Général!#REF!,Général!J$80)))","v":0},{"$f":"IF($I$5=\"Course 1\",Général!J$84,IF($I$5=\"Course 2\",Général!J$86,IF($I$5=\"Course 3\",Général!#REF!,Général!J$88)))","v":0},{"$f":"IF($J$5=\"Course 1\",Général!J$92,IF($J$5=\"Course 2\",Général!J$94,IF($J$5=\"Course 3\",Général!#REF!,Général!J$96)))","v":0},{"$f":"IF($K$5=\"Course 1\",Général!J$100,IF($K$5=\"Course 2\",Général!J$102,IF($K$5=\"Course 3\",Général!#REF!,Général!J$104)))","v":0},{"$f":"IF($L$5=\"Course 1\",Général!J$108,IF($L$5=\"Course 2\",Général!J$110,IF($L$5=\"Course 3\",Général!#REF!,Général!J$112)))","v":0},{"$f":"IF($M$5=\"Course 1\",Général!J$116,IF($M$5=\"Course 2\",Général!J$118,IF($M$5=\"Course 3\",Général!#REF!,Général!J$120)))","v":0},{"$f":"IF($N$5=\"Course 1\",Général!J$124,IF($N$5=\"Course 2\",Général!J$126,IF($N$5=\"Course 3\",Général!#REF!,Général!J$128)))","v":0},{"$f":"IF($O$5=\"Course 1\",Général!J$132,IF($O$5=\"Course 2\",Général!J$134,IF($O$5=\"Course 3\",Général!#REF!,Général!J$136)))","v":0},{"$f":"IF($P$5=\"Course 1\",Général!J$140,IF($P$5=\"Course 2\",Général!J$142,IF($P$5=\"Course 3\",Général!#REF!,Général!J$144)))","v":0},{"$f":"IF($Q$5=\"Course 1\",Général!J$148,IF($Q$5=\"Course 2\",Général!J$150,IF($Q$5=\"Course 3\",Général!#REF!,Général!J$152)))","v":0},{"$f":"IF($R$5=\"Course 1\",Général!J$156,IF($R$5=\"Course 2\",Général!J$158,IF($R$5=\"Course 3\",Général!J$160,Général!J$162)))","v":0},null,null,null,{"$f":"Général!B18","v":"Equipage 16"},0]
["10ème Equipage",null,{"$f":"IF($C$5=\"Course 1\",Général!K36,IF($C$5=\"Course 2\",Général!K38,IF($C$5=\"Course 3\",Général!#REF!,Général!K40)))","v":0},{"$f":"IF($D$5=\"Course 1\",Général!K44,IF($D$5=\"Course 2\",Général!K46,IF($D$5=\"Course 3\",Général!#REF!,Général!K48)))","v":0},{"$f":"IF($E$5=\"Course 1\",Général!K52,IF($E$5=\"Course 2\",Général!K54,IF($E$5=\"Course 3\",Général!#REF!,Général!K56)))","v":0},{"$f":"IF($F$5=\"Course 1\",Général!K$60,IF($F$5=\"Course 2\",Général!K$62,IF($F$5=\"Course 3\",Général!#REF!,Général!K$64)))","v":0},{"$f":"IF($G$5=\"Course 1\",Général!K$68,IF($G$5=\"Course 2\",Général!K$70,IF($G$5=\"Course 3\",Général!#REF!,Général!K$72)))","v":0},{"$f":"IF($H$5=\"Course 1\",Général!K$76,IF($H$5=\"Course 2\",Général!K$78,IF($H$5=\"Course 3\",Général!#REF!,Général!K$80)))","v":0},{"$f":"IF($I$5=\"Course 1\",Général!K$84,IF($I$5=\"Course 2\",Général!K$86,IF($I$5=\"Course 3\",Général!#REF!,Général!K$88)))","v":0},{"$f":"IF($J$5=\"Course 1\",Général!K$92,IF($J$5=\"Course 2\",Général!K$94,IF($J$5=\"Course 3\",Général!#REF!,Général!K$96)))","v":0},{"$f":"IF($K$5=\"Course 1\",Général!K$100,IF($K$5=\"Course 2\",Général!K$102,IF($K$5=\"Course 3\",Général!#REF!,Général!K$104)))","v":0},{"$f":"IF($L$5=\"Course 1\",Général!K$108,IF($L$5=\"Course 2\",Général!K$110,IF($L$5=\"Course 3\",Général!#REF!,Général!K$112)))","v":0},{"$f":"IF($M$5=\"Course 1\",Général!K$116,IF($M$5=\"Course 2\",Général!K$118,IF($M$5=\"Course 3\",Général!#REF!,Général!K$120)))","v":0},{"$f":"IF($N$5=\"Course 1\",Général!K$124,IF($N$5=\"Course 2\",Général!K$126,IF($N$5=\"Course 3\",Général!#REF!,Général!K$128)))","v":0},{"$f":"IF($O$5=\"Course 1\",Général!K$132,IF($O$5=\"Course 2\",Général!K$134,IF($O$5=\"Course 3\",Général!#REF!,Général!K$136)))","v":0},{"$f":"IF($P$5=\"Course 1\",Général!K$140,IF($P$5=\"Course 2\",Général!K$142,IF($P$5=\"Course 3\",Général!#REF!,Général!K$144)))","v":0},{"$f":"IF($Q$5=\"Course 1\",Général!K$148,IF($Q$5=\"Course 2\",Général!K$150,IF($Q$5=\"Course 3\",Général!#REF!,Général!K$152)))","v":0},{"$f":"IF($R$5=\"Course 1\",Général!K$156,IF($R$5=\"Course 2\",Général!K$158,IF($R$5=\"Course 3\",Général!K$160,Général!K$162)))","v":0},null,null,null,{"$f":"Général!B19","v":"Equipage 17"},0]
[null,null,null,null,null,null,null,null,null,null,null,null,null,null,null,null,null,null,null,null,null,{"$f":"Général!B20","v":"Equipage 18"},0]
[null,null,null,null,null,null,null,null,null,null,null,null,null,null,null,null,null,null,null,null,null,{"$f":"Général!B21","v":"Equipage 19"},{"$f":"COUNTIF($C$8:$R$17,V19)","v":0}]
[null,null,null,null,null,null,null,null,null,null,null,null,null,null,null,null,null,null,null,null,null,{"$f":"Général!B22","v":"Equipage 20"},0]
[null,null,null,null,null,null,null,null,null,null,null,null,null,null,null,null,null,null,null,null,null,{"$f":"Général!B23","v":"Equipage 21"},0]
[null,null,null,null,null,null,null,null,null,null,null,null,null,null,null,null,null,null,null,null,null,{"$f":"Général!B24","v":"Equipage 22"},0]
[null,null,null,null,null,null,null,null,null,null,null,null,null,null,null,null,null,null,null,null,null,{"$f":"Général!B25","v":"Equipage 23"},0]
[null,null,null,null,null,null,null,null,null,null,null,null,null,null,null,null,null,null,null,null,null,{"$f":"Général!B26","v":"Equipage 24"},0]
[null,null,null,null,null,null,null,null,null,null,null,null,null,null,null,null,null,null,null,null,null,{"$f":"Général!B27","v":"Equipage 25"},0]
[null,null,null,null,null,null,null,null,null,null,null,null,null,null,null,null,null,null,null,null,null,{"$f":"Général!B28","v":"Equipage 26"},0]
[null,null,null,null,null,null,null,null,null,null,null,null,null,null,null,null,null,null,null,null,null,{"$f":"Général!B29","v":"Equipage 27"},0]
[null,null,null,null,null,null,null,null,null,null,null,null,null,null,null,null,null,null,null,null,null,{"$f":"Général!B30","v":"Equipage 28"},0]
[null,null,null,null,null,null,null,null,null,null,null,null,null,null,null,null,null,null,null,null,null,{"$f":"Général!B31","v":"Equipage 29"},0]
[null,null,null,null,null,null,null,null,null,null,null,null,null,null,null,null,null,null,null,null,null,{"$f":"Général!B32","v":"Equipage 30"},0]

{"sheet":"Eq.4","index":8,"n_rows":30,"n_cols":23,"rows_kept":30,"cut":false,"hidden":true,"merged":[[7,0,7,1],[0,0,1,5],[0,6,1,10],[3,0,3,1],[4,0,4,1],[5,0,5,1],[14,0,14,1],[15,0,15,1],[16,0,16,1],[8,0,8,1],[9,0,9,1],[10,0,10,1],[11,0,11,1],[12,0,12,1],[13,0,13,1]]}
["Equipage ",null,null,null,null,null,{"$f":"Général!B6","v":"Equipage 4"},null,null,null,null,null,null,null,null,null,null,null,null,null,null,{"$f":"Général!B3","v":"Equipage 1"},{"$f":"COUNTIF(C$8:R$17,V1)","v":9}]
[null,null,null,null,null,null,null,null,null,null,null,null,null,null,null,null,null,null,null,null,null,{"$f":"Général!B4","v":"Equipage 2"},{"$f":"COUNTIF($C$8:$R$17,V2)","v":7}]
[null,null,null,null,null,null,null,null,null,null,null,null,null,null,null,null,null,null,null,null,null,{"$f":"Général!B5","v":"Equipage 3"},{"$f":"COUNTIF($C$8:$R$17,V3)","v":6}]
[null,null,"FLIGHT 1","FLIGHT 2","FLIGHT 3","FLIGHT 4","FLIGHT 5","FLIGHT 6","FLIGHT 7","FLIGHT 8","FLIGHT 9","FLIGHT 10","FLIGHT 11","FLIGHT 12","FLIGHT 13","FLIGHT 14","FLIGHT 15","FLIGHT 16","FLIGHT 17","FLIGHT 18",null,{"$f":"Général!B6","v":"Equipage 4"},{"$f":"COUNTIF($C$8:$R$17,V4)","v":16}]
["N° de course",null,{"$f":"IF(COUNTIF(Général!B36:K36,$G$1)=1,\"Course 1\",IF(COUNTIF(Général!B38:K38,$G$1)=1,\"Course 2\",IF(COUNTIF(Général!#REF!,$G$1)=1,\"Course 3\",\"Course 4\")))","v":"Course 2"},{"$f":"IF(COUNTIF(Général!B44:K44,$G$1)=1,\"Course 1\",IF(COUNTIF(Général!B46:K46,$G$1)=1,\"Course 2\",IF(COUNTIF(Général!#REF!,$G$1)=1,\"Course 3\",\"Course 4\")))","v":"Course 1"},{"$f":"IF(COUNTIF(Général!B52:K52,$G$1)=1,\"Course 1\",IF(COUNTIF(Général!B54:K54,$G$1)=1,\"Course 2\",IF(COUNTIF(Général!#REF!,$G$1)=1,\"Course 3\",\"Course 4\")))","v":"Course 2"},{"$f":"IF(COUNTIF(Général!B60:K60,$G$1)=1,\"Course 1\",IF(COUNTIF(Général!B62:K62,$G$1)=1,\"Course 2\",IF(COUNTIF(Général!#REF!,$G$1)=1,\"Course 3\",\"Course 4\")))","v":"Course 2"},{"$f":"IF(COUNTIF(Général!B68:K68,$G$1)=1,\"Course 1\",IF(COUNTIF(Général!B70:K70,$G$1)=1,\"Course 2\",IF(COUNTIF(Général!#REF!,$G$1)=1,\"Course 3\",\"Course 4\")))","v":"Course 2"},{"$f":"IF(COUNTIF(Général!B76:K76,$G$1)=1,\"Course 1\",IF(COUNTIF(Général!B78:K78,$G$1)=1,\"Course 2\",IF(COUNTIF(Général!#REF!,$G$1)=1,\"Course 3\",\"Course 4\")))","v":"Course 2"},{"$f":"IF(COUNTIF(Général!B84:K84,$G$1)=1,\"Course 1\",IF(COUNTIF(Général!B86:K86,$G$1)=1,\"Course 2\",IF(COUNTIF(Général!#REF!,$G$1)=1,\"Course 3\",\"Course 4\")))","v":"Course 1"},{"$f":"IF(COUNTIF(Général!B92:K92,$G$1)=1,\"Course 1\",IF(COUNTIF(Général!B94:K94,$G$1)=1,\"Course 2\",IF(COUNTIF(Général!#REF!,$G$1)=1,\"Course 3\",\"Course 4\")))","v":"Course 2"},{"$f":"IF(COUNTIF(Général!B100:K100,$G$1)=1,\"Course 1\",IF(COUNTIF(Général!B102:K102,$G$1)=1,\"Course 2\",IF(COUNTIF(Général!#REF!,$G$1)=1,\"Course 3\",\"Course 4\")))","v":"Course 1"},{"$f":"IF(COUNTIF(Général!B108:K108,$G$1)=1,\"Course 1\",IF(COUNTIF(Général!B110:K110,$G$1)=1,\"Course 2\",IF(COUNTIF(Général!#REF!,$G$1)=1,\"Course 3\",\"Course 4\")))","v":"Course 1"},{"$f":"IF(COUNTIF(Général!B116:K116,$G$1)=1,\"Course 1\",IF(COUNTIF(Général!B118:K118,$G$1)=1,\"Course 2\",IF(COUNTIF(Général!#REF!,$G$1)=1,\"Course 3\",\"Course 4\")))","v":"Course 2"},{"$f":"IF(COUNTIF(Général!B124:K124,$G$1)=1,\"Course 1\",IF(COUNTIF(Général!B126:K126,$G$1)=1,\"Course 2\",IF(COUNTIF(Général!#REF!,$G$1)=1,\"Course 3\",\"Course 4\")))","v":"Course 1"},{"$f":"IF(COUNTIF(Général!B132:K132,$G$1)=1,\"Course 1\",IF(COUNTIF(Général!B134:K134,$G$1)=1,\"Course 2\",IF(COUNTIF(Général!#REF!,$G$1)=1,\"Course 3\",\"Course 4\")))","v":"Course 2"},{"$f":"IF(COUNTIF(Général!B140:K140,$G$1)=1,\"Course 1\",IF(COUNTIF(Général!B142:K142,$G$1)=1,\"Course 2\",IF(COUNTIF(Général!#REF!,$G$1)=1,\"Course 3\",\"Course 4\")))","v":"Course 1"},{"$f":"IF(COUNTIF(Général!B148:K148,$G$1)=1,\"Course 1\",IF(COUNTIF(Général!B150:K150,$G$1)=1,\"Course 2\",IF(COUNTIF(Général!#REF!,$G$1)=1,\"Course 3\",\"Course 4\")))","v":"Course 1"},{"$f":"IF(COUNTIF(Général!B156:K156,$G$1)=1,\"Course 1\",IF(COUNTIF(Général!B158:K158,$G$1)=1,\"Course 2\",IF(COUNTIF(Général!B160:K160,$G$1)=1,\"Course 3\",\"Course 4\")))","v":"Course 2"},{"$f":"IF(COUNTIF(Général!C156:L156,$G$1)=1,\"Course 1\",IF(COUNTIF(Général!C158:L158,$G$1)=1,\"Course 2\",IF(COUNTIF(Général!C160:L160,$G$1)=1,\"Course 3\",\"Course 4\")))","v":"Course 4"},{"$f":"IF(COUNTIF(Général!D156:M156,$G$1)=1,\"Course 1\",IF(COUNTIF(Général!D158:M158,$G$1)=1,\"Course 2\",IF(COUNTIF(Général!D160:M160,$G$1)=1,\"Course 3\",\"Course 4\")))","v":"Course 4"},null,{"$f":"Général!B7","v":"Equipage 5"},4]
["Bateau",null,{"$f":"IF(COUNTIF(Général!B36:B40,$G$1)=1,\"Boat 1\",IF(COUNTIF(Général!C36:C40,$G$1)=1,\"Boat 2\",IF(COUNTIF(Général!D36:D40,$G$1)=1,\"Boat 3\",IF(COUNTIF(Général!E36:E40,$G$1)=1,\"Boat 4\",IF(COUNTIF(Général!F36:F40,$G$1)=1,\"Boat 5\",IF(COUNTIF(Général!G36:G40,$G$1)=1,\"Boat 6\",IF(COUNTIF(Général!H36:H40,$G$1)=1,\"Boat 7\",IF(COUNTIF(Général!I36:I40,$G$1)=1,\"Boat 8\",IF(COUNTIF(Général!J36:J40,$G$1)=1,\"Boat 9\",\"Boat10\")))))))))","v":"Boat 4"},{"$f":"IF(COUNTIF(Général!B44:B48,$G$1)=1,\"Boat 1\",IF(COUNTIF(Général!C44:C48,$G$1)=1,\"Boat 2\",IF(COUNTIF(Général!D44:D48,$G$1)=1,\"Boat 3\",IF(COUNTIF(Général!E44:E48,$G$1)=1,\"Boat 4\",IF(COUNTIF(Général!F44:F48,$G$1)=1,\"Boat 5\",IF(COUNTIF(Général!G44:G48,$G$1)=1,\"Boat 6\",IF(COUNTIF(Général!H44:H48,$G$1)=1,\"Boat 7\",IF(COUNTIF(Général!I44:I48,$G$1)=1,\"Boat 8\",IF(COUNTIF(Général!J44:J48,$G$1)=1,\"Boat 9\",\"Boat 10\")))))))))","v":"Boat 4"},{"$f":"IF(COUNTIF(Général!B52:B56,$G$1)=1,\"Boat 1\",IF(COUNTIF(Général!C52:C56,$G$1)=1,\"Boat 2\",IF(COUNTIF(Général!D52:D56,$G$1)=1,\"Boat 3\", IF(COUNTIF(Général!E52:E56,$G$1)=1,\"Boat 4\", IF(COUNTIF(Général!F52:F56,$G$1)=1,\"Boat 5\", IF(COUNTIF(Général!G52:G56,$G$1)=1,\"Boat 6\", IF(COUNTIF(Général!H52:H56,$G$1)=1,\"Boat 7\",IF(COUNTIF(Général!I52:I56,$G$1)=1,\"Boat 8\",IF(COUNTIF(Général!J52:J56,$G$1)=1,\"Boat 9\",\"Boat 10\")))))))))","v":"Boat 4"},{"$f":"IF(COUNTIF(Général!B60:B64,$G$1)=1,\"Boat 1\",IF(COUNTIF(Général!C60:C64,$G$1)=1,\"Boat 2\",IF(COUNTIF(Général!D60:D64,$G$1)=1,\"Boat 3\", IF(COUNTIF(Général!E60:E64,$G$1)=1,\"Boat 4\", IF(COUNTIF(Général!F60:F64,$G$1)=1,\"Boat 5\", IF(COUNTIF(Général!G60:G64,$G$1)=1,\"Boat 6\", IF(COUNTIF(Général!H60:H64,$G$1)=1,\"Boat 7\",IF(COUNTIF(Général!I60:I64,$G$1)=1,\"Boat 8\",IF(COUNTIF(Général!I60:J64,$G$1)=1,\"Boat 9\",\"Boat 10\")))))))))","v":"Boat 1"},{"$f":"IF(COUNTIF(Général!B68:B72,$G$1)=1,\"Boat 1\",IF(COUNTIF(Général!C68:C72,$G$1)=1,\"Boat 2\",IF(COUNTIF(Général!D68:D72,$G$1)=1,\"Boat 3\", IF(COUNTIF(Général!E68:E72,$G$1)=1,\"Boat 4\", IF(COUNTIF(Général!F68:F72,$G$1)=1,\"Boat 5\", IF(COUNTIF(Général!G68:G72,$G$1)=1,\"Boat 6\", IF(COUNTIF(Général!H68:H72,$G$1)=1,\"Boat 7\",IF(COUNTIF(Général!I68:I72,$G$1)=1,\"Boat 8\",IF(COUNTIF(Général!J68:J72,$G$1)=1,\"Boat 9\",\"Boat 10\")))))))))","v":"Boat 5"},{"$f":"IF(COUNTIF(Général!B76:B80,$G$1)=1,\"Boat 1\",IF(COUNTIF(Général!C76:C80,$G$1)=1,\"Boat 2\",IF(COUNTIF(Général!D76:D80,$G$1)=1,\"Boat 3\", IF(COUNTIF(Général!E76:E80,$G$1)=1,\"Boat 4\", IF(COUNTIF(Général!F76:F80,$G$1)=1,\"Boat 5\", IF(COUNTIF(Général!G76:G80,$G$1)=1,\"Boat 6\", IF(COUNTIF(Général!H76:H80,$G$1)=1,\"Boat 7\",IF(COUNTIF(Général!I76:I80,$G$1)=1,\"Boat 8\",IF(COUNTIF(Général!J76:J80,$G$1)=1,\"Boat 9\",\"Boat 10\")))))))))","v":"Boat 2"},{"$f":"IF(COUNTIF(Général!B84:B88,$G$1)=1,\"Boat 1\",IF(COUNTIF(Général!C84:C88,$G$1)=1,\"Boat 2\",IF(COUNTIF(Général!D84:D88,$G$1)=1,\"Boat 3\", IF(COUNTIF(Général!E84:E88,$G$1)=1,\"Boat 4\", IF(COUNTIF(Général!F84:F88,$G$1)=1,\"Boat 5\", IF(COUNTIF(Général!G84:G88,$G$1)=1,\"Boat 6\", IF(COUNTIF(Général!H84:H88,$G$1)=1,\"Boat 7\",IF(COUNTIF(Général!I84:I88,$G$1)=1,\"Boat 8\",IF(COUNTIF(Général!J84:J88,$G$1)=1,\"Boat 9\",\"Boat 10\")))))))))","v":"Boat 2"},{"$f":"IF(COUNTIF(Général!B92:B96,$G$1)=1,\"Boat 1\",IF(COUNTIF(Général!C92:C96,$G$1)=1,\"Boat 2\",IF(COUNTIF(Général!D92:D96,$G$1)=1,\"Boat 3\", IF(COUNTIF(Général!E92:E96,$G$1)=1,\"Boat 4\", IF(COUNTIF(Général!F92:F96,$G$1)=1,\"Boat 5\", IF(COUNTIF(Général!G92:G96,$G$1)=1,\"Boat 6\", IF(COUNTIF(Général!H92:H96,$G$1)=1,\"Boat 7\",IF(COUNTIF(Général!I92:I96,$G$1)=1,\"Boat 8\",IF(COUNTIF(Général!J92:J96,$G$1)=1,\"Boat 9\",\"Boat 10\")))))))))","v":"Boat 3"},{"$f":"IF(COUNTIF(Général!B100:B104,$G$1)=1,\"Boat 1\",IF(COUNTIF(Général!C100:C104,$G$1)=1,\"Boat 2\",IF(COUNTIF(Général!D100:D104,$G$1)=1,\"Boat 3\", IF(COUNTIF(Général!E100:E104,$G$1)=1,\"Boat 4\", IF(COUNTIF(Général!F100:F104,$G$1)=1,\"Boat 5\", IF(COUNTIF(Général!G100:G104,$G$1)=1,\"Boat 6\", IF(COUNTIF(Général!H100:H104,$G$1)=1,\"Boat 7\",IF(COUNTIF(Général!I100:I104,$G$1)=1,\"Boat 8\",IF(COUNTIF(Général!J100:J104,$G$1)=1,\"Boat 9\",\"Boat 10\")))))))))","v":"Boat 3"},{"$f":"IF(COUNTIF(Général!B108:B112,$G$1)=1,\"Boat 1\",IF(COUNTIF(Général!C108:C112,$G$1)=1,\"Boat 2\",IF(COUNTIF(Général!D108:D112,$G$1)=1,\"Boat 3\", IF(COUNTIF(Général!E108:E112,$G$1)=1,\"Boat 4\", IF(COUNTIF(Général!F108:F112,$G$1)=1,\"Boat 5\", IF(COUNTIF(Général!G108:G112,$G$1)=1,\"Boat 6\", IF(COUNTIF(Général!H108:H112,$G$1)=1,\"Boat 7\",IF(COUNTIF(Général!I108:I112,$G$1)=1,\"Boat 8\",IF(COUNTIF(Général!J108:J112,$G$1)=1,\"Boat 9\",\"Boat 10\")))))))))","v":"Boat 1"},{"$f":"IF(COUNTIF(Général!B116:B120,$G$1)=1,\"Boat 1\",IF(COUNTIF(Général!C116:C120,$G$1)=1,\"Boat 2\",IF(COUNTIF(Général!C116:D120,$G$1)=1,\"Boat 3\", IF(COUNTIF(Général!C116:E120,$G$1)=1,\"Boat 4\", IF(COUNTIF(Général!F116:F120,$G$1)=1,\"Boat 5\", IF(COUNTIF(Général!G116:G120,$G$1)=1,\"Boat 6\", IF(COUNTIF(Général!H116:H120,$G$1)=1,\"Boat 7\",IF(COUNTIF(Général!I116:I120,$G$1)=1,\"Boat 8\",IF(COUNTIF(Général!J116:J120,$G$1)=1,\"Boat 9\",\"Boat 10\")))))))))","v":"Boat 6"},{"$f":"IF(COUNTIF(Général!B124:B128,$G$1)=1,\"Boat 1\",IF(COUNTIF(Général!C124:C128,$G$1)=1,\"Boat 2\",IF(COUNTIF(Général!D124:D128,$G$1)=1,\"Boat 3\", IF(COUNTIF(Général!E124:E128,$G$1)=1,\"Boat 4\", IF(COUNTIF(Général!F124:F128,$G$1)=1,\"Boat 5\", IF(COUNTIF(Général!G124:G128,$G$1)=1,\"Boat 6\", IF(COUNTIF(Général!H124:H128,$G$1)=1,\"Boat 7\",IF(COUNTIF(Général!I124:I128,$G$1)=1,\"Boat 8\",IF(COUNTIF(Général!J124:J128,$G$1)=1,\"Boat 9\",\"Boat 10\")))))))))","v":"Boat 6"},{"$f":"IF(COUNTIF(Général!B132:B136,$G$1)=1,\"Boat 1\",IF(COUNTIF(Général!C132:C136,$G$1)=1,\"Boat 2\",IF(COUNTIF(Général!D134:D136,$G$1)=1,\"Boat 3\", IF(COUNTIF(Général!E132:E136,$G$1)=1,\"Boat 4\", IF(COUNTIF(Général!F132:F136,$G$1)=1,\"Boat 5\", IF(COUNTIF(Général!G132:G136,$G$1)=1,\"Boat 6\", IF(COUNTIF(Général!H132:H136,$G$1)=1,\"Boat 7\",IF(COUNTIF(Général!I132:I136,$G$1)=1,\"Boat 8\",IF(COUNTIF(Général!J132:J136,$G$1)=1,\"Boat 9\",\"Boat 10\")))))))))","v":"Boat 5"},{"$f":"IF(COUNTIF(Général!B140:B144,$G$1)=1,\"Boat 1\",IF(COUNTIF(Général!C140:C144,$G$1)=1,\"Boat 2\",IF(COUNTIF(Général!D140:D144,$G$1)=1,\"Boat 3\", IF(COUNTIF(Général!E140:E144,$G$1)=1,\"Boat 4\", IF(COUNTIF(Général!F140:F144,$G$1)=1,\"Boat 5\", IF(COUNTIF(Général!G140:G144,$G$1)=1,\"Boat 6\", IF(COUNTIF(Général!H140:H144,$G$1)=1,\"Boat 7\",IF(COUNTIF(Général!I140:I144,$G$1)=1,\"Boat 8\",IF(COUNTIF(Général!J140:J144,$G$1)=1,\"Boat 9\",\"Boat 10\")))))))))","v":"Boat 5"},{"$f":"IF(COUNTIF(Général!B148:B152,$G$1)=1,\"Boat 1\",IF(COUNTIF(Général!C148:C152,$G$1)=1,\"Boat 2\",IF(COUNTIF(Général!D148:D152,$G$1)=1,\"Boat 3\", IF(COUNTIF(Général!E148:E152,$G$1)=1,\"Boat 4\", IF(COUNTIF(Général!F148:F152,$G$1)=1,\"Boat 5\", IF(COUNTIF(Général!G148:G152,$G$1)=1,\"Boat 6\", IF(COUNTIF(Général!H148:H152,$G$1)=1,\"Boat 7\",IF(COUNTIF(Général!I148:I152,$G$1)=1,\"Boat 8\",IF(COUNTIF(Général!J148:J152,$G$1)=1,\"Boat 9\",\"Boat 10\")))))))))","v":"Boat 6"},{"$f":"IF(COUNTIF(Général!B156:B159,$G$1)=1,\"Boat 1\",IF(COUNTIF(Général!C156:C159,$G$1)=1,\"Boat 2\",IF(COUNTIF(Général!D156:D159,$G$1)=1,\"Boat 3\", IF(COUNTIF(Général!E156:E159,$G$1)=1,\"Boat 4\", IF(COUNTIF(Général!F156:F159,$G$1)=1,\"Boat 5\", IF(COUNTIF(Général!G156:G159,$G$1)=1,\"Boat 6\", IF(COUNTIF(Général!H156:H159,$G$1)=1,\"Boat 7\",IF(COUNTIF(Général!I156:I159,$G$1)=1,\"Boat 8\",IF(COUNTIF(Général!J156:J159,$G$1)=1,\"Boat 9\",\"Boat 10\")))))))))","v":"Boat 1"},{"$f":"IF(COUNTIF(Général!B162:B165,$G$1)=1,\"Boat 1\",IF(COUNTIF(Général!C162:C165,$G$1)=1,\"Boat 2\",IF(COUNTIF(Général!D162:D165,$G$1)=1,\"Boat 3\", IF(COUNTIF(Général!E162:E165,$G$1)=1,\"Boat 4\", IF(COUNTIF(Général!F162:F165,$G$1)=1,\"Boat 5\", IF(COUNTIF(Général!G162:G165,$G$1)=1,\"Boat 6\", IF(COUNTIF(Général!H162:H165,$G$1)=1,\"Boat 7\",IF(COUNTIF(Général!I162:I165,$G$1)=1,\"Boat 8\",IF(COUNTIF(Général!J162:J165,$G$1)=1,\"Boat 9\",\"Boat 10\")))))))))","v":"Boat 1"},{"$f":"IF(COUNTIF(Général!B168:B171,$G$1)=1,\"Boat 1\",IF(COUNTIF(Général!C168:C171,$G$1)=1,\"Boat 2\",IF(COUNTIF(Général!D168:D171,$G$1)=1,\"Boat 3\", IF(COUNTIF(Général!E168:E171,$G$1)=1,\"Boat 4\", IF(COUNTIF(Général!F168:F171,$G$1)=1,\"Boat 5\", IF(COUNTIF(Général!G168:G171,$G$1)=1,\"Boat 6\", IF(COUNTIF(Général!H168:H171,$G$1)=1,\"Boat 7\",IF(COUNTIF(Général!I168:I171,$G$1)=1,\"Boat 8\",IF(COUNTIF(Général!J168:J171,$G$1)=1,\"Boat 9\",\"Boat 10\")))))))))","v":"Boat 1"},null,{"$f":"Général!B8","v":"Equipage 6"},7]
[null,null,null,null,null,null,null,null,null,null,null,null,null,null,null,null,null,null,null,null,null,{"$f":"Général!B9","v":"Equipage 7"},6]
["1er Equipage",null,{"$f":"IF($C$5=\"Course 1\",Général!B36,IF($C$5=\"Course 2\",Général!B38,IF($C$5=\"Course 3\",Général!#REF!,Général!B40)))","v":"Equipage 9"},{"$f":"IF($D$5=\"Course 1\",Général!B44,IF($D$5=\"Course 2\",Général!B46,IF($D$5=\"Course 3\",Général!#REF!,Général!B48)))","v":"Equipage 7"},{"$f":"IF($E$5=\"Course 1\",Général!B52,IF($E$5=\"Course 2\",Général!B54,IF($E$5=\"Course 3\",Général!#REF!,Général!B56)))","v":"Equipage 1"},{"$f":"IF($F$5=\"Course 1\",Général!B$60,IF($F$5=\"Course 2\",Général!B$62,IF($F$5=\"Course 3\",Général!#REF!,Général!B$64)))","v":"Equipage 4"},{"$f":"IF($G$5=\"Course 1\",Général!B$68,IF($G$5=\"Course 2\",Général!B$70,IF($G$5=\"Course 3\",Général!#REF!,Général!B$72)))","v":"Equipage 5"},{"$f":"IF($H$5=\"Course 1\",Général!B$76,IF($H$5=\"Course 2\",Général!B$78,IF($H$5=\"Course 3\",Général!#REF!,Général!B$80)))","v":"Equipage 2"},{"$f":"IF($I$5=\"Course 1\",Général!B$84,IF($I$5=\"Course 2\",Général!B$86,IF($I$5=\"Course 3\",Général!#REF!,Général!B$88)))","v":"Equipage 9"},{"$f":"IF($J$5=\"Course 1\",Général!B$92,IF($J$5=\"Course 2\",Général!B$94,IF($J$5=\"Course 3\",Général!#REF!,Général!B$96)))","v":"Equipage 11"},{"$f":"IF($K$5=\"Course 1\",Général!B$100,IF($K$5=\"Course 2\",Général!B$102,IF($K$5=\"Course 3\",Général!#REF!,Général!B$104)))","v":"Equipage 11"},{"$f":"IF($L$5=\"Course 1\",Général!B$108,IF($L$5=\"Course 2\",Général!B$110,IF($L$5=\"Course 3\",Général!#REF!,Général!B$112)))","v":"Equipage 4"},{"$f":"IF($M$5=\"Course 1\",Général!B$116,IF($M$5=\"Course 2\",Général!B$118,IF($M$5=\"Course 3\",Général!#REF!,Général!B$120)))","v":"Equipage 7"},{"$f":"IF($N$5=\"Course 1\",Général!B$124,IF($N$5=\"Course 2\",Général!B$126,IF($N$5=\"Course 3\",Général!#REF!,Général!B$128)))","v":"Equipage 7"},{"$f":"IF($O$5=\"Course 1\",Général!B$132,IF($O$5=\"Course 2\",Général!B$134,IF($O$5=\"Course 3\",Général!#REF!,Général!B$136)))","v":"Equipage 9"},{"$f":"IF($P$5=\"Course 1\",Général!B$140,IF($P$5=\"Course 2\",Général!B$142,IF($P$5=\"Course 3\",Général!#REF!,Général!B$144)))","v":"Equipage 6"},{"$f":"IF($Q$5=\"Course 1\",Général!B$148,IF($Q$5=\"Course 2\",Général!B$150,IF($Q$5=\"Course 3\",Général!#REF!,Général!B$152)))","v":"Equipage 12"},{"$f":"IF($R$5=\"Course 1\",Général!B$156,IF($R$5=\"Course 2\",Général!B$158,IF($R$5=\"Course 3\",Général!B$160,Général!B$162)))","v":"Equipage 4"},null,null,null,{"$f":"Général!B10","v":"Equipage 8"},9]
["2nd Equipage",null,{"$f":"IF($C$5=\"Course 1\",Général!C36,IF($C$5=\"Course 2\",Général!C38,IF($C$5=\"Course 3\",Général!#REF!,Général!C40)))","v":"Equipage 3"},{"$f":"IF($D$5=\"Course 1\",Général!C44,IF($D$5=\"Course 2\",Général!C46,IF($D$5=\"Course 3\",Général!#REF!,Général!C48)))","v":"Equipage 5"},{"$f":"IF($E$5=\"Course 1\",Général!C52,IF($E$5=\"Course 2\",Général!C54,IF($E$5=\"Course 3\",Général!#REF!,Général!C56)))","v":"Equipage 3"},{"$f":"IF($F$5=\"Course 1\",Général!C$60,IF($F$5=\"Course 2\",Général!C$62,IF($F$5=\"Course 3\",Général!#REF!,Général!C$64)))","v":"Equipage 1"},{"$f":"IF($G$5=\"Course 1\",Général!C$68,IF($G$5=\"Course 2\",Général!C$70,IF($G$5=\"Course 3\",Général!#REF!,Général!C$72)))","v":"Equipage 2"},{"$f":"IF($H$5=\"Course 1\",Général!C$76,IF($H$5=\"Course 2\",Général!C$78,IF($H$5=\"Course 3\",Général!#REF!,Général!C$80)))","v":"Equipage 4"},{"$f":"IF($I$5=\"Course 1\",Général!C$84,IF($I$5=\"Course 2\",Général!C$86,IF($I$5=\"Course 3\",Général!#REF!,Général!C$88)))","v":"Equipage 4"},{"$f":"IF($J$5=\"Course 1\",Général!C$92,IF($J$5=\"Course 2\",Général!C$94,IF($J$5=\"Course 3\",Général!#REF!,Général!C$96)))","v":"Equipage 8"},{"$f":"IF($K$5=\"Course 1\",Général!C$100,IF($K$5=\"Course 2\",Général!C$102,IF($K$5=\"Course 3\",Général!#REF!,Général!C$104)))","v":"Equipage 7"},{"$f":"IF($L$5=\"Course 1\",Général!C$108,IF($L$5=\"Course 2\",Général!C$110,IF($L$5=\"Course 3\",Général!#REF!,Général!C$112)))","v":"Equipage 8"},{"$f":"IF($M$5=\"Course 1\",Général!C$116,IF($M$5=\"Course 2\",Général!C$118,IF($M$5=\"Course 3\",Général!#REF!,Général!C$120)))","v":"Equipage 1"},{"$f":"IF($N$5=\"Course 1\",Général!C$124,IF($N$5=\"Course 2\",Général!C$126,IF($N$5=\"Course 3\",Général!#REF!,Général!C$128)))","v":"Equipage 9"},{"$f":"IF($O$5=\"Course 1\",Général!C$132,IF($O$5=\"Course 2\",Général!C$134,IF($O$5=\"Course 3\",Général!#REF!,Général!C$136)))","v":"Equipage 2"},{"$f":"IF($P$5=\"Course 1\",Général!C$140,IF($P$5=\"Course 2\",Général!C$142,IF($P$5=\"Course 3\",Général!#REF!,Général!C$144)))","v":"Equipage 2"},{"$f":"IF($Q$5=\"Course 1\",Général!C$148,IF($Q$5=\"Course 2\",Général!C$150,IF($Q$5=\"Course 3\",Général!#REF!,Général!C$152)))","v":"Equipage 11"},{"$f":"IF($R$5=\"Course 1\",Général!C$156,IF($R$5=\"Course 2\",Général!C$158,IF($R$5=\"Course 3\",Général!C$160,Général!C$162)))","v":"Equipage 9"},null,null,null,{"$f":"Général!B11","v":"Equipage 9"},9]
["3ème Equipage",null,{"$f":"IF($C$5=\"Course 1\",Général!D36,IF($C$5=\"Course 2\",Général!D38,IF($C$5=\"Course 3\",Général!#REF!,Général!D40)))","v":"Equipage 12"},{"$f":"IF($D$5=\"Course 1\",Général!D44,IF($D$5=\"Course 2\",Général!D46,IF($D$5=\"Course 3\",Général!#REF!,Général!D48)))","v":"Equipage 6"},{"$f":"IF($E$5=\"Course 1\",Général!D52,IF($E$5=\"Course 2\",Général!D54,IF($E$5=\"Course 3\",Général!#REF!,Général!D56)))","v":"Equipage 6"},{"$f":"IF($F$5=\"Course 1\",Général!D$60,IF($F$5=\"Course 2\",Général!D$62,IF($F$5=\"Course 3\",Général!#REF!,Général!D$64)))","v":"Equipage 10"},{"$f":"IF($G$5=\"Course 1\",Général!D$68,IF($G$5=\"Course 2\",Général!D$70,IF($G$5=\"Course 3\",Général!#REF!,Général!D$72)))","v":"Equipage 9"},{"$f":"IF($H$5=\"Course 1\",Général!D$76,IF($H$5=\"Course 2\",Général!D$78,IF($H$5=\"Course 3\",Général!#REF!,Général!D$80)))","v":"Equipage 1"},{"$f":"IF($I$5=\"Course 1\",Général!D$84,IF($I$5=\"Course 2\",Général!D$86,IF($I$5=\"Course 3\",Général!#REF!,Général!D$88)))","v":"Equipage 1"},{"$f":"IF($J$5=\"Course 1\",Général!D$92,IF($J$5=\"Course 2\",Général!D$94,IF($J$5=\"Course 3\",Général!#REF!,Général!D$96)))","v":"Equipage 4"},{"$f":"IF($K$5=\"Course 1\",Général!D$100,IF($K$5=\"Course 2\",Général!D$102,IF($K$5=\"Course 3\",Général!#REF!,Général!D$104)))","v":"Equipage 4"},{"$f":"IF($L$5=\"Course 1\",Général!D$108,IF($L$5=\"Course 2\",Général!D$110,IF($L$5=\"Course 3\",Général!#REF!,Général!D$112)))","v":"Equipage 12"},{"$f":"IF($M$5=\"Course 1\",Général!D$116,IF($M$5=\"Course 2\",Général!D$118,IF($M$5=\"Course 3\",Général!#REF!,Général!D$120)))","v":"Equipage 2"},{"$f":"IF($N$5=\"Course 1\",Général!D$124,IF($N$5=\"Course 2\",Général!D$126,IF($N$5=\"Course 3\",Général!#REF!,Général!D$128)))","v":"Equipage 2"},{"$f":"IF($O$5=\"Course 1\",Général!D$132,IF($O$5=\"Course 2\",Général!D$134,IF($O$5=\"Course 3\",Général!#REF!,Général!D$136)))","v":"Equipage 12"},{"$f":"IF($P$5=\"Course 1\",Général!D$140,IF($P$5=\"Course 2\",Général!D$142,IF($P$5=\"Course 3\",Général!#REF!,Général!D$144)))","v":"Equipage 12"},{"$f":"IF($Q$5=\"Course 1\",Général!D$148,IF($Q$5=\"Course 2\",Général!D$150,IF($Q$5=\"Course 3\",Général!#REF!,Général!D$152)))","v":"Equipage 5"},{"$f":"IF($R$5=\"Course 1\",Général!D$156,IF($R$5=\"Course 2\",Général!D$158,IF($R$5=\"Course 3\",Général!D$160,Général!D$162)))","v":"Equipage 6"},null,null,null,{"$f":"Général!B12","v":"Equipage 10"},6]
["4ème Equipage",null,{"$f":"IF($C$5=\"Course 1\",Général!E36,IF($C$5=\"Course 2\",Général!E38,IF($C$5=\"Course 3\",Général!#REF!,Général!E40)))","v":"Equipage 4"},{"$f":"IF($D$5=\"Course 1\",Général!E44,IF($D$5=\"Course 2\",Général!E46,IF($D$5=\"Course 3\",Général!#REF!,Général!E48)))","v":"Equipage 4"},{"$f":"IF($E$5=\"Course 1\",Général!E52,IF($E$5=\"Course 2\",Général!E54,IF($E$5=\"Course 3\",Général!#REF!,Général!E56)))","v":"Equipage 4"},{"$f":"IF($F$5=\"Course 1\",Général!E$60,IF($F$5=\"Course 2\",Général!E$62,IF($F$5=\"Course 3\",Général!#REF!,Général!E$64)))","v":"Equipage 11"},{"$f":"IF($G$5=\"Course 1\",Général!E$68,IF($G$5=\"Course 2\",Général!E$70,IF($G$5=\"Course 3\",Général!#REF!,Général!E$72)))","v":"Equipage 11"},{"$f":"IF($H$5=\"Course 1\",Général!E$76,IF($H$5=\"Course 2\",Général!E$78,IF($H$5=\"Course 3\",Général!#REF!,Général!E$80)))","v":"Equipage 12"},{"$f":"IF($I$5=\"Course 1\",Général!E$84,IF($I$5=\"Course 2\",Général!E$86,IF($I$5=\"Course 3\",Général!#REF!,Général!E$88)))","v":"Equipage 7"},{"$f":"IF($J$5=\"Course 1\",Général!E$92,IF($J$5=\"Course 2\",Général!E$94,IF($J$5=\"Course 3\",Général!#REF!,Général!E$96)))","v":"Equipage 1"},{"$f":"IF($K$5=\"Course 1\",Général!E$100,IF($K$5=\"Course 2\",Général!E$102,IF($K$5=\"Course 3\",Général!#REF!,Général!E$104)))","v":"Equipage 1"},{"$f":"IF($L$5=\"Course 1\",Général!E$108,IF($L$5=\"Course 2\",Général!E$110,IF($L$5=\"Course 3\",Général!#REF!,Général!E$112)))","v":"Equipage 11"},{"$f":"IF($M$5=\"Course 1\",Général!E$116,IF($M$5=\"Course 2\",Général!E$118,IF($M$5=\"Course 3\",Général!#REF!,Général!E$120)))","v":"Equipage 8"},{"$f":"IF($N$5=\"Course 1\",Général!E$124,IF($N$5=\"Course 2\",Général!E$126,IF($N$5=\"Course 3\",Général!#REF!,Général!E$128)))","v":"Equipage 8"},{"$f":"IF($O$5=\"Course 1\",Général!E$132,IF($O$5=\"Course 2\",Général!E$134,IF($O$5=\"Course 3\",Général!#REF!,Général!E$136)))","v":"Equipage 1"},{"$f":"IF($P$5=\"Course 1\",Général!E$140,IF($P$5=\"Course 2\",Général!E$142,IF($P$5=\"Course 3\",Général!#REF!,Général!E$144)))","v":"Equipage 7"},{"$f":"IF($Q$5=\"Course 1\",Général!E$148,IF($Q$5=\"Course 2\",Général!E$150,IF($Q$5=\"Course 3\",Général!#REF!,Général!E$152)))","v":"Equipage 8"},{"$f":"IF($R$5=\"Course 1\",Général!E$156,IF($R$5=\"Course 2\",Général!E$158,IF($R$5=\"Course 3\",Général!E$160,Général!E$162)))","v":"Equipage 10"},null,null,null,{"$f":"Général!B13","v":"Equipage 11"},7]
["5ème Equipage",null,{"$f":"IF($C$5=\"Course 1\",Général!F36,IF($C$5=\"Course 2\",Général!F38,IF($C$5=\"Course 3\",Général!#REF!,Général!F40)))","v":"Equipage 8"},{"$f":"IF($D$5=\"Course 1\",Général!F44,IF($D$5=\"Course 2\",Général!F46,IF($D$5=\"Course 3\",Général!#REF!,Général!F48)))","v":"Equipage 8"},{"$f":"IF($E$5=\"Course 1\",Général!F52,IF($E$5=\"Course 2\",Général!F54,IF($E$5=\"Course 3\",Général!#REF!,Général!F56)))","v":"Equipage 12"},{"$f":"IF($F$5=\"Course 1\",Général!F$60,IF($F$5=\"Course 2\",Général!F$62,IF($F$5=\"Course 3\",Général!#REF!,Général!F$64)))","v":"Equipage 9"},{"$f":"IF($G$5=\"Course 1\",Général!F$68,IF($G$5=\"Course 2\",Général!F$70,IF($G$5=\"Course 3\",Général!#REF!,Général!F$72)))","v":"Equipage 4"},{"$f":"IF($H$5=\"Course 1\",Général!F$76,IF($H$5=\"Course 2\",Général!F$78,IF($H$5=\"Course 3\",Général!#REF!,Général!F$80)))","v":"Equipage 10"},{"$f":"IF($I$5=\"Course 1\",Général!F$84,IF($I$5=\"Course 2\",Général!F$86,IF($I$5=\"Course 3\",Général!#REF!,Général!F$88)))","v":"Equipage 6"},{"$f":"IF($J$5=\"Course 1\",Général!F$92,IF($J$5=\"Course 2\",Général!F$94,IF($J$5=\"Course 3\",Général!#REF!,Général!F$96)))","v":"Equipage 12"},{"$f":"IF($K$5=\"Course 1\",Général!F$100,IF($K$5=\"Course 2\",Général!F$102,IF($K$5=\"Course 3\",Général!#REF!,Général!F$104)))","v":"Equipage 12"},{"$f":"IF($L$5=\"Course 1\",Général!F$108,IF($L$5=\"Course 2\",Général!$F110,IF($L$5=\"Course 3\",Général!#REF!,Général!F$112)))","v":"Equipage 10"},{"$f":"IF($M$5=\"Course 1\",Général!F$116,IF($M$5=\"Course 2\",Général!F$118,IF($M$5=\"Course 3\",Général!#REF!,Général!F$120)))","v":"Equipage 3"},{"$f":"IF($N$5=\"Course 1\",Général!F$124,IF($N$5=\"Course 2\",Général!F$126,IF($N$5=\"Course 3\",Général!#REF!,Général!F$128)))","v":"Equipage 5"},{"$f":"IF($O$5=\"Course 1\",Général!F$132,IF($O$5=\"Course 2\",Général!F$134,IF($O$5=\"Course 3\",Général!#REF!,Général!F$136)))","v":"Equipage 4"},{"$f":"IF($P$5=\"Course 1\",Général!F$140,IF($P$5=\"Course 2\",Général!F$142,IF($P$5=\"Course 3\",Général!#REF!,Général!F$144)))","v":"Equipage 4"},{"$f":"IF($Q$5=\"Course 1\",Général!F$148,IF($Q$5=\"Course 2\",Général!F$150,IF($Q$5=\"Course 3\",Général!#REF!,Général!F$152)))","v":"Equipage 2"},{"$f":"IF($R$5=\"Course 1\",Général!F$156,IF($R$5=\"Course 2\",Général!F$158,IF($R$5=\"Course 3\",Général!F$160,Général!F$162)))","v":"Equipage 3"},null,null,null,{"$f":"Général!B14","v":"Equipage 12"},10]
["6ème Equipage",null,{"$f":"IF($C$5=\"Course 1\",Général!G36,IF($C$5=\"Course 2\",Général!G38,IF($C$5=\"Course 3\",Général!#REF!,Général!G40)))","v":"Equipage 1"},{"$f":"IF($D$5=\"Course 1\",Général!G44,IF($D$5=\"Course 2\",Général!G46,IF($D$5=\"Course 3\",Général!#REF!,Général!G48)))","v":"Equipage 10"},{"$f":"IF($E$5=\"Course 1\",Général!G52,IF($E$5=\"Course 2\",Général!G54,IF($E$5=\"Course 3\",Général!#REF!,Général!G56)))","v":"Equipage 9"},{"$f":"IF($F$5=\"Course 1\",Général!G$60,IF($F$5=\"Course 2\",Général!G$62,IF($F$5=\"Course 3\",Général!#REF!,Général!G$64)))","v":"Equipage 12"},{"$f":"IF($G$5=\"Course 1\",Général!G$68,IF($G$5=\"Course 2\",Général!G$70,IF($G$5=\"Course 3\",Général!#REF!,Général!G$72)))","v":"Equipage 10"},{"$f":"IF($H$5=\"Course 1\",Général!G$76,IF($H$5=\"Course 2\",Général!G$78,IF($H$5=\"Course 3\",Général!#REF!,Général!G$80)))","v":"Equipage 3"},{"$f":"IF($I$5=\"Course 1\",Général!G$84,IF($I$5=\"Course 2\",Général!G$86,IF($I$5=\"Course 3\",Général!#REF!,Général!G$88)))","v":"Equipage 3"},{"$f":"IF($J$5=\"Course 1\",Général!G$92,IF($J$5=\"Course 2\",Général!G$94,IF($J$5=\"Course 3\",Général!#REF!,Général!G$96)))","v":"Equipage 6"},{"$f":"IF($K$5=\"Course 1\",Général!G$100,IF($K$5=\"Course 2\",Général!G$102,IF($K$5=\"Course 3\",Général!#REF!,Général!G$104)))","v":"Equipage 9"},{"$f":"IF($L$5=\"Course 1\",Général!G$108,IF($L$5=\"Course 2\",Général!G$110,IF($L$5=\"Course 3\",Général!#REF!,Général!G$112)))","v":"Equipage 6"},{"$f":"IF($M$5=\"Course 1\",Général!G$116,IF($M$5=\"Course 2\",Général!G$118,IF($M$5=\"Course 3\",Général!#REF!,Général!G$120)))","v":"Equipage 4"},{"$f":"IF($N$5=\"Course 1\",Général!G$124,IF($N$5=\"Course 2\",Général!G$126,IF($N$5=\"Course 3\",Général!#REF!,Général!G$128)))","v":"Equipage 4"},{"$f":"IF($O$5=\"Course 1\",Général!G$132,IF($O$5=\"Course 2\",Général!G$134,IF($O$5=\"Course 3\",Général!#REF!,Général!G$136)))","v":"Equipage 8"},{"$f":"IF($P$5=\"Course 1\",Général!G$140,IF($P$5=\"Course 2\",Général!G$142,IF($P$5=\"Course 3\",Général!#REF!,Général!G$144)))","v":"Equipage 8"},{"$f":"IF($Q$5=\"Course 1\",Général!G$148,IF($Q$5=\"Course 2\",Général!G$150,IF($Q$5=\"Course 3\",Général!#REF!,Général!G$152)))","v":"Equipage 4"},{"$f":"IF($R$5=\"Course 1\",Général!G$156,IF($R$5=\"Course 2\",Général!G$158,IF($R$5=\"Course 3\",Général!G$160,Général!G$162)))","v":"Equipage 11"},null,null,null,{"$f":"Général!B15","v":"Equipage 13"},0]
["7ème Equipage",null,{"$f":"IF($C$5=\"Course 1\",Général!H36,IF($C$5=\"Course 2\",Général!H38,IF($C$5=\"Course 3\",Général!#REF!,Général!H40)))","v":0},{"$f":"IF($D$5=\"Course 1\",Général!H44,IF($D$5=\"Course 2\",Général!H46,IF($D$5=\"Course 3\",Général!#REF!,Général!H48)))","v":0},{"$f":"IF($E$5=\"Course 1\",Général!H52,IF($E$5=\"Course 2\",Général!H54,IF($E$5=\"Course 3\",Général!#REF!,Général!H56)))","v":0},{"$f":"IF($F$5=\"Course 1\",Général!H$60,IF($F$5=\"Course 2\",Général!H$62,IF($F$5=\"Course 3\",Général!#REF!,Général!H$64)))","v":0},{"$f":"IF($G$5=\"Course 1\",Général!H$68,IF($G$5=\"Course 2\",Général!H$70,IF($G$5=\"Course 3\",Général!#REF!,Général!H$72)))","v":0},{"$f":"IF($H$5=\"Course 1\",Général!H$76,IF($H$5=\"Course 2\",Général!H$78,IF($H$5=\"Course 3\",Général!#REF!,Général!H$80)))","v":0},{"$f":"IF($I$5=\"Course 1\",Général!H$84,IF($I$5=\"Course 2\",Général!H$86,IF($I$5=\"Course 3\",Général!#REF!,Général!H$88)))","v":0},{"$f":"IF($J$5=\"Course 1\",Général!H$92,IF($J$5=\"Course 2\",Général!H$94,IF($J$5=\"Course 3\",Général!#REF!,Général!H$96)))","v":0},{"$f":"IF($K$5=\"Course 1\",Général!H$100,IF($K$5=\"Course 2\",Général!H$102,IF($K$5=\"Course 3\",Général!#REF!,Général!H$104)))","v":0},{"$f":"IF($L$5=\"Course 1\",Général!H$108,IF($L$5=\"Course 2\",Général!H$110,IF($L$5=\"Course 3\",Général!#REF!,Général!H$112)))","v":0},{"$f":"IF($M$5=\"Course 1\",Général!H$116,IF($M$5=\"Course 2\",Général!H$118,IF($M$5=\"Course 3\",Général!#REF!,Général!H$120)))","v":0},{"$f":"IF($N$5=\"Course 1\",Général!H$124,IF($N$5=\"Course 2\",Général!H$126,IF($N$5=\"Course 3\",Général!#REF!,Général!H$128)))","v":0},{"$f":"IF($O$5=\"Course 1\",Général!H$132,IF($O$5=\"Course 2\",Général!H$134,IF($O$5=\"Course 3\",Général!#REF!,Général!H$136)))","v":0},{"$f":"IF($P$5=\"Course 1\",Général!H$140,IF($P$5=\"Course 2\",Général!H$142,IF($P$5=\"Course 3\",Général!#REF!,Général!H$144)))","v":0},{"$f":"IF($Q$5=\"Course 1\",Général!H$148,IF($Q$5=\"Course 2\",Général!H$150,IF($Q$5=\"Course 3\",Général!#REF!,Général!H$152)))","v":0},{"$f":"IF($R$5=\"Course 1\",Général!H$156,IF($R$5=\"Course 2\",Général!H$158,IF($R$5=\"Course 3\",Général!H$160,Général!H$162)))","v":0},null,null,null,{"$f":"Général!B16","v":"Equipage 14"},0]
["8ème Equipage",null,{"$f":"IF($C$5=\"Course 1\",Général!I36,IF($C$5=\"Course 2\",Général!I38,IF($C$5=\"Course 3\",Général!#REF!,Général!I40)))","v":0},{"$f":"IF($D$5=\"Course 1\",Général!I44,IF($D$5=\"Course 2\",Général!I46,IF($D$5=\"Course 3\",Général!#REF!,Général!I48)))","v":0},{"$f":"IF($E$5=\"Course 1\",Général!I52,IF($E$5=\"Course 2\",Général!I54,IF($E$5=\"Course 3\",Général!#REF!,Général!I56)))","v":0},{"$f":"IF($F$5=\"Course 1\",Général!I$60,IF($F$5=\"Course 2\",Général!I$62,IF($F$5=\"Course 3\",Général!#REF!,Général!I$64)))","v":0},{"$f":"IF($G$5=\"Course 1\",Général!I$68,IF($G$5=\"Course 2\",Général!I$70,IF($G$5=\"Course 3\",Général!#REF!,Général!I$72)))","v":0},{"$f":"IF($H$5=\"Course 1\",Général!I$76,IF($H$5=\"Course 2\",Général!I$78,IF($H$5=\"Course 3\",Général!#REF!,Général!I$80)))","v":0},{"$f":"IF($I$5=\"Course 1\",Général!I$84,IF($I$5=\"Course 2\",Général!I$86,IF($I$5=\"Course 3\",Général!#REF!,Général!I$88)))","v":0},{"$f":"IF($J$5=\"Course 1\",Général!I$92,IF($J$5=\"Course 2\",Général!I$94,IF($J$5=\"Course 3\",Général!#REF!,Général!I$96)))","v":0},{"$f":"IF($K$5=\"Course 1\",Général!I$100,IF($K$5=\"Course 2\",Général!I$102,IF($K$5=\"Course 3\",Général!#REF!,Général!I$104)))","v":0},{"$f":"IF($L$5=\"Course 1\",Général!I$108,IF($L$5=\"Course 2\",Général!I$110,IF($L$5=\"Course 3\",Général!#REF!,Général!I$112)))","v":0},{"$f":"IF($M$5=\"Course 1\",Général!I$116,IF($M$5=\"Course 2\",Général!I$118,IF($M$5=\"Course 3\",Général!#REF!,Général!I$120)))","v":0},{"$f":"IF($N$5=\"Course 1\",Général!I$124,IF($N$5=\"Course 2\",Général!I$126,IF($N$5=\"Course 3\",Général!#REF!,Général!I$128)))","v":0},{"$f":"IF($O$5=\"Course 1\",Général!I$132,IF($O$5=\"Course 2\",Général!I$134,IF($O$5=\"Course 3\",Général!#REF!,Général!I$136)))","v":0},{"$f":"IF($P$5=\"Course 1\",Général!I$140,IF($P$5=\"Course 2\",Général!I$142,IF($P$5=\"Course 3\",Général!#REF!,Général!I$144)))","v":0},{"$f":"IF($Q$5=\"Course 1\",Général!I$148,IF($Q$5=\"Course 2\",Général!I$150,IF($Q$5=\"Course 3\",Général!#REF!,Général!I$152)))","v":0},{"$f":"IF($R$5=\"Course 1\",Général!I$156,IF($R$5=\"Course 2\",Général!I$158,IF($R$5=\"Course 3\",Général!I$160,Général!I$162)))","v":0},null,null,null,{"$f":"Général!B17","v":"Equipage 15"},0]
["9ème Equipage",null,{"$f":"IF($C$5=\"Course 1\",Général!J36,IF($C$5=\"Course 2\",Général!J38,IF($C$5=\"Course 3\",Général!#REF!,Général!J40)))","v":0},{"$f":"IF($D$5=\"Course 1\",Général!J44,IF($D$5=\"Course 2\",Général!J46,IF($D$5=\"Course 3\",Général!#REF!,Général!J48)))","v":0},{"$f":"IF($E$5=\"Course 1\",Général!J52,IF($E$5=\"Course 2\",Général!J54,IF($E$5=\"Course 3\",Général!#REF!,Général!J56)))","v":0},{"$f":"IF($F$5=\"Course 1\",Général!J$60,IF($F$5=\"Course 2\",Général!J$62,IF($F$5=\"Course 3\",Général!#REF!,Général!J$64)))","v":0},{"$f":"IF($G$5=\"Course 1\",Général!J$68,IF($G$5=\"Course 2\",Général!J$70,IF($G$5=\"Course 3\",Général!#REF!,Général!J$72)))","v":0},{"$f":"IF($H$5=\"Course 1\",Général!J$76,IF($H$5=\"Course 2\",Général!J$78,IF($H$5=\"Course 3\",Général!#REF!,Général!J$80)))","v":0},{"$f":"IF($I$5=\"Course 1\",Général!J$84,IF($I$5=\"Course 2\",Général!J$86,IF($I$5=\"Course 3\",Général!#REF!,Général!J$88)))","v":0},{"$f":"IF($J$5=\"Course 1\",Général!J$92,IF($J$5=\"Course 2\",Général!J$94,IF($J$5=\"Course 3\",Général!#REF!,Général!J$96)))","v":0},{"$f":"IF($K$5=\"Course 1\",Général!J$100,IF($K$5=\"Course 2\",Général!J$102,IF($K$5=\"Course 3\",Général!#REF!,Général!J$104)))","v":0},{"$f":"IF($L$5=\"Course 1\",Général!J$108,IF($L$5=\"Course 2\",Général!J$110,IF($L$5=\"Course 3\",Général!#REF!,Général!J$112)))","v":0},{"$f":"IF($M$5=\"Course 1\",Général!J$116,IF($M$5=\"Course 2\",Général!J$118,IF($M$5=\"Course 3\",Général!#REF!,Général!J$120)))","v":0},{"$f":"IF($N$5=\"Course 1\",Général!J$124,IF($N$5=\"Course 2\",Général!J$126,IF($N$5=\"Course 3\",Général!#REF!,Général!J$128)))","v":0},{"$f":"IF($O$5=\"Course 1\",Général!J$132,IF($O$5=\"Course 2\",Général!J$134,IF($O$5=\"Course 3\",Général!#REF!,Général!J$136)))","v":0},{"$f":"IF($P$5=\"Course 1\",Général!J$140,IF($P$5=\"Course 2\",Général!J$142,IF($P$5=\"Course 3\",Général!#REF!,Général!J$144)))","v":0},{"$f":"IF($Q$5=\"Course 1\",Général!J$148,IF($Q$5=\"Course 2\",Général!J$150,IF($Q$5=\"Course 3\",Général!#REF!,Général!J$152)))","v":0},{"$f":"IF($R$5=\"Course 1\",Général!J$156,IF($R$5=\"Course 2\",Général!J$158,IF($R$5=\"Course 3\",Général!J$160,Général!J$162)))","v":0},null,null,null,{"$f":"Général!B18","v":"Equipage 16"},0]
["10ème Equipage",null,{"$f":"IF($C$5=\"Course 1\",Général!K36,IF($C$5=\"Course 2\",Général!K38,IF($C$5=\"Course 3\",Général!#REF!,Général!K40)))","v":0},{"$f":"IF($D$5=\"Course 1\",Général!K44,IF($D$5=\"Course 2\",Général!K46,IF($D$5=\"Course 3\",Général!#REF!,Général!K48)))","v":0},{"$f":"IF($E$5=\"Course 1\",Général!K52,IF($E$5=\"Course 2\",Général!K54,IF($E$5=\"Course 3\",Général!#REF!,Général!K56)))","v":0},{"$f":"IF($F$5=\"Course 1\",Général!K$60,IF($F$5=\"Course 2\",Général!K$62,IF($F$5=\"Course 3\",Général!#REF!,Général!K$64)))","v":0},{"$f":"IF($G$5=\"Course 1\",Général!K$68,IF($G$5=\"Course 2\",Général!K$70,IF($G$5=\"Course 3\",Général!#REF!,Général!K$72)))","v":0},{"$f":"IF($H$5=\"Course 1\",Général!K$76,IF($H$5=\"Course 2\",Général!K$78,IF($H$5=\"Course 3\",Général!#REF!,Général!K$80)))","v":0},{"$f":"IF($I$5=\"Course 1\",Général!K$84,IF($I$5=\"Course 2\",Général!K$86,IF($I$5=\"Course 3\",Général!#REF!,Général!K$88)))","v":0},{"$f":"IF($J$5=\"Course 1\",Général!K$92,IF($J$5=\"Course 2\",Général!K$94,IF($J$5=\"Course 3\",Général!#REF!,Général!K$96)))","v":0},{"$f":"IF($K$5=\"Course 1\",Général!K$100,IF($K$5=\"Course 2\",Général!K$102,IF($K$5=\"Course 3\",Général!#REF!,Général!K$104)))","v":0},{"$f":"IF($L$5=\"Course 1\",Général!K$108,IF($L$5=\"Course 2\",Général!K$110,IF($L$5=\"Course 3\",Général!#REF!,Général!K$112)))","v":0},{"$f":"IF($M$5=\"Course 1\",Général!K$116,IF($M$5=\"Course 2\",Général!K$118,IF($M$5=\"Course 3\",Général!#REF!,Général!K$120)))","v":0},{"$f":"IF($N$5=\"Course 1\",Général!K$124,IF($N$5=\"Course 2\",Général!K$126,IF($N$5=\"Course 3\",Général!#REF!,Général!K$128)))","v":0},{"$f":"IF($O$5=\"Course 1\",Général!K$132,IF($O$5=\"Course 2\",Général!K$134,IF($O$5=\"Course 3\",Général!#REF!,Général!K$136)))","v":0},{"$f":"IF($P$5=\"Course 1\",Général!K$140,IF($P$5=\"Course 2\",Général!K$142,IF($P$5=\"Course 3\",Général!#REF!,Général!K$144)))","v":0},{"$f":"IF($Q$5=\"Course 1\",Général!K$148,IF($Q$5=\"Course 2\",Général!K$150,IF($Q$5=\"Course 3\",Général!#REF!,Général!K$152)))","v":0},{"$f":"IF($R$5=\"Course 1\",Général!K$156,IF($R$5=\"Course 2\",Général!K$158,IF($R$5=\"Course 3\",Général!K$160,Général!K$162)))","v":0},null,null,null,{"$f":"Général!B19","v":"Equipage 17"},0]
[null,null,null,null,null,null,null,null,null,null,null,null,null,null,null,null,null,null,null,null,null,{"$f":"Général!B20","v":"Equipage 18"},0]
[null,null,null,null,null,null,null,null,null,null,null,null,null,null,null,null,null,null,null,null,null,{"$f":"Général!B21","v":"Equipage 19"},{"$f":"COUNTIF($C$8:$R$17,V19)","v":0}]
[null,null,null,null,null,null,null,null,null,null,null,null,null,null,null,null,null,null,null,null,null,{"$f":"Général!B22","v":"Equipage 20"},0]
[null,null,null,null,null,null,null,null,null,null,null,null,null,null,null,null,null,null,null,null,null,{"$f":"Général!B23","v":"Equipage 21"},0]
[null,null,null,null,null,null,null,null,null,null,null,null,null,null,null,null,null,null,null,null,null,{"$f":"Général!B24","v":"Equipage 22"},0]
[null,null,null,null,null,null,null,null,null,null,null,null,null,null,null,null,null,null,null,null,null,{"$f":"Général!B25","v":"Equipage 23"},0]
[null,null,null,null,null,null,null,null,null,null,null,null,null,null,null,null,null,null,null,null,null,{"$f":"Général!B26","v":"Equipage 24"},0]
[null,null,null,null,null,null,null,null,null,null,null,null,null,null,null,null,null,null,null,null,null,{"$f":"Général!B27","v":"Equipage 25"},0]
[null,null,null,null,null,null,null,null,null,null,null,null,null,null,null,null,null,null,null,null,null,{"$f":"Général!B28","v":"Equipage 26"},0]
[null,null,null,null,null,null,null,null,null,null,null,null,null,null,null,null,null,null,null,null,null,{"$f":"Général!B29","v":"Equipage 27"},0]
[null,null,null,null,null,null,null,null,null,null,null,null,null,null,null,null,null,null,null,null,null,{"$f":"Général!B30","v":"Equipage 28"},0]
[null,null,null,null,null,null,null,null,null,null,null,null,null,null,null,null,null,null,null,null,null,{"$f":"Général!B31","v":"Equipage 29"},0]
[null,null,null,null,null,null,null,null,null,null,null,null,null,null,null,null,null,null,null,null,null,{"$f":"Général!B32","v":"Equipage 30"},0]

{"sheet":"Eq.5","index":9,"n_rows":30,"n_cols":23,"rows_kept":30,"cut":false,"hidden":true,"merged":[[7,0,7,1],[0,0,1,5],[0,6,1,10],[3,0,3,1],[4,0,4,1],[5,0,5,1],[14,0,14,1],[15,0,15,1],[16,0,16,1],[8,0,8,1],[9,0,9,1],[10,0,10,1],[11,0,11,1],[12,0,12,1],[13,0,13,1]]}
["Equipage ",null,null,null,null,null,{"$f":"Général!B7","v":"Equipage 5"},null,null,null,null,null,null,null,null,null,null,null,null,null,null,{"$f":"Général!B3","v":"Equipage 1"},{"$f":"COUNTIF(C$8:R$17,V1)","v":3}]
[null,null,null,null,null,null,null,null,null,null,null,null,null,null,null,null,null,null,null,null,null,{"$f":"Général!B4","v":"Equipage 2"},{"$f":"COUNTIF($C$8:$R$17,V2)","v":11}]
[null,null,null,null,null,null,null,null,null,null,null,null,null,null,null,null,null,null,null,null,null,{"$f":"Général!B5","v":"Equipage 3"},{"$f":"COUNTIF($C$8:$R$17,V3)","v":6}]
[null,null,"FLIGHT 1","FLIGHT 2","FLIGHT 3","FLIGHT 4","FLIGHT 5","FLIGHT 6","FLIGHT 7","FLIGHT 8","FLIGHT 9","FLIGHT 10","FLIGHT 11","FLIGHT 12","FLIGHT 13","FLIGHT 14","FLIGHT 15","FLIGHT 16","FLIGHT 17","FLIGHT 18",null,{"$f":"Général!B6","v":"Equipage 4"},{"$f":"COUNTIF($C$8:$R$17,V4)","v":4}]
["N° de course",null,{"$f":"IF(COUNTIF(Général!B36:K36,$G$1)=1,\"Course 1\",IF(COUNTIF(Général!B38:K38,$G$1)=1,\"Course 2\",IF(COUNTIF(Général!#REF!,$G$1)=1,\"Course 3\",\"Course 4\")))","v":"Course 1"},{"$f":"IF(COUNTIF(Général!B44:K44,$G$1)=1,\"Course 1\",IF(COUNTIF(Général!B46:K46,$G$1)=1,\"Course 2\",IF(COUNTIF(Général!#REF!,$G$1)=1,\"Course 3\",\"Course 4\")))","v":"Course 1"},{"$f":"IF(COUNTIF(Général!B52:K52,$G$1)=1,\"Course 1\",IF(COUNTIF(Général!B54:K54,$G$1)=1,\"Course 2\",IF(COUNTIF(Général!#REF!,$G$1)=1,\"Course 3\",\"Course 4\")))","v":"Course 1"},{"$f":"IF(COUNTIF(Général!B60:K60,$G$1)=1,\"Course 1\",IF(COUNTIF(Général!B62:K62,$G$1)=1,\"Course 2\",IF(COUNTIF(Général!#REF!,$G$1)=1,\"Course 3\",\"Course 4\")))","v":"Course 1"},{"$f":"IF(COUNTIF(Général!B68:K68,$G$1)=1,\"Course 1\",IF(COUNTIF(Général!B70:K70,$G$1)=1,\"Course 2\",IF(COUNTIF(Général!#REF!,$G$1)=1,\"Course 3\",\"Course 4\")))","v":"Course 2"},{"$f":"IF(COUNTIF(Général!B76:K76,$G$1)=1,\"Course 1\",IF(COUNTIF(Général!B78:K78,$G$1)=1,\"Course 2\",IF(COUNTIF(Général!#REF!,$G$1)=1,\"Course 3\",\"Course 4\")))","v":"Course 1"},{"$f":"IF(COUNTIF(Général!B84:K84,$G$1)=1,\"Course 1\",IF(COUNTIF(Général!B86:K86,$G$1)=1,\"Course 2\",IF(COUNTIF(Général!#REF!,$G$1)=1,\"Course 3\",\"Course 4\")))","v":"Course 2"},{"$f":"IF(COUNTIF(Général!B92:K92,$G$1)=1,\"Course 1\",IF(COUNTIF(Général!B94:K94,$G$1)=1,\"Course 2\",IF(COUNTIF(Général!#REF!,$G$1)=1,\"Course 3\",\"Course 4\")))","v":"Course 1"},{"$f":"IF(COUNTIF(Général!B100:K100,$G$1)=1,\"Course 1\",IF(COUNTIF(Général!B102:K102,$G$1)=1,\"Course 2\",IF(COUNTIF(Général!#REF!,$G$1)=1,\"Course 3\",\"Course 4\")))","v":"Course 2"},{"$f":"IF(COUNTIF(Général!B108:K108,$G$1)=1,\"Course 1\",IF(COUNTIF(Général!B110:K110,$G$1)=1,\"Course 2\",IF(COUNTIF(Général!#REF!,$G$1)=1,\"Course 3\",\"Course 4\")))","v":"Course 2"},{"$f":"IF(COUNTIF(Général!B116:K116,$G$1)=1,\"Course 1\",IF(COUNTIF(Général!B118:K118,$G$1)=1,\"Course 2\",IF(COUNTIF(Général!#REF!,$G$1)=1,\"Course 3\",\"Course 4\")))","v":"Course 1"},{"$f":"IF(COUNTIF(Général!B124:K124,$G$1)=1,\"Course 1\",IF(COUNTIF(Général!B126:K126,$G$1)=1,\"Course 2\",IF(COUNTIF(Général!#REF!,$G$1)=1,\"Course 3\",\"Course 4\")))","v":"Course 1"},{"$f":"IF(COUNTIF(Général!B132:K132,$G$1)=1,\"Course 1\",IF(COUNTIF(Général!B134:K134,$G$1)=1,\"Course 2\",IF(COUNTIF(Général!#REF!,$G$1)=1,\"Course 3\",\"Course 4\")))","v":"Course 1"},{"$f":"IF(COUNTIF(Général!B140:K140,$G$1)=1,\"Course 1\",IF(COUNTIF(Général!B142:K142,$G$1)=1,\"Course 2\",IF(COUNTIF(Général!#REF!,$G$1)=1,\"Course 3\",\"Course 4\")))","v":"Course 2"},{"$f":"IF(COUNTIF(Général!B148:K148,$G$1)=1,\"Course 1\",IF(COUNTIF(Général!B150:K150,$G$1)=1,\"Course 2\",IF(COUNTIF(Général!#REF!,$G$1)=1,\"Course 3\",\"Course 4\")))","v":"Course 1"},{"$f":"IF(COUNTIF(Général!B156:K156,$G$1)=1,\"Course 1\",IF(COUNTIF(Général!B158:K158,$G$1)=1,\"Course 2\",IF(COUNTIF(Général!B160:K160,$G$1)=1,\"Course 3\",\"Course 4\")))","v":"Course 1"},{"$f":"IF(COUNTIF(Général!C156:L156,$G$1)=1,\"Course 1\",IF(COUNTIF(Général!C158:L158,$G$1)=1,\"Course 2\",IF(COUNTIF(Général!C160:L160,$G$1)=1,\"Course 3\",\"Course 4\")))","v":"Course 1"},{"$f":"IF(COUNTIF(Général!D156:M156,$G$1)=1,\"Course 1\",IF(COUNTIF(Général!D158:M158,$G$1)=1,\"Course 2\",IF(COUNTIF(Général!D160:M160,$G$1)=1,\"Course 3\",\"Course 4\")))","v":"Course 1"},null,{"$f":"Général!B7","v":"Equipage 5"},16]
["Bateau",null,{"$f":"IF(COUNTIF(Général!B36:B40,$G$1)=1,\"Boat 1\",IF(COUNTIF(Général!C36:C40,$G$1)=1,\"Boat 2\",IF(COUNTIF(Général!D36:D40,$G$1)=1,\"Boat 3\",IF(COUNTIF(Général!E36:E40,$G$1)=1,\"Boat 4\",IF(COUNTIF(Général!F36:F40,$G$1)=1,\"Boat 5\",IF(COUNTIF(Général!G36:G40,$G$1)=1,\"Boat 6\",IF(COUNTIF(Général!H36:H40,$G$1)=1,\"Boat 7\",IF(COUNTIF(Général!I36:I40,$G$1)=1,\"Boat 8\",IF(COUNTIF(Général!J36:J40,$G$1)=1,\"Boat 9\",\"Boat10\")))))))))","v":"Boat 6"},{"$f":"IF(COUNTIF(Général!B44:B48,$G$1)=1,\"Boat 1\",IF(COUNTIF(Général!C44:C48,$G$1)=1,\"Boat 2\",IF(COUNTIF(Général!D44:D48,$G$1)=1,\"Boat 3\",IF(COUNTIF(Général!E44:E48,$G$1)=1,\"Boat 4\",IF(COUNTIF(Général!F44:F48,$G$1)=1,\"Boat 5\",IF(COUNTIF(Général!G44:G48,$G$1)=1,\"Boat 6\",IF(COUNTIF(Général!H44:H48,$G$1)=1,\"Boat 7\",IF(COUNTIF(Général!I44:I48,$G$1)=1,\"Boat 8\",IF(COUNTIF(Général!J44:J48,$G$1)=1,\"Boat 9\",\"Boat 10\")))))))))","v":"Boat 2"},{"$f":"IF(COUNTIF(Général!B52:B56,$G$1)=1,\"Boat 1\",IF(COUNTIF(Général!C52:C56,$G$1)=1,\"Boat 2\",IF(COUNTIF(Général!D52:D56,$G$1)=1,\"Boat 3\", IF(COUNTIF(Général!E52:E56,$G$1)=1,\"Boat 4\", IF(COUNTIF(Général!F52:F56,$G$1)=1,\"Boat 5\", IF(COUNTIF(Général!G52:G56,$G$1)=1,\"Boat 6\", IF(COUNTIF(Général!H52:H56,$G$1)=1,\"Boat 7\",IF(COUNTIF(Général!I52:I56,$G$1)=1,\"Boat 8\",IF(COUNTIF(Général!J52:J56,$G$1)=1,\"Boat 9\",\"Boat 10\")))))))))","v":"Boat 1"},{"$f":"IF(COUNTIF(Général!B60:B64,$G$1)=1,\"Boat 1\",IF(COUNTIF(Général!C60:C64,$G$1)=1,\"Boat 2\",IF(COUNTIF(Général!D60:D64,$G$1)=1,\"Boat 3\", IF(COUNTIF(Général!E60:E64,$G$1)=1,\"Boat 4\", IF(COUNTIF(Général!F60:F64,$G$1)=1,\"Boat 5\", IF(COUNTIF(Général!G60:G64,$G$1)=1,\"Boat 6\", IF(COUNTIF(Général!H60:H64,$G$1)=1,\"Boat 7\",IF(COUNTIF(Général!I60:I64,$G$1)=1,\"Boat 8\",IF(COUNTIF(Général!I60:J64,$G$1)=1,\"Boat 9\",\"Boat 10\")))))))))","v":"Boat 6"},{"$f":"IF(COUNTIF(Général!B68:B72,$G$1)=1,\"Boat 1\",IF(COUNTIF(Général!C68:C72,$G$1)=1,\"Boat 2\",IF(COUNTIF(Général!D68:D72,$G$1)=1,\"Boat 3\", IF(COUNTIF(Général!E68:E72,$G$1)=1,\"Boat 4\", IF(COUNTIF(Général!F68:F72,$G$1)=1,\"Boat 5\", IF(COUNTIF(Général!G68:G72,$G$1)=1,\"Boat 6\", IF(COUNTIF(Général!H68:H72,$G$1)=1,\"Boat 7\",IF(COUNTIF(Général!I68:I72,$G$1)=1,\"Boat 8\",IF(COUNTIF(Général!J68:J72,$G$1)=1,\"Boat 9\",\"Boat 10\")))))))))","v":"Boat 1"},{"$f":"IF(COUNTIF(Général!B76:B80,$G$1)=1,\"Boat 1\",IF(COUNTIF(Général!C76:C80,$G$1)=1,\"Boat 2\",IF(COUNTIF(Général!D76:D80,$G$1)=1,\"Boat 3\", IF(COUNTIF(Général!E76:E80,$G$1)=1,\"Boat 4\", IF(COUNTIF(Général!F76:F80,$G$1)=1,\"Boat 5\", IF(COUNTIF(Général!G76:G80,$G$1)=1,\"Boat 6\", IF(COUNTIF(Général!H76:H80,$G$1)=1,\"Boat 7\",IF(COUNTIF(Général!I76:I80,$G$1)=1,\"Boat 8\",IF(COUNTIF(Général!J76:J80,$G$1)=1,\"Boat 9\",\"Boat 10\")))))))))","v":"Boat 1"},{"$f":"IF(COUNTIF(Général!B84:B88,$G$1)=1,\"Boat 1\",IF(COUNTIF(Général!C84:C88,$G$1)=1,\"Boat 2\",IF(COUNTIF(Général!D84:D88,$G$1)=1,\"Boat 3\", IF(COUNTIF(Général!E84:E88,$G$1)=1,\"Boat 4\", IF(COUNTIF(Général!F84:F88,$G$1)=1,\"Boat 5\", IF(COUNTIF(Général!G84:G88,$G$1)=1,\"Boat 6\", IF(COUNTIF(Général!H84:H88,$G$1)=1,\"Boat 7\",IF(COUNTIF(Général!I84:I88,$G$1)=1,\"Boat 8\",IF(COUNTIF(Général!J84:J88,$G$1)=1,\"Boat 9\",\"Boat 10\")))))))))","v":"Boat 5"},{"$f":"IF(COUNTIF(Général!B92:B96,$G$1)=1,\"Boat 1\",IF(COUNTIF(Général!C92:C96,$G$1)=1,\"Boat 2\",IF(COUNTIF(Général!D92:D96,$G$1)=1,\"Boat 3\", IF(COUNTIF(Général!E92:E96,$G$1)=1,\"Boat 4\", IF(COUNTIF(Général!F92:F96,$G$1)=1,\"Boat 5\", IF(COUNTIF(Général!G92:G96,$G$1)=1,\"Boat 6\", IF(COUNTIF(Général!H92:H96,$G$1)=1,\"Boat 7\",IF(COUNTIF(Général!I92:I96,$G$1)=1,\"Boat 8\",IF(COUNTIF(Général!J92:J96,$G$1)=1,\"Boat 9\",\"Boat 10\")))))))))","v":"Boat 5"},{"$f":"IF(COUNTIF(Général!B100:B104,$G$1)=1,\"Boat 1\",IF(COUNTIF(Général!C100:C104,$G$1)=1,\"Boat 2\",IF(COUNTIF(Général!D100:D104,$G$1)=1,\"Boat 3\", IF(COUNTIF(Général!E100:E104,$G$1)=1,\"Boat 4\", IF(COUNTIF(Général!F100:F104,$G$1)=1,\"Boat 5\", IF(COUNTIF(Général!G100:G104,$G$1)=1,\"Boat 6\", IF(COUNTIF(Général!H100:H104,$G$1)=1,\"Boat 7\",IF(COUNTIF(Général!I100:I104,$G$1)=1,\"Boat 8\",IF(COUNTIF(Général!J100:J104,$G$1)=1,\"Boat 9\",\"Boat 10\")))))))))","v":"Boat 1"},{"$f":"IF(COUNTIF(Général!B108:B112,$G$1)=1,\"Boat 1\",IF(COUNTIF(Général!C108:C112,$G$1)=1,\"Boat 2\",IF(COUNTIF(Général!D108:D112,$G$1)=1,\"Boat 3\", IF(COUNTIF(Général!E108:E112,$G$1)=1,\"Boat 4\", IF(COUNTIF(Général!F108:F112,$G$1)=1,\"Boat 5\", IF(COUNTIF(Général!G108:G112,$G$1)=1,\"Boat 6\", IF(COUNTIF(Général!H108:H112,$G$1)=1,\"Boat 7\",IF(COUNTIF(Général!I108:I112,$G$1)=1,\"Boat 8\",IF(COUNTIF(Général!J108:J112,$G$1)=1,\"Boat 9\",\"Boat 10\")))))))))","v":"Boat 2"},{"$f":"IF(COUNTIF(Général!B116:B120,$G$1)=1,\"Boat 1\",IF(COUNTIF(Général!C116:C120,$G$1)=1,\"Boat 2\",IF(COUNTIF(Général!C116:D120,$G$1)=1,\"Boat 3\", IF(COUNTIF(Général!C116:E120,$G$1)=1,\"Boat 4\", IF(COUNTIF(Général!F116:F120,$G$1)=1,\"Boat 5\", IF(COUNTIF(Général!G116:G120,$G$1)=1,\"Boat 6\", IF(COUNTIF(Général!H116:H120,$G$1)=1,\"Boat 7\",IF(COUNTIF(Général!I116:I120,$G$1)=1,\"Boat 8\",IF(COUNTIF(Général!J116:J120,$G$1)=1,\"Boat 9\",\"Boat 10\")))))))))","v":"Boat 2"},{"$f":"IF(COUNTIF(Général!B124:B128,$G$1)=1,\"Boat 1\",IF(COUNTIF(Général!C124:C128,$G$1)=1,\"Boat 2\",IF(COUNTIF(Général!D124:D128,$G$1)=1,\"Boat 3\", IF(COUNTIF(Général!E124:E128,$G$1)=1,\"Boat 4\", IF(COUNTIF(Général!F124:F128,$G$1)=1,\"Boat 5\", IF(COUNTIF(Général!G124:G128,$G$1)=1,\"Boat 6\", IF(COUNTIF(Général!H124:H128,$G$1)=1,\"Boat 7\",IF(COUNTIF(Général!I124:I128,$G$1)=1,\"Boat 8\",IF(COUNTIF(Général!J124:J128,$G$1)=1,\"Boat 9\",\"Boat 10\")))))))))","v":"Boat 5"},{"$f":"IF(COUNTIF(Général!B132:B136,$G$1)=1,\"Boat 1\",IF(COUNTIF(Général!C132:C136,$G$1)=1,\"Boat 2\",IF(COUNTIF(Général!D134:D136,$G$1)=1,\"Boat 3\", IF(COUNTIF(Général!E132:E136,$G$1)=1,\"Boat 4\", IF(COUNTIF(Général!F132:F136,$G$1)=1,\"Boat 5\", IF(COUNTIF(Général!G132:G136,$G$1)=1,\"Boat 6\", IF(COUNTIF(Général!H132:H136,$G$1)=1,\"Boat 7\",IF(COUNTIF(Général!I132:I136,$G$1)=1,\"Boat 8\",IF(COUNTIF(Général!J132:J136,$G$1)=1,\"Boat 9\",\"Boat 10\")))))))))","v":"Boat 10"},{"$f":"IF(COUNTIF(Général!B140:B144,$G$1)=1,\"Boat 1\",IF(COUNTIF(Général!C140:C144,$G$1)=1,\"Boat 2\",IF(COUNTIF(Général!D140:D144,$G$1)=1,\"Boat 3\", IF(COUNTIF(Général!E140:E144,$G$1)=1,\"Boat 4\", IF(COUNTIF(Général!F140:F144,$G$1)=1,\"Boat 5\", IF(COUNTIF(Général!G140:G144,$G$1)=1,\"Boat 6\", IF(COUNTIF(Général!H140:H144,$G$1)=1,\"Boat 7\",IF(COUNTIF(Général!I140:I144,$G$1)=1,\"Boat 8\",IF(COUNTIF(Général!J140:J144,$G$1)=1,\"Boat 9\",\"Boat 10\")))))))))","v":"Boat 3"},{"$f":"IF(COUNTIF(Général!B148:B152,$G$1)=1,\"Boat 1\",IF(COUNTIF(Général!C148:C152,$G$1)=1,\"Boat 2\",IF(COUNTIF(Général!D148:D152,$G$1)=1,\"Boat 3\", IF(COUNTIF(Général!E148:E152,$G$1)=1,\"Boat 4\", IF(COUNTIF(Général!F148:F152,$G$1)=1,\"Boat 5\", IF(COUNTIF(Général!G148:G152,$G$1)=1,\"Boat 6\", IF(COUNTIF(Général!H148:H152,$G$1)=1,\"Boat 7\",IF(COUNTIF(Général!I148:I152,$G$1)=1,\"Boat 8\",IF(COUNTIF(Général!J148:J152,$G$1)=1,\"Boat 9\",\"Boat 10\")))))))))","v":"Boat 3"},{"$f":"IF(COUNTIF(Général!B156:B159,$G$1)=1,\"Boat 1\",IF(COUNTIF(Général!C156:C159,$G$1)=1,\"Boat 2\",IF(COUNTIF(Général!D156:D159,$G$1)=1,\"Boat 3\", IF(COUNTIF(Général!E156:E159,$G$1)=1,\"Boat 4\", IF(COUNTIF(Général!F156:F159,$G$1)=1,\"Boat 5\", IF(COUNTIF(Général!G156:G159,$G$1)=1,\"Boat 6\", IF(COUNTIF(Général!H156:H159,$G$1)=1,\"Boat 7\",IF(COUNTIF(Général!I156:I159,$G$1)=1,\"Boat 8\",IF(COUNTIF(Général!J156:J159,$G$1)=1,\"Boat 9\",\"Boat 10\")))))))))","v":"Boat 4"},{"$f":"IF(COUNTIF(Général!B162:B165,$G$1)=1,\"Boat 1\",IF(COUNTIF(Général!C162:C165,$G$1)=1,\"Boat 2\",IF(COUNTIF(Général!D162:D165,$G$1)=1,\"Boat 3\", IF(COUNTIF(Général!E162:E165,$G$1)=1,\"Boat 4\", IF(COUNTIF(Général!F162:F165,$G$1)=1,\"Boat 5\", IF(COUNTIF(Général!G162:G165,$G$1)=1,\"Boat 6\", IF(COUNTIF(Général!H162:H165,$G$1)=1,\"Boat 7\",IF(COUNTIF(Général!I162:I165,$G$1)=1,\"Boat 8\",IF(COUNTIF(Général!J162:J165,$G$1)=1,\"Boat 9\",\"Boat 10\")))))))))","v":"Boat 4"},{"$f":"IF(COUNTIF(Général!B168:B171,$G$1)=1,\"Boat 1\",IF(COUNTIF(Général!C168:C171,$G$1)=1,\"Boat 2\",IF(COUNTIF(Général!D168:D171,$G$1)=1,\"Boat 3\", IF(COUNTIF(Général!E168:E171,$G$1)=1,\"Boat 4\", IF(COUNTIF(Général!F168:F171,$G$1)=1,\"Boat 5\", IF(COUNTIF(Général!G168:G171,$G$1)=1,\"Boat 6\", IF(COUNTIF(Général!H168:H171,$G$1)=1,\"Boat 7\",IF(COUNTIF(Général!I168:I171,$G$1)=1,\"Boat 8\",IF(COUNTIF(Général!J168:J171,$G$1)=1,\"Boat 9\",\"Boat 10\")))))))))","v":"Boat 4"},null,{"$f":"Général!B8","v":"Equipage 6"},7]
[null,null,null,null,null,null,null,null,null,null,null,null,null,null,null,null,null,null,null,null,null,{"$f":"Général!B9","v":"Equipage 7"},10]
["1er Equipage",null,{"$f":"IF($C$5=\"Course 1\",Général!B36,IF($C$5=\"Course 2\",Général!B38,IF($C$5=\"Course 3\",Général!#REF!,Général!B40)))","v":"Equipage 6"},{"$f":"IF($D$5=\"Course 1\",Général!B44,IF($D$5=\"Course 2\",Général!B46,IF($D$5=\"Course 3\",Général!#REF!,Général!B48)))","v":"Equipage 7"},{"$f":"IF($E$5=\"Course 1\",Général!B52,IF($E$5=\"Course 2\",Général!B54,IF($E$5=\"Course 3\",Général!#REF!,Général!B56)))","v":"Equipage 5"},{"$f":"IF($F$5=\"Course 1\",Général!B$60,IF($F$5=\"Course 2\",Général!B$62,IF($F$5=\"Course 3\",Général!#REF!,Général!B$64)))","v":"Equipage 8"},{"$f":"IF($G$5=\"Course 1\",Général!B$68,IF($G$5=\"Course 2\",Général!B$70,IF($G$5=\"Course 3\",Général!#REF!,Général!B$72)))","v":"Equipage 5"},{"$f":"IF($H$5=\"Course 1\",Général!B$76,IF($H$5=\"Course 2\",Général!B$78,IF($H$5=\"Course 3\",Général!#REF!,Général!B$80)))","v":"Equipage 5"},{"$f":"IF($I$5=\"Course 1\",Général!B$84,IF($I$5=\"Course 2\",Général!B$86,IF($I$5=\"Course 3\",Général!#REF!,Général!B$88)))","v":"Equipage 8"},{"$f":"IF($J$5=\"Course 1\",Général!B$92,IF($J$5=\"Course 2\",Général!B$94,IF($J$5=\"Course 3\",Général!#REF!,Général!B$96)))","v":"Equipage 3"},{"$f":"IF($K$5=\"Course 1\",Général!B$100,IF($K$5=\"Course 2\",Général!B$102,IF($K$5=\"Course 3\",Général!#REF!,Général!B$104)))","v":"Equipage 5"},{"$f":"IF($L$5=\"Course 1\",Général!B$108,IF($L$5=\"Course 2\",Général!B$110,IF($L$5=\"Course 3\",Général!#REF!,Général!B$112)))","v":"Equipage 1"},{"$f":"IF($M$5=\"Course 1\",Général!B$116,IF($M$5=\"Course 2\",Général!B$118,IF($M$5=\"Course 3\",Général!#REF!,Général!B$120)))","v":"Equipage 6"},{"$f":"IF($N$5=\"Course 1\",Général!B$124,IF($N$5=\"Course 2\",Général!B$126,IF($N$5=\"Course 3\",Général!#REF!,Général!B$128)))","v":"Equipage 7"},{"$f":"IF($O$5=\"Course 1\",Général!B$132,IF($O$5=\"Course 2\",Général!B$134,IF($O$5=\"Course 3\",Général!#REF!,Général!B$136)))","v":"Equipage 7"},{"$f":"IF($P$5=\"Course 1\",Général!B$140,IF($P$5=\"Course 2\",Général!B$142,IF($P$5=\"Course 3\",Général!#REF!,Général!B$144)))","v":"Equipage 10"},{"$f":"IF($Q$5=\"Course 1\",Général!B$148,IF($Q$5=\"Course 2\",Général!B$150,IF($Q$5=\"Course 3\",Général!#REF!,Général!B$152)))","v":"Equipage 12"},{"$f":"IF($R$5=\"Course 1\",Général!B$156,IF($R$5=\"Course 2\",Général!B$158,IF($R$5=\"Course 3\",Général!B$160,Général!B$162)))","v":"Equipage 8"},null,null,null,{"$f":"Général!B10","v":"Equipage 8"},9]
["2nd Equipage",null,{"$f":"IF($C$5=\"Course 1\",Général!C36,IF($C$5=\"Course 2\",Général!C38,IF($C$5=\"Course 3\",Général!#REF!,Général!C40)))","v":"Equipage 7"},{"$f":"IF($D$5=\"Course 1\",Général!C44,IF($D$5=\"Course 2\",Général!C46,IF($D$5=\"Course 3\",Général!#REF!,Général!C48)))","v":"Equipage 5"},{"$f":"IF($E$5=\"Course 1\",Général!C52,IF($E$5=\"Course 2\",Général!C54,IF($E$5=\"Course 3\",Général!#REF!,Général!C56)))","v":"Equipage 11"},{"$f":"IF($F$5=\"Course 1\",Général!C$60,IF($F$5=\"Course 2\",Général!C$62,IF($F$5=\"Course 3\",Général!#REF!,Général!C$64)))","v":"Equipage 3"},{"$f":"IF($G$5=\"Course 1\",Général!C$68,IF($G$5=\"Course 2\",Général!C$70,IF($G$5=\"Course 3\",Général!#REF!,Général!C$72)))","v":"Equipage 2"},{"$f":"IF($H$5=\"Course 1\",Général!C$76,IF($H$5=\"Course 2\",Général!C$78,IF($H$5=\"Course 3\",Général!#REF!,Général!C$80)))","v":"Equipage 6"},{"$f":"IF($I$5=\"Course 1\",Général!C$84,IF($I$5=\"Course 2\",Général!C$86,IF($I$5=\"Course 3\",Général!#REF!,Général!C$88)))","v":"Equipage 10"},{"$f":"IF($J$5=\"Course 1\",Général!C$92,IF($J$5=\"Course 2\",Général!C$94,IF($J$5=\"Course 3\",Général!#REF!,Général!C$96)))","v":"Equipage 10"},{"$f":"IF($K$5=\"Course 1\",Général!C$100,IF($K$5=\"Course 2\",Général!C$102,IF($K$5=\"Course 3\",Général!#REF!,Général!C$104)))","v":"Equipage 8"},{"$f":"IF($L$5=\"Course 1\",Général!C$108,IF($L$5=\"Course 2\",Général!C$110,IF($L$5=\"Course 3\",Général!#REF!,Général!C$112)))","v":"Equipage 5"},{"$f":"IF($M$5=\"Course 1\",Général!C$116,IF($M$5=\"Course 2\",Général!C$118,IF($M$5=\"Course 3\",Général!#REF!,Général!C$120)))","v":"Equipage 5"},{"$f":"IF($N$5=\"Course 1\",Général!C$124,IF($N$5=\"Course 2\",Général!C$126,IF($N$5=\"Course 3\",Général!#REF!,Général!C$128)))","v":"Equipage 9"},{"$f":"IF($O$5=\"Course 1\",Général!C$132,IF($O$5=\"Course 2\",Général!C$134,IF($O$5=\"Course 3\",Général!#REF!,Général!C$136)))","v":"Equipage 10"},{"$f":"IF($P$5=\"Course 1\",Général!C$140,IF($P$5=\"Course 2\",Général!C$142,IF($P$5=\"Course 3\",Général!#REF!,Général!C$144)))","v":"Equipage 11"},{"$f":"IF($Q$5=\"Course 1\",Général!C$148,IF($Q$5=\"Course 2\",Général!C$150,IF($Q$5=\"Course 3\",Général!#REF!,Général!C$152)))","v":"Equipage 11"},{"$f":"IF($R$5=\"Course 1\",Général!C$156,IF($R$5=\"Course 2\",Général!C$158,IF($R$5=\"Course 3\",Général!C$160,Général!C$162)))","v":"Equipage 12"},null,null,null,{"$f":"Général!B11","v":"Equipage 9"},7]
["3ème Equipage",null,{"$f":"IF($C$5=\"Course 1\",Général!D36,IF($C$5=\"Course 2\",Général!D38,IF($C$5=\"Course 3\",Général!#REF!,Général!D40)))","v":"Equipage 10"},{"$f":"IF($D$5=\"Course 1\",Général!D44,IF($D$5=\"Course 2\",Général!D46,IF($D$5=\"Course 3\",Général!#REF!,Général!D48)))","v":"Equipage 6"},{"$f":"IF($E$5=\"Course 1\",Général!D52,IF($E$5=\"Course 2\",Général!D54,IF($E$5=\"Course 3\",Général!#REF!,Général!D56)))","v":"Equipage 8"},{"$f":"IF($F$5=\"Course 1\",Général!D$60,IF($F$5=\"Course 2\",Général!D$62,IF($F$5=\"Course 3\",Général!#REF!,Général!D$64)))","v":"Equipage 6"},{"$f":"IF($G$5=\"Course 1\",Général!D$68,IF($G$5=\"Course 2\",Général!D$70,IF($G$5=\"Course 3\",Général!#REF!,Général!D$72)))","v":"Equipage 9"},{"$f":"IF($H$5=\"Course 1\",Général!D$76,IF($H$5=\"Course 2\",Général!D$78,IF($H$5=\"Course 3\",Général!#REF!,Général!D$80)))","v":"Equipage 9"},{"$f":"IF($I$5=\"Course 1\",Général!D$84,IF($I$5=\"Course 2\",Général!D$86,IF($I$5=\"Course 3\",Général!#REF!,Général!D$88)))","v":"Equipage 11"},{"$f":"IF($J$5=\"Course 1\",Général!D$92,IF($J$5=\"Course 2\",Général!D$94,IF($J$5=\"Course 3\",Général!#REF!,Général!D$96)))","v":"Equipage 7"},{"$f":"IF($K$5=\"Course 1\",Général!D$100,IF($K$5=\"Course 2\",Général!D$102,IF($K$5=\"Course 3\",Général!#REF!,Général!D$104)))","v":"Equipage 3"},{"$f":"IF($L$5=\"Course 1\",Général!D$108,IF($L$5=\"Course 2\",Général!D$110,IF($L$5=\"Course 3\",Général!#REF!,Général!D$112)))","v":"Equipage 3"},{"$f":"IF($M$5=\"Course 1\",Général!D$116,IF($M$5=\"Course 2\",Général!D$118,IF($M$5=\"Course 3\",Général!#REF!,Général!D$120)))","v":"Equipage 10"},{"$f":"IF($N$5=\"Course 1\",Général!D$124,IF($N$5=\"Course 2\",Général!D$126,IF($N$5=\"Course 3\",Général!#REF!,Général!D$128)))","v":"Equipage 2"},{"$f":"IF($O$5=\"Course 1\",Général!D$132,IF($O$5=\"Course 2\",Général!D$134,IF($O$5=\"Course 3\",Général!#REF!,Général!D$136)))","v":"Equipage 5"},{"$f":"IF($P$5=\"Course 1\",Général!D$140,IF($P$5=\"Course 2\",Général!D$142,IF($P$5=\"Course 3\",Général!#REF!,Général!D$144)))","v":"Equipage 5"},{"$f":"IF($Q$5=\"Course 1\",Général!D$148,IF($Q$5=\"Course 2\",Général!D$150,IF($Q$5=\"Course 3\",Général!#REF!,Général!D$152)))","v":"Equipage 5"},{"$f":"IF($R$5=\"Course 1\",Général!D$156,IF($R$5=\"Course 2\",Général!D$158,IF($R$5=\"Course 3\",Général!D$160,Général!D$162)))","v":"Equipage 2"},null,null,null,{"$f":"Général!B12","v":"Equipage 10"},10]
["4ème Equipage",null,{"$f":"IF($C$5=\"Course 1\",Général!E36,IF($C$5=\"Course 2\",Général!E38,IF($C$5=\"Course 3\",Général!#REF!,Général!E40)))","v":"Equipage 2"},{"$f":"IF($D$5=\"Course 1\",Général!E44,IF($D$5=\"Course 2\",Général!E46,IF($D$5=\"Course 3\",Général!#REF!,Général!E48)))","v":"Equipage 4"},{"$f":"IF($E$5=\"Course 1\",Général!E52,IF($E$5=\"Course 2\",Général!E54,IF($E$5=\"Course 3\",Général!#REF!,Général!E56)))","v":"Equipage 10"},{"$f":"IF($F$5=\"Course 1\",Général!E$60,IF($F$5=\"Course 2\",Général!E$62,IF($F$5=\"Course 3\",Général!#REF!,Général!E$64)))","v":"Equipage 7"},{"$f":"IF($G$5=\"Course 1\",Général!E$68,IF($G$5=\"Course 2\",Général!E$70,IF($G$5=\"Course 3\",Général!#REF!,Général!E$72)))","v":"Equipage 11"},{"$f":"IF($H$5=\"Course 1\",Général!E$76,IF($H$5=\"Course 2\",Général!E$78,IF($H$5=\"Course 3\",Général!#REF!,Général!E$80)))","v":"Equipage 11"},{"$f":"IF($I$5=\"Course 1\",Général!E$84,IF($I$5=\"Course 2\",Général!E$86,IF($I$5=\"Course 3\",Général!#REF!,Général!E$88)))","v":"Equipage 12"},{"$f":"IF($J$5=\"Course 1\",Général!E$92,IF($J$5=\"Course 2\",Général!E$94,IF($J$5=\"Course 3\",Général!#REF!,Général!E$96)))","v":"Equipage 9"},{"$f":"IF($K$5=\"Course 1\",Général!E$100,IF($K$5=\"Course 2\",Général!E$102,IF($K$5=\"Course 3\",Général!#REF!,Général!E$104)))","v":"Equipage 2"},{"$f":"IF($L$5=\"Course 1\",Général!E$108,IF($L$5=\"Course 2\",Général!E$110,IF($L$5=\"Course 3\",Général!#REF!,Général!E$112)))","v":"Equipage 2"},{"$f":"IF($M$5=\"Course 1\",Général!E$116,IF($M$5=\"Course 2\",Général!E$118,IF($M$5=\"Course 3\",Général!#REF!,Général!E$120)))","v":"Equipage 12"},{"$f":"IF($N$5=\"Course 1\",Général!E$124,IF($N$5=\"Course 2\",Général!E$126,IF($N$5=\"Course 3\",Général!#REF!,Général!E$128)))","v":"Equipage 8"},{"$f":"IF($O$5=\"Course 1\",Général!E$132,IF($O$5=\"Course 2\",Général!E$134,IF($O$5=\"Course 3\",Général!#REF!,Général!E$136)))","v":"Equipage 6"},{"$f":"IF($P$5=\"Course 1\",Général!E$140,IF($P$5=\"Course 2\",Général!E$142,IF($P$5=\"Course 3\",Général!#REF!,Général!E$144)))","v":"Equipage 9"},{"$f":"IF($Q$5=\"Course 1\",Général!E$148,IF($Q$5=\"Course 2\",Général!E$150,IF($Q$5=\"Course 3\",Général!#REF!,Général!E$152)))","v":"Equipage 8"},{"$f":"IF($R$5=\"Course 1\",Général!E$156,IF($R$5=\"Course 2\",Général!E$158,IF($R$5=\"Course 3\",Général!E$160,Général!E$162)))","v":"Equipage 5"},null,null,null,{"$f":"Général!B13","v":"Equipage 11"},9]
["5ème Equipage",null,{"$f":"IF($C$5=\"Course 1\",Général!F36,IF($C$5=\"Course 2\",Général!F38,IF($C$5=\"Course 3\",Général!#REF!,Général!F40)))","v":"Equipage 11"},{"$f":"IF($D$5=\"Course 1\",Général!F44,IF($D$5=\"Course 2\",Général!F46,IF($D$5=\"Course 3\",Général!#REF!,Général!F48)))","v":"Equipage 8"},{"$f":"IF($E$5=\"Course 1\",Général!F52,IF($E$5=\"Course 2\",Général!F54,IF($E$5=\"Course 3\",Général!#REF!,Général!F56)))","v":"Equipage 7"},{"$f":"IF($F$5=\"Course 1\",Général!F$60,IF($F$5=\"Course 2\",Général!F$62,IF($F$5=\"Course 3\",Général!#REF!,Général!F$64)))","v":"Equipage 2"},{"$f":"IF($G$5=\"Course 1\",Général!F$68,IF($G$5=\"Course 2\",Général!F$70,IF($G$5=\"Course 3\",Général!#REF!,Général!F$72)))","v":"Equipage 4"},{"$f":"IF($H$5=\"Course 1\",Général!F$76,IF($H$5=\"Course 2\",Général!F$78,IF($H$5=\"Course 3\",Général!#REF!,Général!F$80)))","v":"Equipage 8"},{"$f":"IF($I$5=\"Course 1\",Général!F$84,IF($I$5=\"Course 2\",Général!F$86,IF($I$5=\"Course 3\",Général!#REF!,Général!F$88)))","v":"Equipage 5"},{"$f":"IF($J$5=\"Course 1\",Général!F$92,IF($J$5=\"Course 2\",Général!F$94,IF($J$5=\"Course 3\",Général!#REF!,Général!F$96)))","v":"Equipage 5"},{"$f":"IF($K$5=\"Course 1\",Général!F$100,IF($K$5=\"Course 2\",Général!F$102,IF($K$5=\"Course 3\",Général!#REF!,Général!F$104)))","v":"Equipage 10"},{"$f":"IF($L$5=\"Course 1\",Général!F$108,IF($L$5=\"Course 2\",Général!$F110,IF($L$5=\"Course 3\",Général!#REF!,Général!F$112)))","v":"Equipage 9"},{"$f":"IF($M$5=\"Course 1\",Général!F$116,IF($M$5=\"Course 2\",Général!F$118,IF($M$5=\"Course 3\",Général!#REF!,Général!F$120)))","v":"Equipage 9"},{"$f":"IF($N$5=\"Course 1\",Général!F$124,IF($N$5=\"Course 2\",Général!F$126,IF($N$5=\"Course 3\",Général!#REF!,Général!F$128)))","v":"Equipage 5"},{"$f":"IF($O$5=\"Course 1\",Général!F$132,IF($O$5=\"Course 2\",Général!F$134,IF($O$5=\"Course 3\",Général!#REF!,Général!F$136)))","v":"Equipage 11"},{"$f":"IF($P$5=\"Course 1\",Général!F$140,IF($P$5=\"Course 2\",Général!F$142,IF($P$5=\"Course 3\",Général!#REF!,Général!F$144)))","v":"Equipage 3"},{"$f":"IF($Q$5=\"Course 1\",Général!F$148,IF($Q$5=\"Course 2\",Général!F$150,IF($Q$5=\"Course 3\",Général!#REF!,Général!F$152)))","v":"Equipage 2"},{"$f":"IF($R$5=\"Course 1\",Général!F$156,IF($R$5=\"Course 2\",Général!F$158,IF($R$5=\"Course 3\",Général!F$160,Général!F$162)))","v":"Equipage 7"},null,null,null,{"$f":"Général!B14","v":"Equipage 12"},4]
["6ème Equipage",null,{"$f":"IF($C$5=\"Course 1\",Général!G36,IF($C$5=\"Course 2\",Général!G38,IF($C$5=\"Course 3\",Général!#REF!,Général!G40)))","v":"Equipage 5"},{"$f":"IF($D$5=\"Course 1\",Général!G44,IF($D$5=\"Course 2\",Général!G46,IF($D$5=\"Course 3\",Général!#REF!,Général!G48)))","v":"Equipage 10"},{"$f":"IF($E$5=\"Course 1\",Général!G52,IF($E$5=\"Course 2\",Général!G54,IF($E$5=\"Course 3\",Général!#REF!,Général!G56)))","v":"Equipage 2"},{"$f":"IF($F$5=\"Course 1\",Général!G$60,IF($F$5=\"Course 2\",Général!G$62,IF($F$5=\"Course 3\",Général!#REF!,Général!G$64)))","v":"Equipage 5"},{"$f":"IF($G$5=\"Course 1\",Général!G$68,IF($G$5=\"Course 2\",Général!G$70,IF($G$5=\"Course 3\",Général!#REF!,Général!G$72)))","v":"Equipage 10"},{"$f":"IF($H$5=\"Course 1\",Général!G$76,IF($H$5=\"Course 2\",Général!G$78,IF($H$5=\"Course 3\",Général!#REF!,Général!G$80)))","v":"Equipage 7"},{"$f":"IF($I$5=\"Course 1\",Général!G$84,IF($I$5=\"Course 2\",Général!G$86,IF($I$5=\"Course 3\",Général!#REF!,Général!G$88)))","v":"Equipage 2"},{"$f":"IF($J$5=\"Course 1\",Général!G$92,IF($J$5=\"Course 2\",Général!G$94,IF($J$5=\"Course 3\",Général!#REF!,Général!G$96)))","v":"Equipage 2"},{"$f":"IF($K$5=\"Course 1\",Général!G$100,IF($K$5=\"Course 2\",Général!G$102,IF($K$5=\"Course 3\",Général!#REF!,Général!G$104)))","v":"Equipage 6"},{"$f":"IF($L$5=\"Course 1\",Général!G$108,IF($L$5=\"Course 2\",Général!G$110,IF($L$5=\"Course 3\",Général!#REF!,Général!G$112)))","v":"Equipage 7"},{"$f":"IF($M$5=\"Course 1\",Général!G$116,IF($M$5=\"Course 2\",Général!G$118,IF($M$5=\"Course 3\",Général!#REF!,Général!G$120)))","v":"Equipage 11"},{"$f":"IF($N$5=\"Course 1\",Général!G$124,IF($N$5=\"Course 2\",Général!G$126,IF($N$5=\"Course 3\",Général!#REF!,Général!G$128)))","v":"Equipage 4"},{"$f":"IF($O$5=\"Course 1\",Général!G$132,IF($O$5=\"Course 2\",Général!G$134,IF($O$5=\"Course 3\",Général!#REF!,Général!G$136)))","v":"Equipage 3"},{"$f":"IF($P$5=\"Course 1\",Général!G$140,IF($P$5=\"Course 2\",Général!G$142,IF($P$5=\"Course 3\",Général!#REF!,Général!G$144)))","v":"Equipage 1"},{"$f":"IF($Q$5=\"Course 1\",Général!G$148,IF($Q$5=\"Course 2\",Général!G$150,IF($Q$5=\"Course 3\",Général!#REF!,Général!G$152)))","v":"Equipage 4"},{"$f":"IF($R$5=\"Course 1\",Général!G$156,IF($R$5=\"Course 2\",Général!G$158,IF($R$5=\"Course 3\",Général!G$160,Général!G$162)))","v":"Equipage 1"},null,null,null,{"$f":"Général!B15","v":"Equipage 13"},0]
["7ème Equipage",null,{"$f":"IF($C$5=\"Course 1\",Général!H36,IF($C$5=\"Course 2\",Général!H38,IF($C$5=\"Course 3\",Général!#REF!,Général!H40)))","v":0},{"$f":"IF($D$5=\"Course 1\",Général!H44,IF($D$5=\"Course 2\",Général!H46,IF($D$5=\"Course 3\",Général!#REF!,Général!H48)))","v":0},{"$f":"IF($E$5=\"Course 1\",Général!H52,IF($E$5=\"Course 2\",Général!H54,IF($E$5=\"Course 3\",Général!#REF!,Général!H56)))","v":0},{"$f":"IF($F$5=\"Course 1\",Général!H$60,IF($F$5=\"Course 2\",Général!H$62,IF($F$5=\"Course 3\",Général!#REF!,Général!H$64)))","v":0},{"$f":"IF($G$5=\"Course 1\",Général!H$68,IF($G$5=\"Course 2\",Général!H$70,IF($G$5=\"Course 3\",Général!#REF!,Général!H$72)))","v":0},{"$f":"IF($H$5=\"Course 1\",Général!H$76,IF($H$5=\"Course 2\",Général!H$78,IF($H$5=\"Course 3\",Général!#REF!,Général!H$80)))","v":0},{"$f":"IF($I$5=\"Course 1\",Général!H$84,IF($I$5=\"Course 2\",Général!H$86,IF($I$5=\"Course 3\",Général!#REF!,Général!H$88)))","v":0},{"$f":"IF($J$5=\"Course 1\",Général!H$92,IF($J$5=\"Course 2\",Général!H$94,IF($J$5=\"Course 3\",Général!#REF!,Général!H$96)))","v":0},{"$f":"IF($K$5=\"Course 1\",Général!H$100,IF($K$5=\"Course 2\",Général!H$102,IF($K$5=\"Course 3\",Général!#REF!,Général!H$104)))","v":0},{"$f":"IF($L$5=\"Course 1\",Général!H$108,IF($L$5=\"Course 2\",Général!H$110,IF($L$5=\"Course 3\",Général!#REF!,Général!H$112)))","v":0},{"$f":"IF($M$5=\"Course 1\",Général!H$116,IF($M$5=\"Course 2\",Général!H$118,IF($M$5=\"Course 3\",Général!#REF!,Général!H$120)))","v":0},{"$f":"IF($N$5=\"Course 1\",Général!H$124,IF($N$5=\"Course 2\",Général!H$126,IF($N$5=\"Course 3\",Général!#REF!,Général!H$128)))","v":0},{"$f":"IF($O$5=\"Course 1\",Général!H$132,IF($O$5=\"Course 2\",Général!H$134,IF($O$5=\"Course 3\",Général!#REF!,Général!H$136)))","v":0},{"$f":"IF($P$5=\"Course 1\",Général!H$140,IF($P$5=\"Course 2\",Général!H$142,IF($P$5=\"Course 3\",Général!#REF!,Général!H$144)))","v":0},{"$f":"IF($Q$5=\"Course 1\",Général!H$148,IF($Q$5=\"Course 2\",Général!H$150,IF($Q$5=\"Course 3\",Général!#REF!,Général!H$152)))","v":0},{"$f":"IF($R$5=\"Course 1\",Général!H$156,IF($R$5=\"Course 2\",Général!H$158,IF($R$5=\"Course 3\",Général!H$160,Général!H$162)))","v":0},null,null,null,{"$f":"Général!B16","v":"Equipage 14"},0]
["8ème Equipage",null,{"$f":"IF($C$5=\"Course 1\",Général!I36,IF($C$5=\"Course 2\",Général!I38,IF($C$5=\"Course 3\",Général!#REF!,Général!I40)))","v":0},{"$f":"IF($D$5=\"Course 1\",Général!I44,IF($D$5=\"Course 2\",Général!I46,IF($D$5=\"Course 3\",Général!#REF!,Général!I48)))","v":0},{"$f":"IF($E$5=\"Course 1\",Général!I52,IF($E$5=\"Course 2\",Général!I54,IF($E$5=\"Course 3\",Général!#REF!,Général!I56)))","v":0},{"$f":"IF($F$5=\"Course 1\",Général!I$60,IF($F$5=\"Course 2\",Général!I$62,IF($F$5=\"Course 3\",Général!#REF!,Général!I$64)))","v":0},{"$f":"IF($G$5=\"Course 1\",Général!I$68,IF($G$5=\"Course 2\",Général!I$70,IF($G$5=\"Course 3\",Général!#REF!,Général!I$72)))","v":0},{"$f":"IF($H$5=\"Course 1\",Général!I$76,IF($H$5=\"Course 2\",Général!I$78,IF($H$5=\"Course 3\",Général!#REF!,Général!I$80)))","v":0},{"$f":"IF($I$5=\"Course 1\",Général!I$84,IF($I$5=\"Course 2\",Général!I$86,IF($I$5=\"Course 3\",Général!#REF!,Général!I$88)))","v":0},{"$f":"IF($J$5=\"Course 1\",Général!I$92,IF($J$5=\"Course 2\",Général!I$94,IF($J$5=\"Course 3\",Général!#REF!,Général!I$96)))","v":0},{"$f":"IF($K$5=\"Course 1\",Général!I$100,IF($K$5=\"Course 2\",Général!I$102,IF($K$5=\"Course 3\",Général!#REF!,Général!I$104)))","v":0},{"$f":"IF($L$5=\"Course 1\",Général!I$108,IF($L$5=\"Course 2\",Général!I$110,IF($L$5=\"Course 3\",Général!#REF!,Général!I$112)))","v":0},{"$f":"IF($M$5=\"Course 1\",Général!I$116,IF($M$5=\"Course 2\",Général!I$118,IF($M$5=\"Course 3\",Général!#REF!,Général!I$120)))","v":0},{"$f":"IF($N$5=\"Course 1\",Général!I$124,IF($N$5=\"Course 2\",Général!I$126,IF($N$5=\"Course 3\",Général!#REF!,Général!I$128)))","v":0},{"$f":"IF($O$5=\"Course 1\",Général!I$132,IF($O$5=\"Course 2\",Général!I$134,IF($O$5=\"Course 3\",Général!#REF!,Général!I$136)))","v":0},{"$f":"IF($P$5=\"Course 1\",Général!I$140,IF($P$5=\"Course 2\",Général!I$142,IF($P$5=\"Course 3\",Général!#REF!,Général!I$144)))","v":0},{"$f":"IF($Q$5=\"Course 1\",Général!I$148,IF($Q$5=\"Course 2\",Général!I$150,IF($Q$5=\"Course 3\",Général!#REF!,Général!I$152)))","v":0},{"$f":"IF($R$5=\"Course 1\",Général!I$156,IF($R$5=\"Course 2\",Général!I$158,IF($R$5=\"Course 3\",Général!I$160,Général!I$162)))","v":0},null,null,null,{"$f":"Général!B17","v":"Equipage 15"},0]
["9ème Equipage",null,{"$f":"IF($C$5=\"Course 1\",Général!J36,IF($C$5=\"Course 2\",Général!J38,IF($C$5=\"Course 3\",Général!#REF!,Général!J40)))","v":0},{"$f":"IF($D$5=\"Course 1\",Général!J44,IF($D$5=\"Course 2\",Général!J46,IF($D$5=\"Course 3\",Général!#REF!,Général!J48)))","v":0},{"$f":"IF($E$5=\"Course 1\",Général!J52,IF($E$5=\"Course 2\",Général!J54,IF($E$5=\"Course 3\",Général!#REF!,Général!J56)))","v":0},{"$f":"IF($F$5=\"Course 1\",Général!J$60,IF($F$5=\"Course 2\",Général!J$62,IF($F$5=\"Course 3\",Général!#REF!,Général!J$64)))","v":0},{"$f":"IF($G$5=\"Course 1\",Général!J$68,IF($G$5=\"Course 2\",Général!J$70,IF($G$5=\"Course 3\",Général!#REF!,Général!J$72)))","v":0},{"$f":"IF($H$5=\"Course 1\",Général!J$76,IF($H$5=\"Course 2\",Général!J$78,IF($H$5=\"Course 3\",Général!#REF!,Général!J$80)))","v":0},{"$f":"IF($I$5=\"Course 1\",Général!J$84,IF($I$5=\"Course 2\",Général!J$86,IF($I$5=\"Course 3\",Général!#REF!,Général!J$88)))","v":0},{"$f":"IF($J$5=\"Course 1\",Général!J$92,IF($J$5=\"Course 2\",Général!J$94,IF($J$5=\"Course 3\",Général!#REF!,Général!J$96)))","v":0},{"$f":"IF($K$5=\"Course 1\",Général!J$100,IF($K$5=\"Course 2\",Général!J$102,IF($K$5=\"Course 3\",Général!#REF!,Général!J$104)))","v":0},{"$f":"IF($L$5=\"Course 1\",Général!J$108,IF($L$5=\"Course 2\",Général!J$110,IF($L$5=\"Course 3\",Général!#REF!,Général!J$112)))","v":0},{"$f":"IF($M$5=\"Course 1\",Général!J$116,IF($M$5=\"Course 2\",Général!J$118,IF($M$5=\"Course 3\",Général!#REF!,Général!J$120)))","v":0},{"$f":"IF($N$5=\"Course 1\",Général!J$124,IF($N$5=\"Course 2\",Général!J$126,IF($N$5=\"Course 3\",Général!#REF!,Général!J$128)))","v":0},{"$f":"IF($O$5=\"Course 1\",Général!J$132,IF($O$5=\"Course 2\",Général!J$134,IF($O$5=\"Course 3\",Général!#REF!,Général!J$136)))","v":0},{"$f":"IF($P$5=\"Course 1\",Général!J$140,IF($P$5=\"Course 2\",Général!J$142,IF($P$5=\"Course 3\",Général!#REF!,Général!J$144)))","v":0},{"$f":"IF($Q$5=\"Course 1\",Général!J$148,IF($Q$5=\"Course 2\",Général!J$150,IF($Q$5=\"Course 3\",Général!#REF!,Général!J$152)))","v":0},{"$f":"IF($R$5=\"Course 1\",Général!J$156,IF($R$5=\"Course 2\",Général!J$158,IF($R$5=\"Course 3\",Général!J$160,Général!J$162)))","v":0},null,null,null,{"$f":"Général!B18","v":"Equipage 16"},0]
["10ème Equipage",null,{"$f":"IF($C$5=\"Course 1\",Général!K36,IF($C$5=\"Course 2\",Général!K38,IF($C$5=\"Course 3\",Général!#REF!,Général!K40)))","v":0},{"$f":"IF($D$5=\"Course 1\",Général!K44,IF($D$5=\"Course 2\",Général!K46,IF($D$5=\"Course 3\",Général!#REF!,Général!K48)))","v":0},{"$f":"IF($E$5=\"Course 1\",Général!K52,IF($E$5=\"Course 2\",Général!K54,IF($E$5=\"Course 3\",Général!#REF!,Général!K56)))","v":0},{"$f":"IF($F$5=\"Course 1\",Général!K$60,IF($F$5=\"Course 2\",Général!K$62,IF($F$5=\"Course 3\",Général!#REF!,Général!K$64)))","v":0},{"$f":"IF($G$5=\"Course 1\",Général!K$68,IF($G$5=\"Course 2\",Général!K$70,IF($G$5=\"Course 3\",Général!#REF!,Général!K$72)))","v":0},{"$f":"IF($H$5=\"Course 1\",Général!K$76,IF($H$5=\"Course 2\",Général!K$78,IF($H$5=\"Course 3\",Général!#REF!,Général!K$80)))","v":0},{"$f":"IF($I$5=\"Course 1\",Général!K$84,IF($I$5=\"Course 2\",Général!K$86,IF($I$5=\"Course 3\",Général!#REF!,Général!K$88)))","v":0},{"$f":"IF($J$5=\"Course 1\",Général!K$92,IF($J$5=\"Course 2\",Général!K$94,IF($J$5=\"Course 3\",Général!#REF!,Général!K$96)))","v":0},{"$f":"IF($K$5=\"Course 1\",Général!K$100,IF($K$5=\"Course 2\",Général!K$102,IF($K$5=\"Course 3\",Général!#REF!,Général!K$104)))","v":0},{"$f":"IF($L$5=\"Course 1\",Général!K$108,IF($L$5=\"Course 2\",Général!K$110,IF($L$5=\"Course 3\",Général!#REF!,Général!K$112)))","v":0},{"$f":"IF($M$5=\"Course 1\",Général!K$116,IF($M$5=\"Course 2\",Général!K$118,IF($M$5=\"Course 3\",Général!#REF!,Général!K$120)))","v":0},{"$f":"IF($N$5=\"Course 1\",Général!K$124,IF($N$5=\"Course 2\",Général!K$126,IF($N$5=\"Course 3\",Général!#REF!,Général!K$128)))","v":0},{"$f":"IF($O$5=\"Course 1\",Général!K$132,IF($O$5=\"Course 2\",Général!K$134,IF($O$5=\"Course 3\",Général!#REF!,Général!K$136)))","v":0},{"$f":"IF($P$5=\"Course 1\",Général!K$140,IF($P$5=\"Course 2\",Général!K$142,IF($P$5=\"Course 3\",Général!#REF!,Général!K$144)))","v":0},{"$f":"IF($Q$5=\"Course 1\",Général!K$148,IF($Q$5=\"Course 2\",Général!K$150,IF($Q$5=\"Course 3\",Général!#REF!,Général!K$152)))","v":0},{"$f":"IF($R$5=\"Course 1\",Général!K$156,IF($R$5=\"Course 2\",Général!K$158,IF($R$5=\"Course 3\",Général!K$160,Général!K$162)))","v":0},null,null,null,{"$f":"Général!B19","v":"Equipage 17"},0]
[null,null,null,null,null,null,null,null,null,null,null,null,null,null,null,null,null,null,null,null,null,{"$f":"Général!B20","v":"Equipage 18"},0]
[null,null,null,null,null,null,null,null,null,null,null,null,null,null,null,null,null,null,null,null,null,{"$f":"Général!B21","v":"Equipage 19"},{"$f":"COUNTIF($C$8:$R$17,V19)","v":0}]
[null,null,null,null,null,null,null,null,null,null,null,null,null,null,null,null,null,null,null,null,null,{"$f":"Général!B22","v":"Equipage 20"},0]
[null,null,null,null,null,null,null,null,null,null,null,null,null,null,null,null,null,null,null,null,null,{"$f":"Général!B23","v":"Equipage 21"},0]
[null,null,null,null,null,null,null,null,null,null,null,null,null,null,null,null,null,null,null,null,null,{"$f":"Général!B24","v":"Equipage 22"},0]
[null,null,null,null,null,null,null,null,null,null,null,null,null,null,null,null,null,null,null,null,null,{"$f":"Général!B25","v":"Equipage 23"},0]
[null,null,null,null,null,null,null,null,null,null,null,null,null,null,null,null,null,null,null,null,null,{"$f":"Général!B26","v":"Equipage 24"},0]
[null,null,null,null,null,null,null,null,null,null,null,null,null,null,null,null,null,null,null,null,null,{"$f":"Général!B27","v":"Equipage 25"},0]
[null,null,null,null,null,null,null,null,null,null,null,null,null,null,null,null,null,null,null,null,null,{"$f":"Général!B28","v":"Equipage 26"},0]
[null,null,null,null,null,null,null,null,null,null,null,null,null,null,null,null,null,null,null,null,null,{"$f":"Général!B29","v":"Equipage 27"},0]
[null,null,null,null,null,null,null,null,null,null,null,null,null,null,null,null,null,null,null,null,null,{"$f":"Général!B30","v":"Equipage 28"},0]
[null,null,null,null,null,null,null,null,null,null,null,null,null,null,null,null,null,null,null,null,null,{"$f":"Général!B31","v":"Equipage 29"},0]
[null,null,null,null,null,null,null,null,null,null,null,null,null,null,null,null,null,null,null,null,null,{"$f":"Général!B32","v":"Equipage 30"},0]

{"sheet":"Eq.6","index":10,"n_rows":30,"n_cols":23,"rows_kept":30,"cut":false,"hidden":true,"merged":[[7,0,7,1],[0,0,1,5],[0,6,1,10],[3,0,3,1],[4,0,4,1],[5,0,5,1],[14,0,14,1],[15,0,15,1],[16,0,16,1],[8,0,8,1],[9,0,9,1],[10,0,10,1],[11,0,11,1],[12,0,12,1],[13,0,13,1]]}
["Equipage ",null,null,null,null,null,{"$f":"Général!B8","v":"Equipage 6"},null,null,null,null,null,null,null,null,null,null,null,null,null,null,{"$f":"Général!B3","v":"Equipage 1"},{"$f":"COUNTIF(C$8:R$17,V1)","v":6}]
[null,null,null,null,null,null,null,null,null,null,null,null,null,null,null,null,null,null,null,null,null,{"$f":"Général!B4","v":"Equipage 2"},{"$f":"COUNTIF($C$8:$R$17,V2)","v":4}]
[null,null,null,null,null,null,null,null,null,null,null,null,null,null,null,null,null,null,null,null,null,{"$f":"Général!B5","v":"Equipage 3"},{"$f":"COUNTIF($C$8:$R$17,V3)","v":9}]
[null,null,"FLIGHT 1","FLIGHT 2","FLIGHT 3","FLIGHT 4","FLIGHT 5","FLIGHT 6","FLIGHT 7","FLIGHT 8","FLIGHT 9","FLIGHT 10","FLIGHT 11","FLIGHT 12","FLIGHT 13","FLIGHT 14","FLIGHT 15","FLIGHT 16","FLIGHT 17","FLIGHT 18",null,{"$f":"Général!B6","v":"Equipage 4"},{"$f":"COUNTIF($C$8:$R$17,V4)","v":7}]
["N° de course",null,{"$f":"IF(COUNTIF(Général!B36:K36,$G$1)=1,\"Course 1\",IF(COUNTIF(Général!B38:K38,$G$1)=1,\"Course 2\",IF(COUNTIF(Général!#REF!,$G$1)=1,\"Course 3\",\"Course 4\")))","v":"Course 1"},{"$f":"IF(COUNTIF(Général!B44:K44,$G$1)=1,\"Course 1\",IF(COUNTIF(Général!B46:K46,$G$1)=1,\"Course 2\",IF(COUNTIF(Général!#REF!,$G$1)=1,\"Course 3\",\"Course 4\")))","v":"Course 1"},{"$f":"IF(COUNTIF(Général!B52:K52,$G$1)=1,\"Course 1\",IF(COUNTIF(Général!B54:K54,$G$1)=1,\"Course 2\",IF(COUNTIF(Général!#REF!,$G$1)=1,\"Course 3\",\"Course 4\")))","v":"Course 2"},{"$f":"IF(COUNTIF(Général!B60:K60,$G$1)=1,\"Course 1\",IF(COUNTIF(Général!B62:K62,$G$1)=1,\"Course 2\",IF(COUNTIF(Général!#REF!,$G$1)=1,\"Course 3\",\"Course 4\")))","v":"Course 1"},{"$f":"IF(COUNTIF(Général!B68:K68,$G$1)=1,\"Course 1\",IF(COUNTIF(Général!B70:K70,$G$1)=1,\"Course 2\",IF(COUNTIF(Général!#REF!,$G$1)=1,\"Course 3\",\"Course 4\")))","v":"Course 1"},{"$f":"IF(COUNTIF(Général!B76:K76,$G$1)=1,\"Course 1\",IF(COUNTIF(Général!B78:K78,$G$1)=1,\"Course 2\",IF(COUNTIF(Général!#REF!,$G$1)=1,\"Course 3\",\"Course 4\")))","v":"Course 1"},{"$f":"IF(COUNTIF(Général!B84:K84,$G$1)=1,\"Course 1\",IF(COUNTIF(Général!B86:K86,$G$1)=1,\"Course 2\",IF(COUNTIF(Général!#REF!,$G$1)=1,\"Course 3\",\"Course 4\")))","v":"Course 1"},{"$f":"IF(COUNTIF(Général!B92:K92,$G$1)=1,\"Course 1\",IF(COUNTIF(Général!B94:K94,$G$1)=1,\"Course 2\",IF(COUNTIF(Général!#REF!,$G$1)=1,\"Course 3\",\"Course 4\")))","v":"Course 2"},{"$f":"IF(COUNTIF(Général!B100:K100,$G$1)=1,\"Course 1\",IF(COUNTIF(Général!B102:K102,$G$1)=1,\"Course 2\",IF(COUNTIF(Général!#REF!,$G$1)=1,\"Course 3\",\"Course 4\")))","v":"Course 2"},{"$f":"IF(COUNTIF(Général!B108:K108,$G$1)=1,\"Course 1\",IF(COUNTIF(Général!B110:K110,$G$1)=1,\"Course 2\",IF(COUNTIF(Général!#REF!,$G$1)=1,\"Course 3\",\"Course 4\")))","v":"Course 1"},{"$f":"IF(COUNTIF(Général!B116:K116,$G$1)=1,\"Course 1\",IF(COUNTIF(Général!B118:K118,$G$1)=1,\"Course 2\",IF(COUNTIF(Général!#REF!,$G$1)=1,\"Course 3\",\"Course 4\")))","v":"Course 1"},{"$f":"IF(COUNTIF(Général!B124:K124,$G$1)=1,\"Course 1\",IF(COUNTIF(Général!B126:K126,$G$1)=1,\"Course 2\",IF(COUNTIF(Général!#REF!,$G$1)=1,\"Course 3\",\"Course 4\")))","v":"Course 2"},{"$f":"IF(COUNTIF(Général!B132:K132,$G$1)=1,\"Course 1\",IF(COUNTIF(Général!B134:K134,$G$1)=1,\"Course 2\",IF(COUNTIF(Général!#REF!,$G$1)=1,\"Course 3\",\"Course 4\")))","v":"Course 1"},{"$f":"IF(COUNTIF(Général!B140:K140,$G$1)=1,\"Course 1\",IF(COUNTIF(Général!B142:K142,$G$1)=1,\"Course 2\",IF(COUNTIF(Général!#REF!,$G$1)=1,\"Course 3\",\"Course 4\")))","v":"Course 1"},{"$f":"IF(COUNTIF(Général!B148:K148,$G$1)=1,\"Course 1\",IF(COUNTIF(Général!B150:K150,$G$1)=1,\"Course 2\",IF(COUNTIF(Général!#REF!,$G$1)=1,\"Course 3\",\"Course 4\")))","v":"Course 2"},{"$f":"IF(COUNTIF(Général!B156:K156,$G$1)=1,\"Course 1\",IF(COUNTIF(Général!B158:K158,$G$1)=1,\"Course 2\",IF(COUNTIF(Général!B160:K160,$G$1)=1,\"Course 3\",\"Course 4\")))","v":"Course 2"},{"$f":"IF(COUNTIF(Général!C156:L156,$G$1)=1,\"Course 1\",IF(COUNTIF(Général!C158:L158,$G$1)=1,\"Course 2\",IF(COUNTIF(Général!C160:L160,$G$1)=1,\"Course 3\",\"Course 4\")))","v":"Course 2"},{"$f":"IF(COUNTIF(Général!D156:M156,$G$1)=1,\"Course 1\",IF(COUNTIF(Général!D158:M158,$G$1)=1,\"Course 2\",IF(COUNTIF(Général!D160:M160,$G$1)=1,\"Course 3\",\"Course 4\")))","v":"Course 2"},null,{"$f":"Général!B7","v":"Equipage 5"},7]
["Bateau",null,{"$f":"IF(COUNTIF(Général!B36:B40,$G$1)=1,\"Boat 1\",IF(COUNTIF(Général!C36:C40,$G$1)=1,\"Boat 2\",IF(COUNTIF(Général!D36:D40,$G$1)=1,\"Boat 3\",IF(COUNTIF(Général!E36:E40,$G$1)=1,\"Boat 4\",IF(COUNTIF(Général!F36:F40,$G$1)=1,\"Boat 5\",IF(COUNTIF(Général!G36:G40,$G$1)=1,\"Boat 6\",IF(COUNTIF(Général!H36:H40,$G$1)=1,\"Boat 7\",IF(COUNTIF(Général!I36:I40,$G$1)=1,\"Boat 8\",IF(COUNTIF(Général!J36:J40,$G$1)=1,\"Boat 9\",\"Boat10\")))))))))","v":"Boat 1"},{"$f":"IF(COUNTIF(Général!B44:B48,$G$1)=1,\"Boat 1\",IF(COUNTIF(Général!C44:C48,$G$1)=1,\"Boat 2\",IF(COUNTIF(Général!D44:D48,$G$1)=1,\"Boat 3\",IF(COUNTIF(Général!E44:E48,$G$1)=1,\"Boat 4\",IF(COUNTIF(Général!F44:F48,$G$1)=1,\"Boat 5\",IF(COUNTIF(Général!G44:G48,$G$1)=1,\"Boat 6\",IF(COUNTIF(Général!H44:H48,$G$1)=1,\"Boat 7\",IF(COUNTIF(Général!I44:I48,$G$1)=1,\"Boat 8\",IF(COUNTIF(Général!J44:J48,$G$1)=1,\"Boat 9\",\"Boat 10\")))))))))","v":"Boat 3"},{"$f":"IF(COUNTIF(Général!B52:B56,$G$1)=1,\"Boat 1\",IF(COUNTIF(Général!C52:C56,$G$1)=1,\"Boat 2\",IF(COUNTIF(Général!D52:D56,$G$1)=1,\"Boat 3\", IF(COUNTIF(Général!E52:E56,$G$1)=1,\"Boat 4\", IF(COUNTIF(Général!F52:F56,$G$1)=1,\"Boat 5\", IF(COUNTIF(Général!G52:G56,$G$1)=1,\"Boat 6\", IF(COUNTIF(Général!H52:H56,$G$1)=1,\"Boat 7\",IF(COUNTIF(Général!I52:I56,$G$1)=1,\"Boat 8\",IF(COUNTIF(Général!J52:J56,$G$1)=1,\"Boat 9\",\"Boat 10\")))))))))","v":"Boat 3"},{"$f":"IF(COUNTIF(Général!B60:B64,$G$1)=1,\"Boat 1\",IF(COUNTIF(Général!C60:C64,$G$1)=1,\"Boat 2\",IF(COUNTIF(Général!D60:D64,$G$1)=1,\"Boat 3\", IF(COUNTIF(Général!E60:E64,$G$1)=1,\"Boat 4\", IF(COUNTIF(Général!F60:F64,$G$1)=1,\"Boat 5\", IF(COUNTIF(Général!G60:G64,$G$1)=1,\"Boat 6\", IF(COUNTIF(Général!H60:H64,$G$1)=1,\"Boat 7\",IF(COUNTIF(Général!I60:I64,$G$1)=1,\"Boat 8\",IF(COUNTIF(Général!I60:J64,$G$1)=1,\"Boat 9\",\"Boat 10\")))))))))","v":"Boat 3"},{"$f":"IF(COUNTIF(Général!B68:B72,$G$1)=1,\"Boat 1\",IF(COUNTIF(Général!C68:C72,$G$1)=1,\"Boat 2\",IF(COUNTIF(Général!D68:D72,$G$1)=1,\"Boat 3\", IF(COUNTIF(Général!E68:E72,$G$1)=1,\"Boat 4\", IF(COUNTIF(Général!F68:F72,$G$1)=1,\"Boat 5\", IF(COUNTIF(Général!G68:G72,$G$1)=1,\"Boat 6\", IF(COUNTIF(Général!H68:H72,$G$1)=1,\"Boat 7\",IF(COUNTIF(Général!I68:I72,$G$1)=1,\"Boat 8\",IF(COUNTIF(Général!J68:J72,$G$1)=1,\"Boat 9\",\"Boat 10\")))))))))","v":"Boat 5"},{"$f":"IF(COUNTIF(Général!B76:B80,$G$1)=1,\"Boat 1\",IF(COUNTIF(Général!C76:C80,$G$1)=1,\"Boat 2\",IF(COUNTIF(Général!D76:D80,$G$1)=1,\"Boat 3\", IF(COUNTIF(Général!E76:E80,$G$1)=1,\"Boat 4\", IF(COUNTIF(Général!F76:F80,$G$1)=1,\"Boat 5\", IF(COUNTIF(Général!G76:G80,$G$1)=1,\"Boat 6\", IF(COUNTIF(Général!H76:H80,$G$1)=1,\"Boat 7\",IF(COUNTIF(Général!I76:I80,$G$1)=1,\"Boat 8\",IF(COUNTIF(Général!J76:J80,$G$1)=1,\"Boat 9\",\"Boat 10\")))))))))","v":"Boat 2"},{"$f":"IF(COUNTIF(Général!B84:B88,$G$1)=1,\"Boat 1\",IF(COUNTIF(Général!C84:C88,$G$1)=1,\"Boat 2\",IF(COUNTIF(Général!D84:D88,$G$1)=1,\"Boat 3\", IF(COUNTIF(Général!E84:E88,$G$1)=1,\"Boat 4\", IF(COUNTIF(Général!F84:F88,$G$1)=1,\"Boat 5\", IF(COUNTIF(Général!G84:G88,$G$1)=1,\"Boat 6\", IF(COUNTIF(Général!H84:H88,$G$1)=1,\"Boat 7\",IF(COUNTIF(Général!I84:I88,$G$1)=1,\"Boat 8\",IF(COUNTIF(Général!J84:J88,$G$1)=1,\"Boat 9\",\"Boat 10\")))))))))","v":"Boat 5"},{"$f":"IF(COUNTIF(Général!B92:B96,$G$1)=1,\"Boat 1\",IF(COUNTIF(Général!C92:C96,$G$1)=1,\"Boat 2\",IF(COUNTIF(Général!D92:D96,$G$1)=1,\"Boat 3\", IF(COUNTIF(Général!E92:E96,$G$1)=1,\"Boat 4\", IF(COUNTIF(Général!F92:F96,$G$1)=1,\"Boat 5\", IF(COUNTIF(Général!G92:G96,$G$1)=1,\"Boat 6\", IF(COUNTIF(Général!H92:H96,$G$1)=1,\"Boat 7\",IF(COUNTIF(Général!I92:I96,$G$1)=1,\"Boat 8\",IF(COUNTIF(Général!J92:J96,$G$1)=1,\"Boat 9\",\"Boat 10\")))))))))","v":"Boat 6"},{"$f":"IF(COUNTIF(Général!B100:B104,$G$1)=1,\"Boat 1\",IF(COUNTIF(Général!C100:C104,$G$1)=1,\"Boat 2\",IF(COUNTIF(Général!D100:D104,$G$1)=1,\"Boat 3\", IF(COUNTIF(Général!E100:E104,$G$1)=1,\"Boat 4\", IF(COUNTIF(Général!F100:F104,$G$1)=1,\"Boat 5\", IF(COUNTIF(Général!G100:G104,$G$1)=1,\"Boat 6\", IF(COUNTIF(Général!H100:H104,$G$1)=1,\"Boat 7\",IF(COUNTIF(Général!I100:I104,$G$1)=1,\"Boat 8\",IF(COUNTIF(Général!J100:J104,$G$1)=1,\"Boat 9\",\"Boat 10\")))))))))","v":"Boat 6"},{"$f":"IF(COUNTIF(Général!B108:B112,$G$1)=1,\"Boat 1\",IF(COUNTIF(Général!C108:C112,$G$1)=1,\"Boat 2\",IF(COUNTIF(Général!D108:D112,$G$1)=1,\"Boat 3\", IF(COUNTIF(Général!E108:E112,$G$1)=1,\"Boat 4\", IF(COUNTIF(Général!F108:F112,$G$1)=1,\"Boat 5\", IF(COUNTIF(Général!G108:G112,$G$1)=1,\"Boat 6\", IF(COUNTIF(Général!H108:H112,$G$1)=1,\"Boat 7\",IF(COUNTIF(Général!I108:I112,$G$1)=1,\"Boat 8\",IF(COUNTIF(Général!J108:J112,$G$1)=1,\"Boat 9\",\"Boat 10\")))))))))","v":"Boat 6"},{"$f":"IF(COUNTIF(Général!B116:B120,$G$1)=1,\"Boat 1\",IF(COUNTIF(Général!C116:C120,$G$1)=1,\"Boat 2\",IF(COUNTIF(Général!C116:D120,$G$1)=1,\"Boat 3\", IF(COUNTIF(Général!C116:E120,$G$1)=1,\"Boat 4\", IF(COUNTIF(Général!F116:F120,$G$1)=1,\"Boat 5\", IF(COUNTIF(Général!G116:G120,$G$1)=1,\"Boat 6\", IF(COUNTIF(Général!H116:H120,$G$1)=1,\"Boat 7\",IF(COUNTIF(Général!I116:I120,$G$1)=1,\"Boat 8\",IF(COUNTIF(Général!J116:J120,$G$1)=1,\"Boat 9\",\"Boat 10\")))))))))","v":"Boat 1"},{"$f":"IF(COUNTIF(Général!B124:B128,$G$1)=1,\"Boat 1\",IF(COUNTIF(Général!C124:C128,$G$1)=1,\"Boat 2\",IF(COUNTIF(Général!D124:D128,$G$1)=1,\"Boat 3\", IF(COUNTIF(Général!E124:E128,$G$1)=1,\"Boat 4\", IF(COUNTIF(Général!F124:F128,$G$1)=1,\"Boat 5\", IF(COUNTIF(Général!G124:G128,$G$1)=1,\"Boat 6\", IF(COUNTIF(Général!H124:H128,$G$1)=1,\"Boat 7\",IF(COUNTIF(Général!I124:I128,$G$1)=1,\"Boat 8\",IF(COUNTIF(Général!J124:J128,$G$1)=1,\"Boat 9\",\"Boat 10\")))))))))","v":"Boat 4"},{"$f":"IF(COUNTIF(Général!B132:B136,$G$1)=1,\"Boat 1\",IF(COUNTIF(Général!C132:C136,$G$1)=1,\"Boat 2\",IF(COUNTIF(Général!D134:D136,$G$1)=1,\"Boat 3\", IF(COUNTIF(Général!E132:E136,$G$1)=1,\"Boat 4\", IF(COUNTIF(Général!F132:F136,$G$1)=1,\"Boat 5\", IF(COUNTIF(Général!G132:G136,$G$1)=1,\"Boat 6\", IF(COUNTIF(Général!H132:H136,$G$1)=1,\"Boat 7\",IF(COUNTIF(Général!I132:I136,$G$1)=1,\"Boat 8\",IF(COUNTIF(Général!J132:J136,$G$1)=1,\"Boat 9\",\"Boat 10\")))))))))","v":"Boat 4"},{"$f":"IF(COUNTIF(Général!B140:B144,$G$1)=1,\"Boat 1\",IF(COUNTIF(Général!C140:C144,$G$1)=1,\"Boat 2\",IF(COUNTIF(Général!D140:D144,$G$1)=1,\"Boat 3\", IF(COUNTIF(Général!E140:E144,$G$1)=1,\"Boat 4\", IF(COUNTIF(Général!F140:F144,$G$1)=1,\"Boat 5\", IF(COUNTIF(Général!G140:G144,$G$1)=1,\"Boat 6\", IF(COUNTIF(Général!H140:H144,$G$1)=1,\"Boat 7\",IF(COUNTIF(Général!I140:I144,$G$1)=1,\"Boat 8\",IF(COUNTIF(Général!J140:J144,$G$1)=1,\"Boat 9\",\"Boat 10\")))))))))","v":"Boat 1"},{"$f":"IF(COUNTIF(Général!B148:B152,$G$1)=1,\"Boat 1\",IF(COUNTIF(Général!C148:C152,$G$1)=1,\"Boat 2\",IF(COUNTIF(Général!D148:D152,$G$1)=1,\"Boat 3\", IF(COUNTIF(Général!E148:E152,$G$1)=1,\"Boat 4\", IF(COUNTIF(Général!F148:F152,$G$1)=1,\"Boat 5\", IF(COUNTIF(Général!G148:G152,$G$1)=1,\"Boat 6\", IF(COUNTIF(Général!H148:H152,$G$1)=1,\"Boat 7\",IF(COUNTIF(Général!I148:I152,$G$1)=1,\"Boat 8\",IF(COUNTIF(Général!J148:J152,$G$1)=1,\"Boat 9\",\"Boat 10\")))))))))","v":"Boat 4"},{"$f":"IF(COUNTIF(Général!B156:B159,$G$1)=1,\"Boat 1\",IF(COUNTIF(Général!C156:C159,$G$1)=1,\"Boat 2\",IF(COUNTIF(Général!D156:D159,$G$1)=1,\"Boat 3\", IF(COUNTIF(Général!E156:E159,$G$1)=1,\"Boat 4\", IF(COUNTIF(Général!F156:F159,$G$1)=1,\"Boat 5\", IF(COUNTIF(Général!G156:G159,$G$1)=1,\"Boat 6\", IF(COUNTIF(Général!H156:H159,$G$1)=1,\"Boat 7\",IF(COUNTIF(Général!I156:I159,$G$1)=1,\"Boat 8\",IF(COUNTIF(Général!J156:J159,$G$1)=1,\"Boat 9\",\"Boat 10\")))))))))","v":"Boat 3"},{"$f":"IF(COUNTIF(Général!B162:B165,$G$1)=1,\"Boat 1\",IF(COUNTIF(Général!C162:C165,$G$1)=1,\"Boat 2\",IF(COUNTIF(Général!D162:D165,$G$1)=1,\"Boat 3\", IF(COUNTIF(Général!E162:E165,$G$1)=1,\"Boat 4\", IF(COUNTIF(Général!F162:F165,$G$1)=1,\"Boat 5\", IF(COUNTIF(Général!G162:G165,$G$1)=1,\"Boat 6\", IF(COUNTIF(Général!H162:H165,$G$1)=1,\"Boat 7\",IF(COUNTIF(Général!I162:I165,$G$1)=1,\"Boat 8\",IF(COUNTIF(Général!J162:J165,$G$1)=1,\"Boat 9\",\"Boat 10\")))))))))","v":"Boat 3"},{"$f":"IF(COUNTIF(Général!B168:B171,$G$1)=1,\"Boat 1\",IF(COUNTIF(Général!C168:C171,$G$1)=1,\"Boat 2\",IF(COUNTIF(Général!D168:D171,$G$1)=1,\"Boat 3\", IF(COUNTIF(Général!E168:E171,$G$1)=1,\"Boat 4\", IF(COUNTIF(Général!F168:F171,$G$1)=1,\"Boat 5\", IF(COUNTIF(Général!G168:G171,$G$1)=1,\"Boat 6\", IF(COUNTIF(Général!H168:H171,$G$1)=1,\"Boat 7\",IF(COUNTIF(Général!I168:I171,$G$1)=1,\"Boat 8\",IF(COUNTIF(Général!J168:J171,$G$1)=1,\"Boat 9\",\"Boat 10\")))))))))","v":"Boat 3"},null,{"$f":"Général!B8","v":"Equipage 6"},16]
[null,null,null,null,null,null,null,null,null,null,null,null,null,null,null,null,null,null,null,null,null,{"$f":"Général!B9","v":"Equipage 7"},9]
["1er Equipage",null,{"$f":"IF($C$5=\"Course 1\",Général!B36,IF($C$5=\"Course 2\",Général!B38,IF($C$5=\"Course 3\",Général!#REF!,Général!B40)))","v":"Equipage 6"},{"$f":"IF($D$5=\"Course 1\",Général!B44,IF($D$5=\"Course 2\",Général!B46,IF($D$5=\"Course 3\",Général!#REF!,Général!B48)))","v":"Equipage 7"},{"$f":"IF($E$5=\"Course 1\",Général!B52,IF($E$5=\"Course 2\",Général!B54,IF($E$5=\"Course 3\",Général!#REF!,Général!B56)))","v":"Equipage 1"},{"$f":"IF($F$5=\"Course 1\",Général!B$60,IF($F$5=\"Course 2\",Général!B$62,IF($F$5=\"Course 3\",Général!#REF!,Général!B$64)))","v":"Equipage 8"},{"$f":"IF($G$5=\"Course 1\",Général!B$68,IF($G$5=\"Course 2\",Général!B$70,IF($G$5=\"Course 3\",Général!#REF!,Général!B$72)))","v":"Equipage 8"},{"$f":"IF($H$5=\"Course 1\",Général!B$76,IF($H$5=\"Course 2\",Général!B$78,IF($H$5=\"Course 3\",Général!#REF!,Général!B$80)))","v":"Equipage 5"},{"$f":"IF($I$5=\"Course 1\",Général!B$84,IF($I$5=\"Course 2\",Général!B$86,IF($I$5=\"Course 3\",Général!#REF!,Général!B$88)))","v":"Equipage 9"},{"$f":"IF($J$5=\"Course 1\",Général!B$92,IF($J$5=\"Course 2\",Général!B$94,IF($J$5=\"Course 3\",Général!#REF!,Général!B$96)))","v":"Equipage 11"},{"$f":"IF($K$5=\"Course 1\",Général!B$100,IF($K$5=\"Course 2\",Général!B$102,IF($K$5=\"Course 3\",Général!#REF!,Général!B$104)))","v":"Equipage 5"},{"$f":"IF($L$5=\"Course 1\",Général!B$108,IF($L$5=\"Course 2\",Général!B$110,IF($L$5=\"Course 3\",Général!#REF!,Général!B$112)))","v":"Equipage 4"},{"$f":"IF($M$5=\"Course 1\",Général!B$116,IF($M$5=\"Course 2\",Général!B$118,IF($M$5=\"Course 3\",Général!#REF!,Général!B$120)))","v":"Equipage 6"},{"$f":"IF($N$5=\"Course 1\",Général!B$124,IF($N$5=\"Course 2\",Général!B$126,IF($N$5=\"Course 3\",Général!#REF!,Général!B$128)))","v":"Equipage 12"},{"$f":"IF($O$5=\"Course 1\",Général!B$132,IF($O$5=\"Course 2\",Général!B$134,IF($O$5=\"Course 3\",Général!#REF!,Général!B$136)))","v":"Equipage 7"},{"$f":"IF($P$5=\"Course 1\",Général!B$140,IF($P$5=\"Course 2\",Général!B$142,IF($P$5=\"Course 3\",Général!#REF!,Général!B$144)))","v":"Equipage 6"},{"$f":"IF($Q$5=\"Course 1\",Général!B$148,IF($Q$5=\"Course 2\",Général!B$150,IF($Q$5=\"Course 3\",Général!#REF!,Général!B$152)))","v":"Equipage 3"},{"$f":"IF($R$5=\"Course 1\",Général!B$156,IF($R$5=\"Course 2\",Général!B$158,IF($R$5=\"Course 3\",Général!B$160,Général!B$162)))","v":"Equipage 4"},null,null,null,{"$f":"Général!B10","v":"Equipage 8"},8]
["2nd Equipage",null,{"$f":"IF($C$5=\"Course 1\",Général!C36,IF($C$5=\"Course 2\",Général!C38,IF($C$5=\"Course 3\",Général!#REF!,Général!C40)))","v":"Equipage 7"},{"$f":"IF($D$5=\"Course 1\",Général!C44,IF($D$5=\"Course 2\",Général!C46,IF($D$5=\"Course 3\",Général!#REF!,Général!C48)))","v":"Equipage 5"},{"$f":"IF($E$5=\"Course 1\",Général!C52,IF($E$5=\"Course 2\",Général!C54,IF($E$5=\"Course 3\",Général!#REF!,Général!C56)))","v":"Equipage 3"},{"$f":"IF($F$5=\"Course 1\",Général!C$60,IF($F$5=\"Course 2\",Général!C$62,IF($F$5=\"Course 3\",Général!#REF!,Général!C$64)))","v":"Equipage 3"},{"$f":"IF($G$5=\"Course 1\",Général!C$68,IF($G$5=\"Course 2\",Général!C$70,IF($G$5=\"Course 3\",Général!#REF!,Général!C$72)))","v":"Equipage 1"},{"$f":"IF($H$5=\"Course 1\",Général!C$76,IF($H$5=\"Course 2\",Général!C$78,IF($H$5=\"Course 3\",Général!#REF!,Général!C$80)))","v":"Equipage 6"},{"$f":"IF($I$5=\"Course 1\",Général!C$84,IF($I$5=\"Course 2\",Général!C$86,IF($I$5=\"Course 3\",Général!#REF!,Général!C$88)))","v":"Equipage 4"},{"$f":"IF($J$5=\"Course 1\",Général!C$92,IF($J$5=\"Course 2\",Général!C$94,IF($J$5=\"Course 3\",Général!#REF!,Général!C$96)))","v":"Equipage 8"},{"$f":"IF($K$5=\"Course 1\",Général!C$100,IF($K$5=\"Course 2\",Général!C$102,IF($K$5=\"Course 3\",Général!#REF!,Général!C$104)))","v":"Equipage 8"},{"$f":"IF($L$5=\"Course 1\",Général!C$108,IF($L$5=\"Course 2\",Général!C$110,IF($L$5=\"Course 3\",Général!#REF!,Général!C$112)))","v":"Equipage 8"},{"$f":"IF($M$5=\"Course 1\",Général!C$116,IF($M$5=\"Course 2\",Général!C$118,IF($M$5=\"Course 3\",Général!#REF!,Général!C$120)))","v":"Equipage 5"},{"$f":"IF($N$5=\"Course 1\",Général!C$124,IF($N$5=\"Course 2\",Général!C$126,IF($N$5=\"Course 3\",Général!#REF!,Général!C$128)))","v":"Equipage 10"},{"$f":"IF($O$5=\"Course 1\",Général!C$132,IF($O$5=\"Course 2\",Général!C$134,IF($O$5=\"Course 3\",Général!#REF!,Général!C$136)))","v":"Equipage 10"},{"$f":"IF($P$5=\"Course 1\",Général!C$140,IF($P$5=\"Course 2\",Général!C$142,IF($P$5=\"Course 3\",Général!#REF!,Général!C$144)))","v":"Equipage 2"},{"$f":"IF($Q$5=\"Course 1\",Général!C$148,IF($Q$5=\"Course 2\",Général!C$150,IF($Q$5=\"Course 3\",Général!#REF!,Général!C$152)))","v":"Equipage 9"},{"$f":"IF($R$5=\"Course 1\",Général!C$156,IF($R$5=\"Course 2\",Général!C$158,IF($R$5=\"Course 3\",Général!C$160,Général!C$162)))","v":"Equipage 9"},null,null,null,{"$f":"Général!B11","v":"Equipage 9"},6]
["3ème Equipage",null,{"$f":"IF($C$5=\"Course 1\",Général!D36,IF($C$5=\"Course 2\",Général!D38,IF($C$5=\"Course 3\",Général!#REF!,Général!D40)))","v":"Equipage 10"},{"$f":"IF($D$5=\"Course 1\",Général!D44,IF($D$5=\"Course 2\",Général!D46,IF($D$5=\"Course 3\",Général!#REF!,Général!D48)))","v":"Equipage 6"},{"$f":"IF($E$5=\"Course 1\",Général!D52,IF($E$5=\"Course 2\",Général!D54,IF($E$5=\"Course 3\",Général!#REF!,Général!D56)))","v":"Equipage 6"},{"$f":"IF($F$5=\"Course 1\",Général!D$60,IF($F$5=\"Course 2\",Général!D$62,IF($F$5=\"Course 3\",Général!#REF!,Général!D$64)))","v":"Equipage 6"},{"$f":"IF($G$5=\"Course 1\",Général!D$68,IF($G$5=\"Course 2\",Général!D$70,IF($G$5=\"Course 3\",Général!#REF!,Général!D$72)))","v":"Equipage 7"},{"$f":"IF($H$5=\"Course 1\",Général!D$76,IF($H$5=\"Course 2\",Général!D$78,IF($H$5=\"Course 3\",Général!#REF!,Général!D$80)))","v":"Equipage 9"},{"$f":"IF($I$5=\"Course 1\",Général!D$84,IF($I$5=\"Course 2\",Général!D$86,IF($I$5=\"Course 3\",Général!#REF!,Général!D$88)))","v":"Equipage 1"},{"$f":"IF($J$5=\"Course 1\",Général!D$92,IF($J$5=\"Course 2\",Général!D$94,IF($J$5=\"Course 3\",Général!#REF!,Général!D$96)))","v":"Equipage 4"},{"$f":"IF($K$5=\"Course 1\",Général!D$100,IF($K$5=\"Course 2\",Général!D$102,IF($K$5=\"Course 3\",Général!#REF!,Général!D$104)))","v":"Equipage 3"},{"$f":"IF($L$5=\"Course 1\",Général!D$108,IF($L$5=\"Course 2\",Général!D$110,IF($L$5=\"Course 3\",Général!#REF!,Général!D$112)))","v":"Equipage 12"},{"$f":"IF($M$5=\"Course 1\",Général!D$116,IF($M$5=\"Course 2\",Général!D$118,IF($M$5=\"Course 3\",Général!#REF!,Général!D$120)))","v":"Equipage 10"},{"$f":"IF($N$5=\"Course 1\",Général!D$124,IF($N$5=\"Course 2\",Général!D$126,IF($N$5=\"Course 3\",Général!#REF!,Général!D$128)))","v":"Equipage 1"},{"$f":"IF($O$5=\"Course 1\",Général!D$132,IF($O$5=\"Course 2\",Général!D$134,IF($O$5=\"Course 3\",Général!#REF!,Général!D$136)))","v":"Equipage 5"},{"$f":"IF($P$5=\"Course 1\",Général!D$140,IF($P$5=\"Course 2\",Général!D$142,IF($P$5=\"Course 3\",Général!#REF!,Général!D$144)))","v":"Equipage 12"},{"$f":"IF($Q$5=\"Course 1\",Général!D$148,IF($Q$5=\"Course 2\",Général!D$150,IF($Q$5=\"Course 3\",Général!#REF!,Général!D$152)))","v":"Equipage 10"},{"$f":"IF($R$5=\"Course 1\",Général!D$156,IF($R$5=\"Course 2\",Général!D$158,IF($R$5=\"Course 3\",Général!D$160,Général!D$162)))","v":"Equipage 6"},null,null,null,{"$f":"Général!B12","v":"Equipage 10"},9]
["4ème Equipage",null,{"$f":"IF($C$5=\"Course 1\",Général!E36,IF($C$5=\"Course 2\",Général!E38,IF($C$5=\"Course 3\",Général!#REF!,Général!E40)))","v":"Equipage 2"},{"$f":"IF($D$5=\"Course 1\",Général!E44,IF($D$5=\"Course 2\",Général!E46,IF($D$5=\"Course 3\",Général!#REF!,Général!E48)))","v":"Equipage 4"},{"$f":"IF($E$5=\"Course 1\",Général!E52,IF($E$5=\"Course 2\",Général!E54,IF($E$5=\"Course 3\",Général!#REF!,Général!E56)))","v":"Equipage 4"},{"$f":"IF($F$5=\"Course 1\",Général!E$60,IF($F$5=\"Course 2\",Général!E$62,IF($F$5=\"Course 3\",Général!#REF!,Général!E$64)))","v":"Equipage 7"},{"$f":"IF($G$5=\"Course 1\",Général!E$68,IF($G$5=\"Course 2\",Général!E$70,IF($G$5=\"Course 3\",Général!#REF!,Général!E$72)))","v":"Equipage 3"},{"$f":"IF($H$5=\"Course 1\",Général!E$76,IF($H$5=\"Course 2\",Général!E$78,IF($H$5=\"Course 3\",Général!#REF!,Général!E$80)))","v":"Equipage 11"},{"$f":"IF($I$5=\"Course 1\",Général!E$84,IF($I$5=\"Course 2\",Général!E$86,IF($I$5=\"Course 3\",Général!#REF!,Général!E$88)))","v":"Equipage 7"},{"$f":"IF($J$5=\"Course 1\",Général!E$92,IF($J$5=\"Course 2\",Général!E$94,IF($J$5=\"Course 3\",Général!#REF!,Général!E$96)))","v":"Equipage 1"},{"$f":"IF($K$5=\"Course 1\",Général!E$100,IF($K$5=\"Course 2\",Général!E$102,IF($K$5=\"Course 3\",Général!#REF!,Général!E$104)))","v":"Equipage 2"},{"$f":"IF($L$5=\"Course 1\",Général!E$108,IF($L$5=\"Course 2\",Général!E$110,IF($L$5=\"Course 3\",Général!#REF!,Général!E$112)))","v":"Equipage 11"},{"$f":"IF($M$5=\"Course 1\",Général!E$116,IF($M$5=\"Course 2\",Général!E$118,IF($M$5=\"Course 3\",Général!#REF!,Général!E$120)))","v":"Equipage 12"},{"$f":"IF($N$5=\"Course 1\",Général!E$124,IF($N$5=\"Course 2\",Général!E$126,IF($N$5=\"Course 3\",Général!#REF!,Général!E$128)))","v":"Equipage 6"},{"$f":"IF($O$5=\"Course 1\",Général!E$132,IF($O$5=\"Course 2\",Général!E$134,IF($O$5=\"Course 3\",Général!#REF!,Général!E$136)))","v":"Equipage 6"},{"$f":"IF($P$5=\"Course 1\",Général!E$140,IF($P$5=\"Course 2\",Général!E$142,IF($P$5=\"Course 3\",Général!#REF!,Général!E$144)))","v":"Equipage 7"},{"$f":"IF($Q$5=\"Course 1\",Général!E$148,IF($Q$5=\"Course 2\",Général!E$150,IF($Q$5=\"Course 3\",Général!#REF!,Général!E$152)))","v":"Equipage 6"},{"$f":"IF($R$5=\"Course 1\",Général!E$156,IF($R$5=\"Course 2\",Général!E$158,IF($R$5=\"Course 3\",Général!E$160,Général!E$162)))","v":"Equipage 10"},null,null,null,{"$f":"Général!B13","v":"Equipage 11"},8]
["5ème Equipage",null,{"$f":"IF($C$5=\"Course 1\",Général!F36,IF($C$5=\"Course 2\",Général!F38,IF($C$5=\"Course 3\",Général!#REF!,Général!F40)))","v":"Equipage 11"},{"$f":"IF($D$5=\"Course 1\",Général!F44,IF($D$5=\"Course 2\",Général!F46,IF($D$5=\"Course 3\",Général!#REF!,Général!F48)))","v":"Equipage 8"},{"$f":"IF($E$5=\"Course 1\",Général!F52,IF($E$5=\"Course 2\",Général!F54,IF($E$5=\"Course 3\",Général!#REF!,Général!F56)))","v":"Equipage 12"},{"$f":"IF($F$5=\"Course 1\",Général!F$60,IF($F$5=\"Course 2\",Général!F$62,IF($F$5=\"Course 3\",Général!#REF!,Général!F$64)))","v":"Equipage 2"},{"$f":"IF($G$5=\"Course 1\",Général!F$68,IF($G$5=\"Course 2\",Général!F$70,IF($G$5=\"Course 3\",Général!#REF!,Général!F$72)))","v":"Equipage 6"},{"$f":"IF($H$5=\"Course 1\",Général!F$76,IF($H$5=\"Course 2\",Général!F$78,IF($H$5=\"Course 3\",Général!#REF!,Général!F$80)))","v":"Equipage 8"},{"$f":"IF($I$5=\"Course 1\",Général!F$84,IF($I$5=\"Course 2\",Général!F$86,IF($I$5=\"Course 3\",Général!#REF!,Général!F$88)))","v":"Equipage 6"},{"$f":"IF($J$5=\"Course 1\",Général!F$92,IF($J$5=\"Course 2\",Général!F$94,IF($J$5=\"Course 3\",Général!#REF!,Général!F$96)))","v":"Equipage 12"},{"$f":"IF($K$5=\"Course 1\",Général!F$100,IF($K$5=\"Course 2\",Général!F$102,IF($K$5=\"Course 3\",Général!#REF!,Général!F$104)))","v":"Equipage 10"},{"$f":"IF($L$5=\"Course 1\",Général!F$108,IF($L$5=\"Course 2\",Général!$F110,IF($L$5=\"Course 3\",Général!#REF!,Général!F$112)))","v":"Equipage 10"},{"$f":"IF($M$5=\"Course 1\",Général!F$116,IF($M$5=\"Course 2\",Général!F$118,IF($M$5=\"Course 3\",Général!#REF!,Général!F$120)))","v":"Equipage 9"},{"$f":"IF($N$5=\"Course 1\",Général!F$124,IF($N$5=\"Course 2\",Général!F$126,IF($N$5=\"Course 3\",Général!#REF!,Général!F$128)))","v":"Equipage 11"},{"$f":"IF($O$5=\"Course 1\",Général!F$132,IF($O$5=\"Course 2\",Général!F$134,IF($O$5=\"Course 3\",Général!#REF!,Général!F$136)))","v":"Equipage 11"},{"$f":"IF($P$5=\"Course 1\",Général!F$140,IF($P$5=\"Course 2\",Général!F$142,IF($P$5=\"Course 3\",Général!#REF!,Général!F$144)))","v":"Equipage 4"},{"$f":"IF($Q$5=\"Course 1\",Général!F$148,IF($Q$5=\"Course 2\",Général!F$150,IF($Q$5=\"Course 3\",Général!#REF!,Général!F$152)))","v":"Equipage 7"},{"$f":"IF($R$5=\"Course 1\",Général!F$156,IF($R$5=\"Course 2\",Général!F$158,IF($R$5=\"Course 3\",Général!F$160,Général!F$162)))","v":"Equipage 3"},null,null,null,{"$f":"Général!B14","v":"Equipage 12"},7]
["6ème Equipage",null,{"$f":"IF($C$5=\"Course 1\",Général!G36,IF($C$5=\"Course 2\",Général!G38,IF($C$5=\"Course 3\",Général!#REF!,Général!G40)))","v":"Equipage 5"},{"$f":"IF($D$5=\"Course 1\",Général!G44,IF($D$5=\"Course 2\",Général!G46,IF($D$5=\"Course 3\",Général!#REF!,Général!G48)))","v":"Equipage 10"},{"$f":"IF($E$5=\"Course 1\",Général!G52,IF($E$5=\"Course 2\",Général!G54,IF($E$5=\"Course 3\",Général!#REF!,Général!G56)))","v":"Equipage 9"},{"$f":"IF($F$5=\"Course 1\",Général!G$60,IF($F$5=\"Course 2\",Général!G$62,IF($F$5=\"Course 3\",Général!#REF!,Général!G$64)))","v":"Equipage 5"},{"$f":"IF($G$5=\"Course 1\",Général!G$68,IF($G$5=\"Course 2\",Général!G$70,IF($G$5=\"Course 3\",Général!#REF!,Général!G$72)))","v":"Equipage 12"},{"$f":"IF($H$5=\"Course 1\",Général!G$76,IF($H$5=\"Course 2\",Général!G$78,IF($H$5=\"Course 3\",Général!#REF!,Général!G$80)))","v":"Equipage 7"},{"$f":"IF($I$5=\"Course 1\",Général!G$84,IF($I$5=\"Course 2\",Général!G$86,IF($I$5=\"Course 3\",Général!#REF!,Général!G$88)))","v":"Equipage 3"},{"$f":"IF($J$5=\"Course 1\",Général!G$92,IF($J$5=\"Course 2\",Général!G$94,IF($J$5=\"Course 3\",Général!#REF!,Général!G$96)))","v":"Equipage 6"},{"$f":"IF($K$5=\"Course 1\",Général!G$100,IF($K$5=\"Course 2\",Général!G$102,IF($K$5=\"Course 3\",Général!#REF!,Général!G$104)))","v":"Equipage 6"},{"$f":"IF($L$5=\"Course 1\",Général!G$108,IF($L$5=\"Course 2\",Général!G$110,IF($L$5=\"Course 3\",Général!#REF!,Général!G$112)))","v":"Equipage 6"},{"$f":"IF($M$5=\"Course 1\",Général!G$116,IF($M$5=\"Course 2\",Général!G$118,IF($M$5=\"Course 3\",Général!#REF!,Général!G$120)))","v":"Equipage 11"},{"$f":"IF($N$5=\"Course 1\",Général!G$124,IF($N$5=\"Course 2\",Général!G$126,IF($N$5=\"Course 3\",Général!#REF!,Général!G$128)))","v":"Equipage 3"},{"$f":"IF($O$5=\"Course 1\",Général!G$132,IF($O$5=\"Course 2\",Général!G$134,IF($O$5=\"Course 3\",Général!#REF!,Général!G$136)))","v":"Equipage 3"},{"$f":"IF($P$5=\"Course 1\",Général!G$140,IF($P$5=\"Course 2\",Général!G$142,IF($P$5=\"Course 3\",Général!#REF!,Général!G$144)))","v":"Equipage 8"},{"$f":"IF($Q$5=\"Course 1\",Général!G$148,IF($Q$5=\"Course 2\",Général!G$150,IF($Q$5=\"Course 3\",Général!#REF!,Général!G$152)))","v":"Equipage 1"},{"$f":"IF($R$5=\"Course 1\",Général!G$156,IF($R$5=\"Course 2\",Général!G$158,IF($R$5=\"Course 3\",Général!G$160,Général!G$162)))","v":"Equipage 11"},null,null,null,{"$f":"Général!B15","v":"Equipage 13"},0]
["7ème Equipage",null,{"$f":"IF($C$5=\"Course 1\",Général!H36,IF($C$5=\"Course 2\",Général!H38,IF($C$5=\"Course 3\",Général!#REF!,Général!H40)))","v":0},{"$f":"IF($D$5=\"Course 1\",Général!H44,IF($D$5=\"Course 2\",Général!H46,IF($D$5=\"Course 3\",Général!#REF!,Général!H48)))","v":0},{"$f":"IF($E$5=\"Course 1\",Général!H52,IF($E$5=\"Course 2\",Général!H54,IF($E$5=\"Course 3\",Général!#REF!,Général!H56)))","v":0},{"$f":"IF($F$5=\"Course 1\",Général!H$60,IF($F$5=\"Course 2\",Général!H$62,IF($F$5=\"Course 3\",Général!#REF!,Général!H$64)))","v":0},{"$f":"IF($G$5=\"Course 1\",Général!H$68,IF($G$5=\"Course 2\",Général!H$70,IF($G$5=\"Course 3\",Général!#REF!,Général!H$72)))","v":0},{"$f":"IF($H$5=\"Course 1\",Général!H$76,IF($H$5=\"Course 2\",Général!H$78,IF($H$5=\"Course 3\",Général!#REF!,Général!H$80)))","v":0},{"$f":"IF($I$5=\"Course 1\",Général!H$84,IF($I$5=\"Course 2\",Général!H$86,IF($I$5=\"Course 3\",Général!#REF!,Général!H$88)))","v":0},{"$f":"IF($J$5=\"Course 1\",Général!H$92,IF($J$5=\"Course 2\",Général!H$94,IF($J$5=\"Course 3\",Général!#REF!,Général!H$96)))","v":0},{"$f":"IF($K$5=\"Course 1\",Général!H$100,IF($K$5=\"Course 2\",Général!H$102,IF($K$5=\"Course 3\",Général!#REF!,Général!H$104)))","v":0},{"$f":"IF($L$5=\"Course 1\",Général!H$108,IF($L$5=\"Course 2\",Général!H$110,IF($L$5=\"Course 3\",Général!#REF!,Général!H$112)))","v":0},{"$f":"IF($M$5=\"Course 1\",Général!H$116,IF($M$5=\"Course 2\",Général!H$118,IF($M$5=\"Course 3\",Général!#REF!,Général!H$120)))","v":0},{"$f":"IF($N$5=\"Course 1\",Général!H$124,IF($N$5=\"Course 2\",Général!H$126,IF($N$5=\"Course 3\",Général!#REF!,Général!H$128)))","v":0},{"$f":"IF($O$5=\"Course 1\",Général!H$132,IF($O$5=\"Course 2\",Général!H$134,IF($O$5=\"Course 3\",Général!#REF!,Général!H$136)))","v":0},{"$f":"IF($P$5=\"Course 1\",Général!H$140,IF($P$5=\"Course 2\",Général!H$142,IF($P$5=\"Course 3\",Général!#REF!,Général!H$144)))","v":0},{"$f":"IF($Q$5=\"Course 1\",Général!H$148,IF($Q$5=\"Course 2\",Général!H$150,IF($Q$5=\"Course 3\",Général!#REF!,Général!H$152)))","v":0},{"$f":"IF($R$5=\"Course 1\",Général!H$156,IF($R$5=\"Course 2\",Général!H$158,IF($R$5=\"Course 3\",Général!H$160,Général!H$162)))","v":0},null,null,null,{"$f":"Général!B16","v":"Equipage 14"},0]
["8ème Equipage",null,{"$f":"IF($C$5=\"Course 1\",Général!I36,IF($C$5=\"Course 2\",Général!I38,IF($C$5=\"Course 3\",Général!#REF!,Général!I40)))","v":0},{"$f":"IF($D$5=\"Course 1\",Général!I44,IF($D$5=\"Course 2\",Général!I46,IF($D$5=\"Course 3\",Général!#REF!,Général!I48)))","v":0},{"$f":"IF($E$5=\"Course 1\",Général!I52,IF($E$5=\"Course 2\",Général!I54,IF($E$5=\"Course 3\",Général!#REF!,Général!I56)))","v":0},{"$f":"IF($F$5=\"Course 1\",Général!I$60,IF($F$5=\"Course 2\",Général!I$62,IF($F$5=\"Course 3\",Général!#REF!,Général!I$64)))","v":0},{"$f":"IF($G$5=\"Course 1\",Général!I$68,IF($G$5=\"Course 2\",Général!I$70,IF($G$5=\"Course 3\",Général!#REF!,Général!I$72)))","v":0},{"$f":"IF($H$5=\"Course 1\",Général!I$76,IF($H$5=\"Course 2\",Général!I$78,IF($H$5=\"Course 3\",Général!#REF!,Général!I$80)))","v":0},{"$f":"IF($I$5=\"Course 1\",Général!I$84,IF($I$5=\"Course 2\",Général!I$86,IF($I$5=\"Course 3\",Général!#REF!,Général!I$88)))","v":0},{"$f":"IF($J$5=\"Course 1\",Général!I$92,IF($J$5=\"Course 2\",Général!I$94,IF($J$5=\"Course 3\",Général!#REF!,Général!I$96)))","v":0},{"$f":"IF($K$5=\"Course 1\",Général!I$100,IF($K$5=\"Course 2\",Général!I$102,IF($K$5=\"Course 3\",Général!#REF!,Général!I$104)))","v":0},{"$f":"IF($L$5=\"Course 1\",Général!I$108,IF($L$5=\"Course 2\",Général!I$110,IF($L$5=\"Course 3\",Général!#REF!,Général!I$112)))","v":0},{"$f":"IF($M$5=\"Course 1\",Général!I$116,IF($M$5=\"Course 2\",Général!I$118,IF($M$5=\"Course 3\",Général!#REF!,Général!I$120)))","v":0},{"$f":"IF($N$5=\"Course 1\",Général!I$124,IF($N$5=\"Course 2\",Général!I$126,IF($N$5=\"Course 3\",Général!#REF!,Général!I$128)))","v":0},{"$f":"IF($O$5=\"Course 1\",Général!I$132,IF($O$5=\"Course 2\",Général!I$134,IF($O$5=\"Course 3\",Général!#REF!,Général!I$136)))","v":0},{"$f":"IF($P$5=\"Course 1\",Général!I$140,IF($P$5=\"Course 2\",Général!I$142,IF($P$5=\"Course 3\",Général!#REF!,Général!I$144)))","v":0},{"$f":"IF($Q$5=\"Course 1\",Général!I$148,IF($Q$5=\"Course 2\",Général!I$150,IF($Q$5=\"Course 3\",Général!#REF!,Général!I$152)))","v":0},{"$f":"IF($R$5=\"Course 1\",Général!I$156,IF($R$5=\"Course 2\",Général!I$158,IF($R$5=\"Course 3\",Général!I$160,Général!I$162)))","v":0},null,null,null,{"$f":"Général!B17","v":"Equipage 15"},0]
["9ème Equipage",null,{"$f":"IF($C$5=\"Course 1\",Général!J36,IF($C$5=\"Course 2\",Général!J38,IF($C$5=\"Course 3\",Général!#REF!,Général!J40)))","v":0},{"$f":"IF($D$5=\"Course 1\",Général!J44,IF($D$5=\"Course 2\",Général!J46,IF($D$5=\"Course 3\",Général!#REF!,Général!J48)))","v":0},{"$f":"IF($E$5=\"Course 1\",Général!J52,IF($E$5=\"Course 2\",Général!J54,IF($E$5=\"Course 3\",Général!#REF!,Général!J56)))","v":0},{"$f":"IF($F$5=\"Course 1\",Général!J$60,IF($F$5=\"Course 2\",Général!J$62,IF($F$5=\"Course 3\",Général!#REF!,Général!J$64)))","v":0},{"$f":"IF($G$5=\"Course 1\",Général!J$68,IF($G$5=\"Course 2\",Général!J$70,IF($G$5=\"Course 3\",Général!#REF!,Général!J$72)))","v":0},{"$f":"IF($H$5=\"Course 1\",Général!J$76,IF($H$5=\"Course 2\",Général!J$78,IF($H$5=\"Course 3\",Général!#REF!,Général!J$80)))","v":0},{"$f":"IF($I$5=\"Course 1\",Général!J$84,IF($I$5=\"Course 2\",Général!J$86,IF($I$5=\"Course 3\",Général!#REF!,Général!J$88)))","v":0},{"$f":"IF($J$5=\"Course 1\",Général!J$92,IF($J$5=\"Course 2\",Général!J$94,IF($J$5=\"Course 3\",Général!#REF!,Général!J$96)))","v":0},{"$f":"IF($K$5=\"Course 1\",Général!J$100,IF($K$5=\"Course 2\",Général!J$102,IF($K$5=\"Course 3\",Général!#REF!,Général!J$104)))","v":0},{"$f":"IF($L$5=\"Course 1\",Général!J$108,IF($L$5=\"Course 2\",Général!J$110,IF($L$5=\"Course 3\",Général!#REF!,Général!J$112)))","v":0},{"$f":"IF($M$5=\"Course 1\",Général!J$116,IF($M$5=\"Course 2\",Général!J$118,IF($M$5=\"Course 3\",Général!#REF!,Général!J$120)))","v":0},{"$f":"IF($N$5=\"Course 1\",Général!J$124,IF($N$5=\"Course 2\",Général!J$126,IF($N$5=\"Course 3\",Général!#REF!,Général!J$128)))","v":0},{"$f":"IF($O$5=\"Course 1\",Général!J$132,IF($O$5=\"Course 2\",Général!J$134,IF($O$5=\"Course 3\",Général!#REF!,Général!J$136)))","v":0},{"$f":"IF($P$5=\"Course 1\",Général!J$140,IF($P$5=\"Course 2\",Général!J$142,IF($P$5=\"Course 3\",Général!#REF!,Général!J$144)))","v":0},{"$f":"IF($Q$5=\"Course 1\",Général!J$148,IF($Q$5=\"Course 2\",Général!J$150,IF($Q$5=\"Course 3\",Général!#REF!,Général!J$152)))","v":0},{"$f":"IF($R$5=\"Course 1\",Général!J$156,IF($R$5=\"Course 2\",Général!J$158,IF($R$5=\"Course 3\",Général!J$160,Général!J$162)))","v":0},null,null,null,{"$f":"Général!B18","v":"Equipage 16"},0]
["10ème Equipage",null,{"$f":"IF($C$5=\"Course 1\",Général!K36,IF($C$5=\"Course 2\",Général!K38,IF($C$5=\"Course 3\",Général!#REF!,Général!K40)))","v":0},{"$f":"IF($D$5=\"Course 1\",Général!K44,IF($D$5=\"Course 2\",Général!K46,IF($D$5=\"Course 3\",Général!#REF!,Général!K48)))","v":0},{"$f":"IF($E$5=\"Course 1\",Général!K52,IF($E$5=\"Course 2\",Général!K54,IF($E$5=\"Course 3\",Général!#REF!,Général!K56)))","v":0},{"$f":"IF($F$5=\"Course 1\",Général!K$60,IF($F$5=\"Course 2\",Général!K$62,IF($F$5=\"Course 3\",Général!#REF!,Général!K$64)))","v":0},{"$f":"IF($G$5=\"Course 1\",Général!K$68,IF($G$5=\"Course 2\",Général!K$70,IF($G$5=\"Course 3\",Général!#REF!,Général!K$72)))","v":0},{"$f":"IF($H$5=\"Course 1\",Général!K$76,IF($H$5=\"Course 2\",Général!K$78,IF($H$5=\"Course 3\",Général!#REF!,Général!K$80)))","v":0},{"$f":"IF($I$5=\"Course 1\",Général!K$84,IF($I$5=\"Course 2\",Général!K$86,IF($I$5=\"Course 3\",Général!#REF!,Général!K$88)))","v":0},{"$f":"IF($J$5=\"Course 1\",Général!K$92,IF($J$5=\"Course 2\",Général!K$94,IF($J$5=\"Course 3\",Général!#REF!,Général!K$96)))","v":0},{"$f":"IF($K$5=\"Course 1\",Général!K$100,IF($K$5=\"Course 2\",Général!K$102,IF($K$5=\"Course 3\",Général!#REF!,Général!K$104)))","v":0},{"$f":"IF($L$5=\"Course 1\",Général!K$108,IF($L$5=\"Course 2\",Général!K$110,IF($L$5=\"Course 3\",Général!#REF!,Général!K$112)))","v":0},{"$f":"IF($M$5=\"Course 1\",Général!K$116,IF($M$5=\"Course 2\",Général!K$118,IF($M$5=\"Course 3\",Général!#REF!,Général!K$120)))","v":0},{"$f":"IF($N$5=\"Course 1\",Général!K$124,IF($N$5=\"Course 2\",Général!K$126,IF($N$5=\"Course 3\",Général!#REF!,Général!K$128)))","v":0},{"$f":"IF($O$5=\"Course 1\",Général!K$132,IF($O$5=\"Course 2\",Général!K$134,IF($O$5=\"Course 3\",Général!#REF!,Général!K$136)))","v":0},{"$f":"IF($P$5=\"Course 1\",Général!K$140,IF($P$5=\"Course 2\",Général!K$142,IF($P$5=\"Course 3\",Général!#REF!,Général!K$144)))","v":0},{"$f":"IF($Q$5=\"Course 1\",Général!K$148,IF($Q$5=\"Course 2\",Général!K$150,IF($Q$5=\"Course 3\",Général!#REF!,Général!K$152)))","v":0},{"$f":"IF($R$5=\"Course 1\",Général!K$156,IF($R$5=\"Course 2\",Général!K$158,IF($R$5=\"Course 3\",Général!K$160,Général!K$162)))","v":0},null,null,null,{"$f":"Général!B19","v":"Equipage 17"},0]
[null,null,null,null,null,null,null,null,null,null,null,null,null,null,null,null,null,null,null,null,null,{"$f":"Général!B20","v":"Equipage 18"},0]
[null,null,null,null,null,null,null,null,null,null,null,null,null,null,null,null,null,null,null,null,null,{"$f":"Général!B21","v":"Equipage 19"},{"$f":"COUNTIF($C$8:$R$17,V19)","v":0}]
[null,null,null,null,null,null,null,null,null,null,null,null,null,null,null,null,null,null,null,null,null,{"$f":"Général!B22","v":"Equipage 20"},0]
[null,null,null,null,null,null,null,null,null,null,null,null,null,null,null,null,null,null,null,null,null,{"$f":"Général!B23","v":"Equipage 21"},0]
[null,null,null,null,null,null,null,null,null,null,null,null,null,null,null,null,null,null,null,null,null,{"$f":"Général!B24","v":"Equipage 22"},0]
[null,null,null,null,null,null,null,null,null,null,null,null,null,null,null,null,null,null,null,null,null,{"$f":"Général!B25","v":"Equipage 23"},0]
[null,null,null,null,null,null,null,null,null,null,null,null,null,null,null,null,null,null,null,null,null,{"$f":"Général!B26","v":"Equipage 24"},0]
[null,null,null,null,null,null,null,null,null,null,null,null,null,null,null,null,null,null,null,null,null,{"$f":"Général!B27","v":"Equipage 25"},0]
[null,null,null,null,null,null,null,null,null,null,null,null,null,null,null,null,null,null,null,null,null,{"$f":"Général!B28","v":"Equipage 26"},0]
[null,null,null,null,null,null,null,null,null,null,null,null,null,null,null,null,null,null,null,null,null,{"$f":"Général!B29","v":"Equipage 27"},0]
[null,null,null,null,null,null,null,null,null,null,null,null,null,null,null,null,null,null,null,null,null,{"$f":"Général!B30","v":"Equipage 28"},0]
[null,null,null,null,null,null,null,null,null,null,null,null,null,null,null,null,null,null,null,null,null,{"$f":"Général!B31","v":"Equipage 29"},0]
[null,null,null,null,null,null,null,null,null,null,null,null,null,null,null,null,null,null,null,null,null,{"$f":"Général!B32","v":"Equipage 30"},0]

{"sheet":"Eq.7","index":11,"n_rows":30,"n_cols":23,"rows_kept":30,"cut":false,"hidden":true,"merged":[[7,0,7,1],[0,0,1,5],[0,6,1,10],[3,0,3,1],[4,0,4,1],[5,0,5,1],[14,0,14,1],[15,0,15,1],[16,0,16,1],[8,0,8,1],[9,0,9,1],[10,0,10,1],[11,0,11,1],[12,0,12,1],[13,0,13,1]]}
["Equipage ",null,null,null,null,null,{"$f":"Général!B9","v":"Equipage 7"},null,null,null,null,null,null,null,null,null,null,null,null,null,null,{"$f":"Général!B3","v":"Equipage 1"},{"$f":"COUNTIF(C$8:R$17,V1)","v":7}]
[null,null,null,null,null,null,null,null,null,null,null,null,null,null,null,null,null,null,null,null,null,{"$f":"Général!B4","v":"Equipage 2"},{"$f":"COUNTIF($C$8:$R$17,V2)","v":9}]
[null,null,null,null,null,null,null,null,null,null,null,null,null,null,null,null,null,null,null,null,null,{"$f":"Général!B5","v":"Equipage 3"},{"$f":"COUNTIF($C$8:$R$17,V3)","v":8}]
[null,null,"FLIGHT 1","FLIGHT 2","FLIGHT 3","FLIGHT 4","FLIGHT 5","FLIGHT 6","FLIGHT 7","FLIGHT 8","FLIGHT 9","FLIGHT 10","FLIGHT 11","FLIGHT 12","FLIGHT 13","FLIGHT 14","FLIGHT 15","FLIGHT 16","FLIGHT 17","FLIGHT 18",null,{"$f":"Général!B6","v":"Equipage 4"},{"$f":"COUNTIF($C$8:$R$17,V4)","v":6}]
["N° de course",null,{"$f":"IF(COUNTIF(Général!B36:K36,$G$1)=1,\"Course 1\",IF(COUNTIF(Général!B38:K38,$G$1)=1,\"Course 2\",IF(COUNTIF(Général!#REF!,$G$1)=1,\"Course 3\",\"Course 4\")))","v":"Course 1"},{"$f":"IF(COUNTIF(Général!B44:K44,$G$1)=1,\"Course 1\",IF(COUNTIF(Général!B46:K46,$G$1)=1,\"Course 2\",IF(COUNTIF(Général!#REF!,$G$1)=1,\"Course 3\",\"Course 4\")))","v":"Course 1"},{"$f":"IF(COUNTIF(Général!B52:K52,$G$1)=1,\"Course 1\",IF(COUNTIF(Général!B54:K54,$G$1)=1,\"Course 2\",IF(COUNTIF(Général!#REF!,$G$1)=1,\"Course 3\",\"Course 4\")))","v":"Course 1"},{"$f":"IF(COUNTIF(Général!B60:K60,$G$1)=1,\"Course 1\",IF(COUNTIF(Général!B62:K62,$G$1)=1,\"Course 2\",IF(COUNTIF(Général!#REF!,$G$1)=1,\"Course 3\",\"Course 4\")))","v":"Course 1"},{"$f":"IF(COUNTIF(Général!B68:K68,$G$1)=1,\"Course 1\",IF(COUNTIF(Général!B70:K70,$G$1)=1,\"Course 2\",IF(COUNTIF(Général!#REF!,$G$1)=1,\"Course 3\",\"Course 4\")))","v":"Course 1"},{"$f":"IF(COUNTIF(Général!B76:K76,$G$1)=1,\"Course 1\",IF(COUNTIF(Général!B78:K78,$G$1)=1,\"Course 2\",IF(COUNTIF(Général!#REF!,$G$1)=1,\"Course 3\",\"Course 4\")))","v":"Course 1"},{"$f":"IF(COUNTIF(Général!B84:K84,$G$1)=1,\"Course 1\",IF(COUNTIF(Général!B86:K86,$G$1)=1,\"Course 2\",IF(COUNTIF(Général!#REF!,$G$1)=1,\"Course 3\",\"Course 4\")))","v":"Course 1"},{"$f":"IF(COUNTIF(Général!B92:K92,$G$1)=1,\"Course 1\",IF(COUNTIF(Général!B94:K94,$G$1)=1,\"Course 2\",IF(COUNTIF(Général!#REF!,$G$1)=1,\"Course 3\",\"Course 4\")))","v":"Course 1"},{"$f":"IF(COUNTIF(Général!B100:K100,$G$1)=1,\"Course 1\",IF(COUNTIF(Général!B102:K102,$G$1)=1,\"Course 2\",IF(COUNTIF(Général!#REF!,$G$1)=1,\"Course 3\",\"Course 4\")))","v":"Course 1"},{"$f":"IF(COUNTIF(Général!B108:K108,$G$1)=1,\"Course 1\",IF(COUNTIF(Général!B110:K110,$G$1)=1,\"Course 2\",IF(COUNTIF(Général!#REF!,$G$1)=1,\"Course 3\",\"Course 4\")))","v":"Course 2"},{"$f":"IF(COUNTIF(Général!B116:K116,$G$1)=1,\"Course 1\",IF(COUNTIF(Général!B118:K118,$G$1)=1,\"Course 2\",IF(COUNTIF(Général!#REF!,$G$1)=1,\"Course 3\",\"Course 4\")))","v":"Course 2"},{"$f":"IF(COUNTIF(Général!B124:K124,$G$1)=1,\"Course 1\",IF(COUNTIF(Général!B126:K126,$G$1)=1,\"Course 2\",IF(COUNTIF(Général!#REF!,$G$1)=1,\"Course 3\",\"Course 4\")))","v":"Course 1"},{"$f":"IF(COUNTIF(Général!B132:K132,$G$1)=1,\"Course 1\",IF(COUNTIF(Général!B134:K134,$G$1)=1,\"Course 2\",IF(COUNTIF(Général!#REF!,$G$1)=1,\"Course 3\",\"Course 4\")))","v":"Course 1"},{"$f":"IF(COUNTIF(Général!B140:K140,$G$1)=1,\"Course 1\",IF(COUNTIF(Général!B142:K142,$G$1)=1,\"Course 2\",IF(COUNTIF(Général!#REF!,$G$1)=1,\"Course 3\",\"Course 4\")))","v":"Course 1"},{"$f":"IF(COUNTIF(Général!B148:K148,$G$1)=1,\"Course 1\",IF(COUNTIF(Général!B150:K150,$G$1)=1,\"Course 2\",IF(COUNTIF(Général!#REF!,$G$1)=1,\"Course 3\",\"Course 4\")))","v":"Course 2"},{"$f":"IF(COUNTIF(Général!B156:K156,$G$1)=1,\"Course 1\",IF(COUNTIF(Général!B158:K158,$G$1)=1,\"Course 2\",IF(COUNTIF(Général!B160:K160,$G$1)=1,\"Course 3\",\"Course 4\")))","v":"Course 1"},{"$f":"IF(COUNTIF(Général!C156:L156,$G$1)=1,\"Course 1\",IF(COUNTIF(Général!C158:L158,$G$1)=1,\"Course 2\",IF(COUNTIF(Général!C160:L160,$G$1)=1,\"Course 3\",\"Course 4\")))","v":"Course 1"},{"$f":"IF(COUNTIF(Général!D156:M156,$G$1)=1,\"Course 1\",IF(COUNTIF(Général!D158:M158,$G$1)=1,\"Course 2\",IF(COUNTIF(Général!D160:M160,$G$1)=1,\"Course 3\",\"Course 4\")))","v":"Course 1"},null,{"$f":"Général!B7","v":"Equipage 5"},10]
["Bateau",null,{"$f":"IF(COUNTIF(Général!B36:B40,$G$1)=1,\"Boat 1\",IF(COUNTIF(Général!C36:C40,$G$1)=1,\"Boat 2\",IF(COUNTIF(Général!D36:D40,$G$1)=1,\"Boat 3\",IF(COUNTIF(Général!E36:E40,$G$1)=1,\"Boat 4\",IF(COUNTIF(Général!F36:F40,$G$1)=1,\"Boat 5\",IF(COUNTIF(Général!G36:G40,$G$1)=1,\"Boat 6\",IF(COUNTIF(Général!H36:H40,$G$1)=1,\"Boat 7\",IF(COUNTIF(Général!I36:I40,$G$1)=1,\"Boat 8\",IF(COUNTIF(Général!J36:J40,$G$1)=1,\"Boat 9\",\"Boat10\")))))))))","v":"Boat 2"},{"$f":"IF(COUNTIF(Général!B44:B48,$G$1)=1,\"Boat 1\",IF(COUNTIF(Général!C44:C48,$G$1)=1,\"Boat 2\",IF(COUNTIF(Général!D44:D48,$G$1)=1,\"Boat 3\",IF(COUNTIF(Général!E44:E48,$G$1)=1,\"Boat 4\",IF(COUNTIF(Général!F44:F48,$G$1)=1,\"Boat 5\",IF(COUNTIF(Général!G44:G48,$G$1)=1,\"Boat 6\",IF(COUNTIF(Général!H44:H48,$G$1)=1,\"Boat 7\",IF(COUNTIF(Général!I44:I48,$G$1)=1,\"Boat 8\",IF(COUNTIF(Général!J44:J48,$G$1)=1,\"Boat 9\",\"Boat 10\")))))))))","v":"Boat 1"},{"$f":"IF(COUNTIF(Général!B52:B56,$G$1)=1,\"Boat 1\",IF(COUNTIF(Général!C52:C56,$G$1)=1,\"Boat 2\",IF(COUNTIF(Général!D52:D56,$G$1)=1,\"Boat 3\", IF(COUNTIF(Général!E52:E56,$G$1)=1,\"Boat 4\", IF(COUNTIF(Général!F52:F56,$G$1)=1,\"Boat 5\", IF(COUNTIF(Général!G52:G56,$G$1)=1,\"Boat 6\", IF(COUNTIF(Général!H52:H56,$G$1)=1,\"Boat 7\",IF(COUNTIF(Général!I52:I56,$G$1)=1,\"Boat 8\",IF(COUNTIF(Général!J52:J56,$G$1)=1,\"Boat 9\",\"Boat 10\")))))))))","v":"Boat 5"},{"$f":"IF(COUNTIF(Général!B60:B64,$G$1)=1,\"Boat 1\",IF(COUNTIF(Général!C60:C64,$G$1)=1,\"Boat 2\",IF(COUNTIF(Général!D60:D64,$G$1)=1,\"Boat 3\", IF(COUNTIF(Général!E60:E64,$G$1)=1,\"Boat 4\", IF(COUNTIF(Général!F60:F64,$G$1)=1,\"Boat 5\", IF(COUNTIF(Général!G60:G64,$G$1)=1,\"Boat 6\", IF(COUNTIF(Général!H60:H64,$G$1)=1,\"Boat 7\",IF(COUNTIF(Général!I60:I64,$G$1)=1,\"Boat 8\",IF(COUNTIF(Général!I60:J64,$G$1)=1,\"Boat 9\",\"Boat 10\")))))))))","v":"Boat 4"},{"$f":"IF(COUNTIF(Général!B68:B72,$G$1)=1,\"Boat 1\",IF(COUNTIF(Général!C68:C72,$G$1)=1,\"Boat 2\",IF(COUNTIF(Général!D68:D72,$G$1)=1,\"Boat 3\", IF(COUNTIF(Général!E68:E72,$G$1)=1,\"Boat 4\", IF(COUNTIF(Général!F68:F72,$G$1)=1,\"Boat 5\", IF(COUNTIF(Général!G68:G72,$G$1)=1,\"Boat 6\", IF(COUNTIF(Général!H68:H72,$G$1)=1,\"Boat 7\",IF(COUNTIF(Général!I68:I72,$G$1)=1,\"Boat 8\",IF(COUNTIF(Général!J68:J72,$G$1)=1,\"Boat 9\",\"Boat 10\")))))))))","v":"Boat 3"},{"$f":"IF(COUNTIF(Général!B76:B80,$G$1)=1,\"Boat 1\",IF(COUNTIF(Général!C76:C80,$G$1)=1,\"Boat 2\",IF(COUNTIF(Général!D76:D80,$G$1)=1,\"Boat 3\", IF(COUNTIF(Général!E76:E80,$G$1)=1,\"Boat 4\", IF(COUNTIF(Général!F76:F80,$G$1)=1,\"Boat 5\", IF(COUNTIF(Général!G76:G80,$G$1)=1,\"Boat 6\", IF(COUNTIF(Général!H76:H80,$G$1)=1,\"Boat 7\",IF(COUNTIF(Général!I76:I80,$G$1)=1,\"Boat 8\",IF(COUNTIF(Général!J76:J80,$G$1)=1,\"Boat 9\",\"Boat 10\")))))))))","v":"Boat 6"},{"$f":"IF(COUNTIF(Général!B84:B88,$G$1)=1,\"Boat 1\",IF(COUNTIF(Général!C84:C88,$G$1)=1,\"Boat 2\",IF(COUNTIF(Général!D84:D88,$G$1)=1,\"Boat 3\", IF(COUNTIF(Général!E84:E88,$G$1)=1,\"Boat 4\", IF(COUNTIF(Général!F84:F88,$G$1)=1,\"Boat 5\", IF(COUNTIF(Général!G84:G88,$G$1)=1,\"Boat 6\", IF(COUNTIF(Général!H84:H88,$G$1)=1,\"Boat 7\",IF(COUNTIF(Général!I84:I88,$G$1)=1,\"Boat 8\",IF(COUNTIF(Général!J84:J88,$G$1)=1,\"Boat 9\",\"Boat 10\")))))))))","v":"Boat 4"},{"$f":"IF(COUNTIF(Général!B92:B96,$G$1)=1,\"Boat 1\",IF(COUNTIF(Général!C92:C96,$G$1)=1,\"Boat 2\",IF(COUNTIF(Général!D92:D96,$G$1)=1,\"Boat 3\", IF(COUNTIF(Général!E92:E96,$G$1)=1,\"Boat 4\", IF(COUNTIF(Général!F92:F96,$G$1)=1,\"Boat 5\", IF(COUNTIF(Général!G92:G96,$G$1)=1,\"Boat 6\", IF(COUNTIF(Général!H92:H96,$G$1)=1,\"Boat 7\",IF(COUNTIF(Général!I92:I96,$G$1)=1,\"Boat 8\",IF(COUNTIF(Général!J92:J96,$G$1)=1,\"Boat 9\",\"Boat 10\")))))))))","v":"Boat 3"},{"$f":"IF(COUNTIF(Général!B100:B104,$G$1)=1,\"Boat 1\",IF(COUNTIF(Général!C100:C104,$G$1)=1,\"Boat 2\",IF(COUNTIF(Général!D100:D104,$G$1)=1,\"Boat 3\", IF(COUNTIF(Général!E100:E104,$G$1)=1,\"Boat 4\", IF(COUNTIF(Général!F100:F104,$G$1)=1,\"Boat 5\", IF(COUNTIF(Général!G100:G104,$G$1)=1,\"Boat 6\", IF(COUNTIF(Général!H100:H104,$G$1)=1,\"Boat 7\",IF(COUNTIF(Général!I100:I104,$G$1)=1,\"Boat 8\",IF(COUNTIF(Général!J100:J104,$G$1)=1,\"Boat 9\",\"Boat 10\")))))))))","v":"Boat 2"},{"$f":"IF(COUNTIF(Général!B108:B112,$G$1)=1,\"Boat 1\",IF(COUNTIF(Général!C108:C112,$G$1)=1,\"Boat 2\",IF(COUNTIF(Général!D108:D112,$G$1)=1,\"Boat 3\", IF(COUNTIF(Général!E108:E112,$G$1)=1,\"Boat 4\", IF(COUNTIF(Général!F108:F112,$G$1)=1,\"Boat 5\", IF(COUNTIF(Général!G108:G112,$G$1)=1,\"Boat 6\", IF(COUNTIF(Général!H108:H112,$G$1)=1,\"Boat 7\",IF(COUNTIF(Général!I108:I112,$G$1)=1,\"Boat 8\",IF(COUNTIF(Général!J108:J112,$G$1)=1,\"Boat 9\",\"Boat 10\")))))))))","v":"Boat 6"},{"$f":"IF(COUNTIF(Général!B116:B120,$G$1)=1,\"Boat 1\",IF(COUNTIF(Général!C116:C120,$G$1)=1,\"Boat 2\",IF(COUNTIF(Général!C116:D120,$G$1)=1,\"Boat 3\", IF(COUNTIF(Général!C116:E120,$G$1)=1,\"Boat 4\", IF(COUNTIF(Général!F116:F120,$G$1)=1,\"Boat 5\", IF(COUNTIF(Général!G116:G120,$G$1)=1,\"Boat 6\", IF(COUNTIF(Général!H116:H120,$G$1)=1,\"Boat 7\",IF(COUNTIF(Général!I116:I120,$G$1)=1,\"Boat 8\",IF(COUNTIF(Général!J116:J120,$G$1)=1,\"Boat 9\",\"Boat 10\")))))))))","v":"Boat 1"},{"$f":"IF(COUNTIF(Général!B124:B128,$G$1)=1,\"Boat 1\",IF(COUNTIF(Général!C124:C128,$G$1)=1,\"Boat 2\",IF(COUNTIF(Général!D124:D128,$G$1)=1,\"Boat 3\", IF(COUNTIF(Général!E124:E128,$G$1)=1,\"Boat 4\", IF(COUNTIF(Général!F124:F128,$G$1)=1,\"Boat 5\", IF(COUNTIF(Général!G124:G128,$G$1)=1,\"Boat 6\", IF(COUNTIF(Général!H124:H128,$G$1)=1,\"Boat 7\",IF(COUNTIF(Général!I124:I128,$G$1)=1,\"Boat 8\",IF(COUNTIF(Général!J124:J128,$G$1)=1,\"Boat 9\",\"Boat 10\")))))))))","v":"Boat 1"},{"$f":"IF(COUNTIF(Général!B132:B136,$G$1)=1,\"Boat 1\",IF(COUNTIF(Général!C132:C136,$G$1)=1,\"Boat 2\",IF(COUNTIF(Général!D134:D136,$G$1)=1,\"Boat 3\", IF(COUNTIF(Général!E132:E136,$G$1)=1,\"Boat 4\", IF(COUNTIF(Général!F132:F136,$G$1)=1,\"Boat 5\", IF(COUNTIF(Général!G132:G136,$G$1)=1,\"Boat 6\", IF(COUNTIF(Général!H132:H136,$G$1)=1,\"Boat 7\",IF(COUNTIF(Général!I132:I136,$G$1)=1,\"Boat 8\",IF(COUNTIF(Général!J132:J136,$G$1)=1,\"Boat 9\",\"Boat 10\")))))))))","v":"Boat 1"},{"$f":"IF(COUNTIF(Général!B140:B144,$G$1)=1,\"Boat 1\",IF(COUNTIF(Général!C140:C144,$G$1)=1,\"Boat 2\",IF(COUNTIF(Général!D140:D144,$G$1)=1,\"Boat 3\", IF(COUNTIF(Général!E140:E144,$G$1)=1,\"Boat 4\", IF(COUNTIF(Général!F140:F144,$G$1)=1,\"Boat 5\", IF(COUNTIF(Général!G140:G144,$G$1)=1,\"Boat 6\", IF(COUNTIF(Général!H140:H144,$G$1)=1,\"Boat 7\",IF(COUNTIF(Général!I140:I144,$G$1)=1,\"Boat 8\",IF(COUNTIF(Général!J140:J144,$G$1)=1,\"Boat 9\",\"Boat 10\")))))))))","v":"Boat 4"},{"$f":"IF(COUNTIF(Général!B148:B152,$G$1)=1,\"Boat 1\",IF(COUNTIF(Général!C148:C152,$G$1)=1,\"Boat 2\",IF(COUNTIF(Général!D148:D152,$G$1)=1,\"Boat 3\", IF(COUNTIF(Général!E148:E152,$G$1)=1,\"Boat 4\", IF(COUNTIF(Général!F148:F152,$G$1)=1,\"Boat 5\", IF(COUNTIF(Général!G148:G152,$G$1)=1,\"Boat 6\", IF(COUNTIF(Général!H148:H152,$G$1)=1,\"Boat 7\",IF(COUNTIF(Général!I148:I152,$G$1)=1,\"Boat 8\",IF(COUNTIF(Général!J148:J152,$G$1)=1,\"Boat 9\",\"Boat 10\")))))))))","v":"Boat 5"},{"$f":"IF(COUNTIF(Général!B156:B159,$G$1)=1,\"Boat 1\",IF(COUNTIF(Général!C156:C159,$G$1)=1,\"Boat 2\",IF(COUNTIF(Général!D156:D159,$G$1)=1,\"Boat 3\", IF(COUNTIF(Général!E156:E159,$G$1)=1,\"Boat 4\", IF(COUNTIF(Général!F156:F159,$G$1)=1,\"Boat 5\", IF(COUNTIF(Général!G156:G159,$G$1)=1,\"Boat 6\", IF(COUNTIF(Général!H156:H159,$G$1)=1,\"Boat 7\",IF(COUNTIF(Général!I156:I159,$G$1)=1,\"Boat 8\",IF(COUNTIF(Général!J156:J159,$G$1)=1,\"Boat 9\",\"Boat 10\")))))))))","v":"Boat 5"},{"$f":"IF(COUNTIF(Général!B162:B165,$G$1)=1,\"Boat 1\",IF(COUNTIF(Général!C162:C165,$G$1)=1,\"Boat 2\",IF(COUNTIF(Général!D162:D165,$G$1)=1,\"Boat 3\", IF(COUNTIF(Général!E162:E165,$G$1)=1,\"Boat 4\", IF(COUNTIF(Général!F162:F165,$G$1)=1,\"Boat 5\", IF(COUNTIF(Général!G162:G165,$G$1)=1,\"Boat 6\", IF(COUNTIF(Général!H162:H165,$G$1)=1,\"Boat 7\",IF(COUNTIF(Général!I162:I165,$G$1)=1,\"Boat 8\",IF(COUNTIF(Général!J162:J165,$G$1)=1,\"Boat 9\",\"Boat 10\")))))))))","v":"Boat 5"},{"$f":"IF(COUNTIF(Général!B168:B171,$G$1)=1,\"Boat 1\",IF(COUNTIF(Général!C168:C171,$G$1)=1,\"Boat 2\",IF(COUNTIF(Général!D168:D171,$G$1)=1,\"Boat 3\", IF(COUNTIF(Général!E168:E171,$G$1)=1,\"Boat 4\", IF(COUNTIF(Général!F168:F171,$G$1)=1,\"Boat 5\", IF(COUNTIF(Général!G168:G171,$G$1)=1,\"Boat 6\", IF(COUNTIF(Général!H168:H171,$G$1)=1,\"Boat 7\",IF(COUNTIF(Général!I168:I171,$G$1)=1,\"Boat 8\",IF(COUNTIF(Général!J168:J171,$G$1)=1,\"Boat 9\",\"Boat 10\")))))))))","v":"Boat 5"},null,{"$f":"Général!B8","v":"Equipage 6"},9]
[null,null,null,null,null,null,null,null,null,null,null,null,null,null,null,null,null,null,null,null,null,{"$f":"Général!B9","v":"Equipage 7"},16]
["1er Equipage",null,{"$f":"IF($C$5=\"Course 1\",Général!B36,IF($C$5=\"Course 2\",Général!B38,IF($C$5=\"Course 3\",Général!#REF!,Général!B40)))","v":"Equipage 6"},{"$f":"IF($D$5=\"Course 1\",Général!B44,IF($D$5=\"Course 2\",Général!B46,IF($D$5=\"Course 3\",Général!#REF!,Général!B48)))","v":"Equipage 7"},{"$f":"IF($E$5=\"Course 1\",Général!B52,IF($E$5=\"Course 2\",Général!B54,IF($E$5=\"Course 3\",Général!#REF!,Général!B56)))","v":"Equipage 5"},{"$f":"IF($F$5=\"Course 1\",Général!B$60,IF($F$5=\"Course 2\",Général!B$62,IF($F$5=\"Course 3\",Général!#REF!,Général!B$64)))","v":"Equipage 8"},{"$f":"IF($G$5=\"Course 1\",Général!B$68,IF($G$5=\"Course 2\",Général!B$70,IF($G$5=\"Course 3\",Général!#REF!,Général!B$72)))","v":"Equipage 8"},{"$f":"IF($H$5=\"Course 1\",Général!B$76,IF($H$5=\"Course 2\",Général!B$78,IF($H$5=\"Course 3\",Général!#REF!,Général!B$80)))","v":"Equipage 5"},{"$f":"IF($I$5=\"Course 1\",Général!B$84,IF($I$5=\"Course 2\",Général!B$86,IF($I$5=\"Course 3\",Général!#REF!,Général!B$88)))","v":"Equipage 9"},{"$f":"IF($J$5=\"Course 1\",Général!B$92,IF($J$5=\"Course 2\",Général!B$94,IF($J$5=\"Course 3\",Général!#REF!,Général!B$96)))","v":"Equipage 3"},{"$f":"IF($K$5=\"Course 1\",Général!B$100,IF($K$5=\"Course 2\",Général!B$102,IF($K$5=\"Course 3\",Général!#REF!,Général!B$104)))","v":"Equipage 11"},{"$f":"IF($L$5=\"Course 1\",Général!B$108,IF($L$5=\"Course 2\",Général!B$110,IF($L$5=\"Course 3\",Général!#REF!,Général!B$112)))","v":"Equipage 1"},{"$f":"IF($M$5=\"Course 1\",Général!B$116,IF($M$5=\"Course 2\",Général!B$118,IF($M$5=\"Course 3\",Général!#REF!,Général!B$120)))","v":"Equipage 7"},{"$f":"IF($N$5=\"Course 1\",Général!B$124,IF($N$5=\"Course 2\",Général!B$126,IF($N$5=\"Course 3\",Général!#REF!,Général!B$128)))","v":"Equipage 7"},{"$f":"IF($O$5=\"Course 1\",Général!B$132,IF($O$5=\"Course 2\",Général!B$134,IF($O$5=\"Course 3\",Général!#REF!,Général!B$136)))","v":"Equipage 7"},{"$f":"IF($P$5=\"Course 1\",Général!B$140,IF($P$5=\"Course 2\",Général!B$142,IF($P$5=\"Course 3\",Général!#REF!,Général!B$144)))","v":"Equipage 6"},{"$f":"IF($Q$5=\"Course 1\",Général!B$148,IF($Q$5=\"Course 2\",Général!B$150,IF($Q$5=\"Course 3\",Général!#REF!,Général!B$152)))","v":"Equipage 3"},{"$f":"IF($R$5=\"Course 1\",Général!B$156,IF($R$5=\"Course 2\",Général!B$158,IF($R$5=\"Course 3\",Général!B$160,Général!B$162)))","v":"Equipage 8"},null,null,null,{"$f":"Général!B10","v":"Equipage 8"},9]
["2nd Equipage",null,{"$f":"IF($C$5=\"Course 1\",Général!C36,IF($C$5=\"Course 2\",Général!C38,IF($C$5=\"Course 3\",Général!#REF!,Général!C40)))","v":"Equipage 7"},{"$f":"IF($D$5=\"Course 1\",Général!C44,IF($D$5=\"Course 2\",Général!C46,IF($D$5=\"Course 3\",Général!#REF!,Général!C48)))","v":"Equipage 5"},{"$f":"IF($E$5=\"Course 1\",Général!C52,IF($E$5=\"Course 2\",Général!C54,IF($E$5=\"Course 3\",Général!#REF!,Général!C56)))","v":"Equipage 11"},{"$f":"IF($F$5=\"Course 1\",Général!C$60,IF($F$5=\"Course 2\",Général!C$62,IF($F$5=\"Course 3\",Général!#REF!,Général!C$64)))","v":"Equipage 3"},{"$f":"IF($G$5=\"Course 1\",Général!C$68,IF($G$5=\"Course 2\",Général!C$70,IF($G$5=\"Course 3\",Général!#REF!,Général!C$72)))","v":"Equipage 1"},{"$f":"IF($H$5=\"Course 1\",Général!C$76,IF($H$5=\"Course 2\",Général!C$78,IF($H$5=\"Course 3\",Général!#REF!,Général!C$80)))","v":"Equipage 6"},{"$f":"IF($I$5=\"Course 1\",Général!C$84,IF($I$5=\"Course 2\",Général!C$86,IF($I$5=\"Course 3\",Général!#REF!,Général!C$88)))","v":"Equipage 4"},{"$f":"IF($J$5=\"Course 1\",Général!C$92,IF($J$5=\"Course 2\",Général!C$94,IF($J$5=\"Course 3\",Général!#REF!,Général!C$96)))","v":"Equipage 10"},{"$f":"IF($K$5=\"Course 1\",Général!C$100,IF($K$5=\"Course 2\",Général!C$102,IF($K$5=\"Course 3\",Général!#REF!,Général!C$104)))","v":"Equipage 7"},{"$f":"IF($L$5=\"Course 1\",Général!C$108,IF($L$5=\"Course 2\",Général!C$110,IF($L$5=\"Course 3\",Général!#REF!,Général!C$112)))","v":"Equipage 5"},{"$f":"IF($M$5=\"Course 1\",Général!C$116,IF($M$5=\"Course 2\",Général!C$118,IF($M$5=\"Course 3\",Général!#REF!,Général!C$120)))","v":"Equipage 1"},{"$f":"IF($N$5=\"Course 1\",Général!C$124,IF($N$5=\"Course 2\",Général!C$126,IF($N$5=\"Course 3\",Général!#REF!,Général!C$128)))","v":"Equipage 9"},{"$f":"IF($O$5=\"Course 1\",Général!C$132,IF($O$5=\"Course 2\",Général!C$134,IF($O$5=\"Course 3\",Général!#REF!,Général!C$136)))","v":"Equipage 10"},{"$f":"IF($P$5=\"Course 1\",Général!C$140,IF($P$5=\"Course 2\",Général!C$142,IF($P$5=\"Course 3\",Général!#REF!,Général!C$144)))","v":"Equipage 2"},{"$f":"IF($Q$5=\"Course 1\",Général!C$148,IF($Q$5=\"Course 2\",Général!C$150,IF($Q$5=\"Course 3\",Général!#REF!,Général!C$152)))","v":"Equipage 9"},{"$f":"IF($R$5=\"Course 1\",Général!C$156,IF($R$5=\"Course 2\",Général!C$158,IF($R$5=\"Course 3\",Général!C$160,Général!C$162)))","v":"Equipage 12"},null,null,null,{"$f":"Général!B11","v":"Equipage 9"},7]
["3ème Equipage",null,{"$f":"IF($C$5=\"Course 1\",Général!D36,IF($C$5=\"Course 2\",Général!D38,IF($C$5=\"Course 3\",Général!#REF!,Général!D40)))","v":"Equipage 10"},{"$f":"IF($D$5=\"Course 1\",Général!D44,IF($D$5=\"Course 2\",Général!D46,IF($D$5=\"Course 3\",Général!#REF!,Général!D48)))","v":"Equipage 6"},{"$f":"IF($E$5=\"Course 1\",Général!D52,IF($E$5=\"Course 2\",Général!D54,IF($E$5=\"Course 3\",Général!#REF!,Général!D56)))","v":"Equipage 8"},{"$f":"IF($F$5=\"Course 1\",Général!D$60,IF($F$5=\"Course 2\",Général!D$62,IF($F$5=\"Course 3\",Général!#REF!,Général!D$64)))","v":"Equipage 6"},{"$f":"IF($G$5=\"Course 1\",Général!D$68,IF($G$5=\"Course 2\",Général!D$70,IF($G$5=\"Course 3\",Général!#REF!,Général!D$72)))","v":"Equipage 7"},{"$f":"IF($H$5=\"Course 1\",Général!D$76,IF($H$5=\"Course 2\",Général!D$78,IF($H$5=\"Course 3\",Général!#REF!,Général!D$80)))","v":"Equipage 9"},{"$f":"IF($I$5=\"Course 1\",Général!D$84,IF($I$5=\"Course 2\",Général!D$86,IF($I$5=\"Course 3\",Général!#REF!,Général!D$88)))","v":"Equipage 1"},{"$f":"IF($J$5=\"Course 1\",Général!D$92,IF($J$5=\"Course 2\",Général!D$94,IF($J$5=\"Course 3\",Général!#REF!,Général!D$96)))","v":"Equipage 7"},{"$f":"IF($K$5=\"Course 1\",Général!D$100,IF($K$5=\"Course 2\",Général!D$102,IF($K$5=\"Course 3\",Général!#REF!,Général!D$104)))","v":"Equipage 4"},{"$f":"IF($L$5=\"Course 1\",Général!D$108,IF($L$5=\"Course 2\",Général!D$110,IF($L$5=\"Course 3\",Général!#REF!,Général!D$112)))","v":"Equipage 3"},{"$f":"IF($M$5=\"Course 1\",Général!D$116,IF($M$5=\"Course 2\",Général!D$118,IF($M$5=\"Course 3\",Général!#REF!,Général!D$120)))","v":"Equipage 2"},{"$f":"IF($N$5=\"Course 1\",Général!D$124,IF($N$5=\"Course 2\",Général!D$126,IF($N$5=\"Course 3\",Général!#REF!,Général!D$128)))","v":"Equipage 2"},{"$f":"IF($O$5=\"Course 1\",Général!D$132,IF($O$5=\"Course 2\",Général!D$134,IF($O$5=\"Course 3\",Général!#REF!,Général!D$136)))","v":"Equipage 5"},{"$f":"IF($P$5=\"Course 1\",Général!D$140,IF($P$5=\"Course 2\",Général!D$142,IF($P$5=\"Course 3\",Général!#REF!,Général!D$144)))","v":"Equipage 12"},{"$f":"IF($Q$5=\"Course 1\",Général!D$148,IF($Q$5=\"Course 2\",Général!D$150,IF($Q$5=\"Course 3\",Général!#REF!,Général!D$152)))","v":"Equipage 10"},{"$f":"IF($R$5=\"Course 1\",Général!D$156,IF($R$5=\"Course 2\",Général!D$158,IF($R$5=\"Course 3\",Général!D$160,Général!D$162)))","v":"Equipage 2"},null,null,null,{"$f":"Général!B12","v":"Equipage 10"},6]
["4ème Equipage",null,{"$f":"IF($C$5=\"Course 1\",Général!E36,IF($C$5=\"Course 2\",Général!E38,IF($C$5=\"Course 3\",Général!#REF!,Général!E40)))","v":"Equipage 2"},{"$f":"IF($D$5=\"Course 1\",Général!E44,IF($D$5=\"Course 2\",Général!E46,IF($D$5=\"Course 3\",Général!#REF!,Général!E48)))","v":"Equipage 4"},{"$f":"IF($E$5=\"Course 1\",Général!E52,IF($E$5=\"Course 2\",Général!E54,IF($E$5=\"Course 3\",Général!#REF!,Général!E56)))","v":"Equipage 10"},{"$f":"IF($F$5=\"Course 1\",Général!E$60,IF($F$5=\"Course 2\",Général!E$62,IF($F$5=\"Course 3\",Général!#REF!,Général!E$64)))","v":"Equipage 7"},{"$f":"IF($G$5=\"Course 1\",Général!E$68,IF($G$5=\"Course 2\",Général!E$70,IF($G$5=\"Course 3\",Général!#REF!,Général!E$72)))","v":"Equipage 3"},{"$f":"IF($H$5=\"Course 1\",Général!E$76,IF($H$5=\"Course 2\",Général!E$78,IF($H$5=\"Course 3\",Général!#REF!,Général!E$80)))","v":"Equipage 11"},{"$f":"IF($I$5=\"Course 1\",Général!E$84,IF($I$5=\"Course 2\",Général!E$86,IF($I$5=\"Course 3\",Général!#REF!,Général!E$88)))","v":"Equipage 7"},{"$f":"IF($J$5=\"Course 1\",Général!E$92,IF($J$5=\"Course 2\",Général!E$94,IF($J$5=\"Course 3\",Général!#REF!,Général!E$96)))","v":"Equipage 9"},{"$f":"IF($K$5=\"Course 1\",Général!E$100,IF($K$5=\"Course 2\",Général!E$102,IF($K$5=\"Course 3\",Général!#REF!,Général!E$104)))","v":"Equipage 1"},{"$f":"IF($L$5=\"Course 1\",Général!E$108,IF($L$5=\"Course 2\",Général!E$110,IF($L$5=\"Course 3\",Général!#REF!,Général!E$112)))","v":"Equipage 2"},{"$f":"IF($M$5=\"Course 1\",Général!E$116,IF($M$5=\"Course 2\",Général!E$118,IF($M$5=\"Course 3\",Général!#REF!,Général!E$120)))","v":"Equipage 8"},{"$f":"IF($N$5=\"Course 1\",Général!E$124,IF($N$5=\"Course 2\",Général!E$126,IF($N$5=\"Course 3\",Général!#REF!,Général!E$128)))","v":"Equipage 8"},{"$f":"IF($O$5=\"Course 1\",Général!E$132,IF($O$5=\"Course 2\",Général!E$134,IF($O$5=\"Course 3\",Général!#REF!,Général!E$136)))","v":"Equipage 6"},{"$f":"IF($P$5=\"Course 1\",Général!E$140,IF($P$5=\"Course 2\",Général!E$142,IF($P$5=\"Course 3\",Général!#REF!,Général!E$144)))","v":"Equipage 7"},{"$f":"IF($Q$5=\"Course 1\",Général!E$148,IF($Q$5=\"Course 2\",Général!E$150,IF($Q$5=\"Course 3\",Général!#REF!,Général!E$152)))","v":"Equipage 6"},{"$f":"IF($R$5=\"Course 1\",Général!E$156,IF($R$5=\"Course 2\",Général!E$158,IF($R$5=\"Course 3\",Général!E$160,Général!E$162)))","v":"Equipage 5"},null,null,null,{"$f":"Général!B13","v":"Equipage 11"},5]
["5ème Equipage",null,{"$f":"IF($C$5=\"Course 1\",Général!F36,IF($C$5=\"Course 2\",Général!F38,IF($C$5=\"Course 3\",Général!#REF!,Général!F40)))","v":"Equipage 11"},{"$f":"IF($D$5=\"Course 1\",Général!F44,IF($D$5=\"Course 2\",Général!F46,IF($D$5=\"Course 3\",Général!#REF!,Général!F48)))","v":"Equipage 8"},{"$f":"IF($E$5=\"Course 1\",Général!F52,IF($E$5=\"Course 2\",Général!F54,IF($E$5=\"Course 3\",Général!#REF!,Général!F56)))","v":"Equipage 7"},{"$f":"IF($F$5=\"Course 1\",Général!F$60,IF($F$5=\"Course 2\",Général!F$62,IF($F$5=\"Course 3\",Général!#REF!,Général!F$64)))","v":"Equipage 2"},{"$f":"IF($G$5=\"Course 1\",Général!F$68,IF($G$5=\"Course 2\",Général!F$70,IF($G$5=\"Course 3\",Général!#REF!,Général!F$72)))","v":"Equipage 6"},{"$f":"IF($H$5=\"Course 1\",Général!F$76,IF($H$5=\"Course 2\",Général!F$78,IF($H$5=\"Course 3\",Général!#REF!,Général!F$80)))","v":"Equipage 8"},{"$f":"IF($I$5=\"Course 1\",Général!F$84,IF($I$5=\"Course 2\",Général!F$86,IF($I$5=\"Course 3\",Général!#REF!,Général!F$88)))","v":"Equipage 6"},{"$f":"IF($J$5=\"Course 1\",Général!F$92,IF($J$5=\"Course 2\",Général!F$94,IF($J$5=\"Course 3\",Général!#REF!,Général!F$96)))","v":"Equipage 5"},{"$f":"IF($K$5=\"Course 1\",Général!F$100,IF($K$5=\"Course 2\",Général!F$102,IF($K$5=\"Course 3\",Général!#REF!,Général!F$104)))","v":"Equipage 12"},{"$f":"IF($L$5=\"Course 1\",Général!F$108,IF($L$5=\"Course 2\",Général!$F110,IF($L$5=\"Course 3\",Général!#REF!,Général!F$112)))","v":"Equipage 9"},{"$f":"IF($M$5=\"Course 1\",Général!F$116,IF($M$5=\"Course 2\",Général!F$118,IF($M$5=\"Course 3\",Général!#REF!,Général!F$120)))","v":"Equipage 3"},{"$f":"IF($N$5=\"Course 1\",Général!F$124,IF($N$5=\"Course 2\",Général!F$126,IF($N$5=\"Course 3\",Général!#REF!,Général!F$128)))","v":"Equipage 5"},{"$f":"IF($O$5=\"Course 1\",Général!F$132,IF($O$5=\"Course 2\",Général!F$134,IF($O$5=\"Course 3\",Général!#REF!,Général!F$136)))","v":"Equipage 11"},{"$f":"IF($P$5=\"Course 1\",Général!F$140,IF($P$5=\"Course 2\",Général!F$142,IF($P$5=\"Course 3\",Général!#REF!,Général!F$144)))","v":"Equipage 4"},{"$f":"IF($Q$5=\"Course 1\",Général!F$148,IF($Q$5=\"Course 2\",Général!F$150,IF($Q$5=\"Course 3\",Général!#REF!,Général!F$152)))","v":"Equipage 7"},{"$f":"IF($R$5=\"Course 1\",Général!F$156,IF($R$5=\"Course 2\",Général!F$158,IF($R$5=\"Course 3\",Général!F$160,Général!F$162)))","v":"Equipage 7"},null,null,null,{"$f":"Général!B14","v":"Equipage 12"},4]
["6ème Equipage",null,{"$f":"IF($C$5=\"Course 1\",Général!G36,IF($C$5=\"Course 2\",Général!G38,IF($C$5=\"Course 3\",Général!#REF!,Général!G40)))","v":"Equipage 5"},{"$f":"IF($D$5=\"Course 1\",Général!G44,IF($D$5=\"Course 2\",Général!G46,IF($D$5=\"Course 3\",Général!#REF!,Général!G48)))","v":"Equipage 10"},{"$f":"IF($E$5=\"Course 1\",Général!G52,IF($E$5=\"Course 2\",Général!G54,IF($E$5=\"Course 3\",Général!#REF!,Général!G56)))","v":"Equipage 2"},{"$f":"IF($F$5=\"Course 1\",Général!G$60,IF($F$5=\"Course 2\",Général!G$62,IF($F$5=\"Course 3\",Général!#REF!,Général!G$64)))","v":"Equipage 5"},{"$f":"IF($G$5=\"Course 1\",Général!G$68,IF($G$5=\"Course 2\",Général!G$70,IF($G$5=\"Course 3\",Général!#REF!,Général!G$72)))","v":"Equipage 12"},{"$f":"IF($H$5=\"Course 1\",Général!G$76,IF($H$5=\"Course 2\",Général!G$78,IF($H$5=\"Course 3\",Général!#REF!,Général!G$80)))","v":"Equipage 7"},{"$f":"IF($I$5=\"Course 1\",Général!G$84,IF($I$5=\"Course 2\",Général!G$86,IF($I$5=\"Course 3\",Général!#REF!,Général!G$88)))","v":"Equipage 3"},{"$f":"IF($J$5=\"Course 1\",Général!G$92,IF($J$5=\"Course 2\",Général!G$94,IF($J$5=\"Course 3\",Général!#REF!,Général!G$96)))","v":"Equipage 2"},{"$f":"IF($K$5=\"Course 1\",Général!G$100,IF($K$5=\"Course 2\",Général!G$102,IF($K$5=\"Course 3\",Général!#REF!,Général!G$104)))","v":"Equipage 9"},{"$f":"IF($L$5=\"Course 1\",Général!G$108,IF($L$5=\"Course 2\",Général!G$110,IF($L$5=\"Course 3\",Général!#REF!,Général!G$112)))","v":"Equipage 7"},{"$f":"IF($M$5=\"Course 1\",Général!G$116,IF($M$5=\"Course 2\",Général!G$118,IF($M$5=\"Course 3\",Général!#REF!,Général!G$120)))","v":"Equipage 4"},{"$f":"IF($N$5=\"Course 1\",Général!G$124,IF($N$5=\"Course 2\",Général!G$126,IF($N$5=\"Course 3\",Général!#REF!,Général!G$128)))","v":"Equipage 4"},{"$f":"IF($O$5=\"Course 1\",Général!G$132,IF($O$5=\"Course 2\",Général!G$134,IF($O$5=\"Course 3\",Général!#REF!,Général!G$136)))","v":"Equipage 3"},{"$f":"IF($P$5=\"Course 1\",Général!G$140,IF($P$5=\"Course 2\",Général!G$142,IF($P$5=\"Course 3\",Général!#REF!,Général!G$144)))","v":"Equipage 8"},{"$f":"IF($Q$5=\"Course 1\",Général!G$148,IF($Q$5=\"Course 2\",Général!G$150,IF($Q$5=\"Course 3\",Général!#REF!,Général!G$152)))","v":"Equipage 1"},{"$f":"IF($R$5=\"Course 1\",Général!G$156,IF($R$5=\"Course 2\",Général!G$158,IF($R$5=\"Course 3\",Général!G$160,Général!G$162)))","v":"Equipage 1"},null,null,null,{"$f":"Général!B15","v":"Equipage 13"},0]
["7ème Equipage",null,{"$f":"IF($C$5=\"Course 1\",Général!H36,IF($C$5=\"Course 2\",Général!H38,IF($C$5=\"Course 3\",Général!#REF!,Général!H40)))","v":0},{"$f":"IF($D$5=\"Course 1\",Général!H44,IF($D$5=\"Course 2\",Général!H46,IF($D$5=\"Course 3\",Général!#REF!,Général!H48)))","v":0},{"$f":"IF($E$5=\"Course 1\",Général!H52,IF($E$5=\"Course 2\",Général!H54,IF($E$5=\"Course 3\",Général!#REF!,Général!H56)))","v":0},{"$f":"IF($F$5=\"Course 1\",Général!H$60,IF($F$5=\"Course 2\",Général!H$62,IF($F$5=\"Course 3\",Général!#REF!,Général!H$64)))","v":0},{"$f":"IF($G$5=\"Course 1\",Général!H$68,IF($G$5=\"Course 2\",Général!H$70,IF($G$5=\"Course 3\",Général!#REF!,Général!H$72)))","v":0},{"$f":"IF($H$5=\"Course 1\",Général!H$76,IF($H$5=\"Course 2\",Général!H$78,IF($H$5=\"Course 3\",Général!#REF!,Général!H$80)))","v":0},{"$f":"IF($I$5=\"Course 1\",Général!H$84,IF($I$5=\"Course 2\",Général!H$86,IF($I$5=\"Course 3\",Général!#REF!,Général!H$88)))","v":0},{"$f":"IF($J$5=\"Course 1\",Général!H$92,IF($J$5=\"Course 2\",Général!H$94,IF($J$5=\"Course 3\",Général!#REF!,Général!H$96)))","v":0},{"$f":"IF($K$5=\"Course 1\",Général!H$100,IF($K$5=\"Course 2\",Général!H$102,IF($K$5=\"Course 3\",Général!#REF!,Général!H$104)))","v":0},{"$f":"IF($L$5=\"Course 1\",Général!H$108,IF($L$5=\"Course 2\",Général!H$110,IF($L$5=\"Course 3\",Général!#REF!,Général!H$112)))","v":0},{"$f":"IF($M$5=\"Course 1\",Général!H$116,IF($M$5=\"Course 2\",Général!H$118,IF($M$5=\"Course 3\",Général!#REF!,Général!H$120)))","v":0},{"$f":"IF($N$5=\"Course 1\",Général!H$124,IF($N$5=\"Course 2\",Général!H$126,IF($N$5=\"Course 3\",Général!#REF!,Général!H$128)))","v":0},{"$f":"IF($O$5=\"Course 1\",Général!H$132,IF($O$5=\"Course 2\",Général!H$134,IF($O$5=\"Course 3\",Général!#REF!,Général!H$136)))","v":0},{"$f":"IF($P$5=\"Course 1\",Général!H$140,IF($P$5=\"Course 2\",Général!H$142,IF($P$5=\"Course 3\",Général!#REF!,Général!H$144)))","v":0},{"$f":"IF($Q$5=\"Course 1\",Général!H$148,IF($Q$5=\"Course 2\",Général!H$150,IF($Q$5=\"Course 3\",Général!#REF!,Général!H$152)))","v":0},{"$f":"IF($R$5=\"Course 1\",Général!H$156,IF($R$5=\"Course 2\",Général!H$158,IF($R$5=\"Course 3\",Général!H$160,Général!H$162)))","v":0},null,null,null,{"$f":"Général!B16","v":"Equipage 14"},0]
["8ème Equipage",null,{"$f":"IF($C$5=\"Course 1\",Général!I36,IF($C$5=\"Course 2\",Général!I38,IF($C$5=\"Course 3\",Général!#REF!,Général!I40)))","v":0},{"$f":"IF($D$5=\"Course 1\",Général!I44,IF($D$5=\"Course 2\",Général!I46,IF($D$5=\"Course 3\",Général!#REF!,Général!I48)))","v":0},{"$f":"IF($E$5=\"Course 1\",Général!I52,IF($E$5=\"Course 2\",Général!I54,IF($E$5=\"Course 3\",Général!#REF!,Général!I56)))","v":0},{"$f":"IF($F$5=\"Course 1\",Général!I$60,IF($F$5=\"Course 2\",Général!I$62,IF($F$5=\"Course 3\",Général!#REF!,Général!I$64)))","v":0},{"$f":"IF($G$5=\"Course 1\",Général!I$68,IF($G$5=\"Course 2\",Général!I$70,IF($G$5=\"Course 3\",Général!#REF!,Général!I$72)))","v":0},{"$f":"IF($H$5=\"Course 1\",Général!I$76,IF($H$5=\"Course 2\",Général!I$78,IF($H$5=\"Course 3\",Général!#REF!,Général!I$80)))","v":0},{"$f":"IF($I$5=\"Course 1\",Général!I$84,IF($I$5=\"Course 2\",Général!I$86,IF($I$5=\"Course 3\",Général!#REF!,Général!I$88)))","v":0},{"$f":"IF($J$5=\"Course 1\",Général!I$92,IF($J$5=\"Course 2\",Général!I$94,IF($J$5=\"Course 3\",Général!#REF!,Général!I$96)))","v":0},{"$f":"IF($K$5=\"Course 1\",Général!I$100,IF($K$5=\"Course 2\",Général!I$102,IF($K$5=\"Course 3\",Général!#REF!,Général!I$104)))","v":0},{"$f":"IF($L$5=\"Course 1\",Général!I$108,IF($L$5=\"Course 2\",Général!I$110,IF($L$5=\"Course 3\",Général!#REF!,Général!I$112)))","v":0},{"$f":"IF($M$5=\"Course 1\",Général!I$116,IF($M$5=\"Course 2\",Général!I$118,IF($M$5=\"Course 3\",Général!#REF!,Général!I$120)))","v":0},{"$f":"IF($N$5=\"Course 1\",Général!I$124,IF($N$5=\"Course 2\",Général!I$126,IF($N$5=\"Course 3\",Général!#REF!,Général!I$128)))","v":0},{"$f":"IF($O$5=\"Course 1\",Général!I$132,IF($O$5=\"Course 2\",Général!I$134,IF($O$5=\"Course 3\",Général!#REF!,Général!I$136)))","v":0},{"$f":"IF($P$5=\"Course 1\",Général!I$140,IF($P$5=\"Course 2\",Général!I$142,IF($P$5=\"Course 3\",Général!#REF!,Général!I$144)))","v":0},{"$f":"IF($Q$5=\"Course 1\",Général!I$148,IF($Q$5=\"Course 2\",Général!I$150,IF($Q$5=\"Course 3\",Général!#REF!,Général!I$152)))","v":0},{"$f":"IF($R$5=\"Course 1\",Général!I$156,IF($R$5=\"Course 2\",Général!I$158,IF($R$5=\"Course 3\",Général!I$160,Général!I$162)))","v":0},null,null,null,{"$f":"Général!B17","v":"Equipage 15"},0]
["9ème Equipage",null,{"$f":"IF($C$5=\"Course 1\",Général!J36,IF($C$5=\"Course 2\",Général!J38,IF($C$5=\"Course 3\",Général!#REF!,Général!J40)))","v":0},{"$f":"IF($D$5=\"Course 1\",Général!J44,IF($D$5=\"Course 2\",Général!J46,IF($D$5=\"Course 3\",Général!#REF!,Général!J48)))","v":0},{"$f":"IF($E$5=\"Course 1\",Général!J52,IF($E$5=\"Course 2\",Général!J54,IF($E$5=\"Course 3\",Général!#REF!,Général!J56)))","v":0},{"$f":"IF($F$5=\"Course 1\",Général!J$60,IF($F$5=\"Course 2\",Général!J$62,IF($F$5=\"Course 3\",Général!#REF!,Général!J$64)))","v":0},{"$f":"IF($G$5=\"Course 1\",Général!J$68,IF($G$5=\"Course 2\",Général!J$70,IF($G$5=\"Course 3\",Général!#REF!,Général!J$72)))","v":0},{"$f":"IF($H$5=\"Course 1\",Général!J$76,IF($H$5=\"Course 2\",Général!J$78,IF($H$5=\"Course 3\",Général!#REF!,Général!J$80)))","v":0},{"$f":"IF($I$5=\"Course 1\",Général!J$84,IF($I$5=\"Course 2\",Général!J$86,IF($I$5=\"Course 3\",Général!#REF!,Général!J$88)))","v":0},{"$f":"IF($J$5=\"Course 1\",Général!J$92,IF($J$5=\"Course 2\",Général!J$94,IF($J$5=\"Course 3\",Général!#REF!,Général!J$96)))","v":0},{"$f":"IF($K$5=\"Course 1\",Général!J$100,IF($K$5=\"Course 2\",Général!J$102,IF($K$5=\"Course 3\",Général!#REF!,Général!J$104)))","v":0},{"$f":"IF($L$5=\"Course 1\",Général!J$108,IF($L$5=\"Course 2\",Général!J$110,IF($L$5=\"Course 3\",Général!#REF!,Général!J$112)))","v":0},{"$f":"IF($M$5=\"Course 1\",Général!J$116,IF($M$5=\"Course 2\",Général!J$118,IF($M$5=\"Course 3\",Général!#REF!,Général!J$120)))","v":0},{"$f":"IF($N$5=\"Course 1\",Général!J$124,IF($N$5=\"Course 2\",Général!J$126,IF($N$5=\"Course 3\",Général!#REF!,Général!J$128)))","v":0},{"$f":"IF($O$5=\"Course 1\",Général!J$132,IF($O$5=\"Course 2\",Général!J$134,IF($O$5=\"Course 3\",Général!#REF!,Général!J$136)))","v":0},{"$f":"IF($P$5=\"Course 1\",Général!J$140,IF($P$5=\"Course 2\",Général!J$142,IF($P$5=\"Course 3\",Général!#REF!,Général!J$144)))","v":0},{"$f":"IF($Q$5=\"Course 1\",Général!J$148,IF($Q$5=\"Course 2\",Général!J$150,IF($Q$5=\"Course 3\",Général!#REF!,Général!J$152)))","v":0},{"$f":"IF($R$5=\"Course 1\",Général!J$156,IF($R$5=\"Course 2\",Général!J$158,IF($R$5=\"Course 3\",Général!J$160,Général!J$162)))","v":0},null,null,null,{"$f":"Général!B18","v":"Equipage 16"},0]
["10ème Equipage",null,{"$f":"IF($C$5=\"Course 1\",Général!K36,IF($C$5=\"Course 2\",Général!K38,IF($C$5=\"Course 3\",Général!#REF!,Général!K40)))","v":0},{"$f":"IF($D$5=\"Course 1\",Général!K44,IF($D$5=\"Course 2\",Général!K46,IF($D$5=\"Course 3\",Général!#REF!,Général!K48)))","v":0},{"$f":"IF($E$5=\"Course 1\",Général!K52,IF($E$5=\"Course 2\",Général!K54,IF($E$5=\"Course 3\",Général!#REF!,Général!K56)))","v":0},{"$f":"IF($F$5=\"Course 1\",Général!K$60,IF($F$5=\"Course 2\",Général!K$62,IF($F$5=\"Course 3\",Général!#REF!,Général!K$64)))","v":0},{"$f":"IF($G$5=\"Course 1\",Général!K$68,IF($G$5=\"Course 2\",Général!K$70,IF($G$5=\"Course 3\",Général!#REF!,Général!K$72)))","v":0},{"$f":"IF($H$5=\"Course 1\",Général!K$76,IF($H$5=\"Course 2\",Général!K$78,IF($H$5=\"Course 3\",Général!#REF!,Général!K$80)))","v":0},{"$f":"IF($I$5=\"Course 1\",Général!K$84,IF($I$5=\"Course 2\",Général!K$86,IF($I$5=\"Course 3\",Général!#REF!,Général!K$88)))","v":0},{"$f":"IF($J$5=\"Course 1\",Général!K$92,IF($J$5=\"Course 2\",Général!K$94,IF($J$5=\"Course 3\",Général!#REF!,Général!K$96)))","v":0},{"$f":"IF($K$5=\"Course 1\",Général!K$100,IF($K$5=\"Course 2\",Général!K$102,IF($K$5=\"Course 3\",Général!#REF!,Général!K$104)))","v":0},{"$f":"IF($L$5=\"Course 1\",Général!K$108,IF($L$5=\"Course 2\",Général!K$110,IF($L$5=\"Course 3\",Général!#REF!,Général!K$112)))","v":0},{"$f":"IF($M$5=\"Course 1\",Général!K$116,IF($M$5=\"Course 2\",Général!K$118,IF($M$5=\"Course 3\",Général!#REF!,Général!K$120)))","v":0},{"$f":"IF($N$5=\"Course 1\",Général!K$124,IF($N$5=\"Course 2\",Général!K$126,IF($N$5=\"Course 3\",Général!#REF!,Général!K$128)))","v":0},{"$f":"IF($O$5=\"Course 1\",Général!K$132,IF($O$5=\"Course 2\",Général!K$134,IF($O$5=\"Course 3\",Général!#REF!,Général!K$136)))","v":0},{"$f":"IF($P$5=\"Course 1\",Général!K$140,IF($P$5=\"Course 2\",Général!K$142,IF($P$5=\"Course 3\",Général!#REF!,Général!K$144)))","v":0},{"$f":"IF($Q$5=\"Course 1\",Général!K$148,IF($Q$5=\"Course 2\",Général!K$150,IF($Q$5=\"Course 3\",Général!#REF!,Général!K$152)))","v":0},{"$f":"IF($R$5=\"Course 1\",Général!K$156,IF($R$5=\"Course 2\",Général!K$158,IF($R$5=\"Course 3\",Général!K$160,Général!K$162)))","v":0},null,null,null,{"$f":"Général!B19","v":"Equipage 17"},0]
[null,null,null,null,null,null,null,null,null,null,null,null,null,null,null,null,null,null,null,null,null,{"$f":"Général!B20","v":"Equipage 18"},0]
[null,null,null,null,null,null,null,null,null,null,null,null,null,null,null,null,null,null,null,null,null,{"$f":"Général!B21","v":"Equipage 19"},{"$f":"COUNTIF($C$8:$R$17,V19)","v":0}]
[null,null,null,null,null,null,null,null,null,null,null,null,null,null,null,null,null,null,null,null,null,{"$f":"Général!B22","v":"Equipage 20"},0]
[null,null,null,null,null,null,null,null,null,null,null,null,null,null,null,null,null,null,null,null,null,{"$f":"Général!B23","v":"Equipage 21"},0]
[null,null,null,null,null,null,null,null,null,null,null,null,null,null,null,null,null,null,null,null,null,{"$f":"Général!B24","v":"Equipage 22"},0]
[null,null,null,null,null,null,null,null,null,null,null,null,null,null,null,null,null,null,null,null,null,{"$f":"Général!B25","v":"Equipage 23"},0]
[null,null,null,null,null,null,null,null,null,null,null,null,null,null,null,null,null,null,null,null,null,{"$f":"Général!B26","v":"Equipage 24"},0]
[null,null,null,null,null,null,null,null,null,null,null,null,null,null,null,null,null,null,null,null,null,{"$f":"Général!B27","v":"Equipage 25"},0]
[null,null,null,null,null,null,null,null,null,null,null,null,null,null,null,null,null,null,null,null,null,{"$f":"Général!B28","v":"Equipage 26"},0]
[null,null,null,null,null,null,null,null,null,null,null,null,null,null,null,null,null,null,null,null,null,{"$f":"Général!B29","v":"Equipage 27"},0]
[null,null,null,null,null,null,null,null,null,null,null,null,null,null,null,null,null,null,null,null,null,{"$f":"Général!B30","v":"Equipage 28"},0]
[null,null,null,null,null,null,null,null,null,null,null,null,null,null,null,null,null,null,null,null,null,{"$f":"Général!B31","v":"Equipage 29"},0]
[null,null,null,null,null,null,null,null,null,null,null,null,null,null,null,null,null,null,null,null,null,{"$f":"Général!B32","v":"Equipage 30"},0]

{"sheet":"Eq.8","index":12,"n_rows":30,"n_cols":23,"rows_kept":30,"cut":false,"hidden":true,"merged":[[7,0,7,1],[0,0,1,5],[0,6,1,10],[3,0,3,1],[4,0,4,1],[5,0,5,1],[14,0,14,1],[15,0,15,1],[16,0,16,1],[8,0,8,1],[9,0,9,1],[10,0,10,1],[11,0,11,1],[12,0,12,1],[13,0,13,1]]}
["Equipage ",null,null,null,null,null,{"$f":"Général!B10","v":"Equipage 8"},null,null,null,null,null,null,null,null,null,null,null,null,null,null,{"$f":"Général!B3","v":"Equipage 1"},{"$f":"COUNTIF(C$8:R$17,V1)","v":6}]
[null,null,null,null,null,null,null,null,null,null,null,null,null,null,null,null,null,null,null,null,null,{"$f":"Général!B4","v":"Equipage 2"},{"$f":"COUNTIF($C$8:$R$17,V2)","v":10}]
[null,null,null,null,null,null,null,null,null,null,null,null,null,null,null,null,null,null,null,null,null,{"$f":"Général!B5","v":"Equipage 3"},{"$f":"COUNTIF($C$8:$R$17,V3)","v":5}]
[null,null,"FLIGHT 1","FLIGHT 2","FLIGHT 3","FLIGHT 4","FLIGHT 5","FLIGHT 6","FLIGHT 7","FLIGHT 8","FLIGHT 9","FLIGHT 10","FLIGHT 11","FLIGHT 12","FLIGHT 13","FLIGHT 14","FLIGHT 15","FLIGHT 16","FLIGHT 17","FLIGHT 18",null,{"$f":"Général!B6","v":"Equipage 4"},{"$f":"COUNTIF($C$8:$R$17,V4)","v":9}]
["N° de course",null,{"$f":"IF(COUNTIF(Général!B36:K36,$G$1)=1,\"Course 1\",IF(COUNTIF(Général!B38:K38,$G$1)=1,\"Course 2\",IF(COUNTIF(Général!#REF!,$G$1)=1,\"Course 3\",\"Course 4\")))","v":"Course 2"},{"$f":"IF(COUNTIF(Général!B44:K44,$G$1)=1,\"Course 1\",IF(COUNTIF(Général!B46:K46,$G$1)=1,\"Course 2\",IF(COUNTIF(Général!#REF!,$G$1)=1,\"Course 3\",\"Course 4\")))","v":"Course 1"},{"$f":"IF(COUNTIF(Général!B52:K52,$G$1)=1,\"Course 1\",IF(COUNTIF(Général!B54:K54,$G$1)=1,\"Course 2\",IF(COUNTIF(Général!#REF!,$G$1)=1,\"Course 3\",\"Course 4\")))","v":"Course 1"},{"$f":"IF(COUNTIF(Général!B60:K60,$G$1)=1,\"Course 1\",IF(COUNTIF(Général!B62:K62,$G$1)=1,\"Course 2\",IF(COUNTIF(Général!#REF!,$G$1)=1,\"Course 3\",\"Course 4\")))","v":"Course 1"},{"$f":"IF(COUNTIF(Général!B68:K68,$G$1)=1,\"Course 1\",IF(COUNTIF(Général!B70:K70,$G$1)=1,\"Course 2\",IF(COUNTIF(Général!#REF!,$G$1)=1,\"Course 3\",\"Course 4\")))","v":"Course 1"},{"$f":"IF(COUNTIF(Général!B76:K76,$G$1)=1,\"Course 1\",IF(COUNTIF(Général!B78:K78,$G$1)=1,\"Course 2\",IF(COUNTIF(Général!#REF!,$G$1)=1,\"Course 3\",\"Course 4\")))","v":"Course 1"},{"$f":"IF(COUNTIF(Général!B84:K84,$G$1)=1,\"Course 1\",IF(COUNTIF(Général!B86:K86,$G$1)=1,\"Course 2\",IF(COUNTIF(Général!#REF!,$G$1)=1,\"Course 3\",\"Course 4\")))","v":"Course 2"},{"$f":"IF(COUNTIF(Général!B92:K92,$G$1)=1,\"Course 1\",IF(COUNTIF(Général!B94:K94,$G$1)=1,\"Course 2\",IF(COUNTIF(Général!#REF!,$G$1)=1,\"Course 3\",\"Course 4\")))","v":"Course 2"},{"$f":"IF(COUNTIF(Général!B100:K100,$G$1)=1,\"Course 1\",IF(COUNTIF(Général!B102:K102,$G$1)=1,\"Course 2\",IF(COUNTIF(Général!#REF!,$G$1)=1,\"Course 3\",\"Course 4\")))","v":"Course 2"},{"$f":"IF(COUNTIF(Général!B108:K108,$G$1)=1,\"Course 1\",IF(COUNTIF(Général!B110:K110,$G$1)=1,\"Course 2\",IF(COUNTIF(Général!#REF!,$G$1)=1,\"Course 3\",\"Course 4\")))","v":"Course 1"},{"$f":"IF(COUNTIF(Général!B116:K116,$G$1)=1,\"Course 1\",IF(COUNTIF(Général!B118:K118,$G$1)=1,\"Course 2\",IF(COUNTIF(Général!#REF!,$G$1)=1,\"Course 3\",\"Course 4\")))","v":"Course 2"},{"$f":"IF(COUNTIF(Général!B124:K124,$G$1)=1,\"Course 1\",IF(COUNTIF(Général!B126:K126,$G$1)=1,\"Course 2\",IF(COUNTIF(Général!#REF!,$G$1)=1,\"Course 3\",\"Course 4\")))","v":"Course 1"},{"$f":"IF(COUNTIF(Général!B132:K132,$G$1)=1,\"Course 1\",IF(COUNTIF(Général!B134:K134,$G$1)=1,\"Course 2\",IF(COUNTIF(Général!#REF!,$G$1)=1,\"Course 3\",\"Course 4\")))","v":"Course 2"},{"$f":"IF(COUNTIF(Général!B140:K140,$G$1)=1,\"Course 1\",IF(COUNTIF(Général!B142:K142,$G$1)=1,\"Course 2\",IF(COUNTIF(Général!#REF!,$G$1)=1,\"Course 3\",\"Course 4\")))","v":"Course 1"},{"$f":"IF(COUNTIF(Général!B148:K148,$G$1)=1,\"Course 1\",IF(COUNTIF(Général!B150:K150,$G$1)=1,\"Course 2\",IF(COUNTIF(Général!#REF!,$G$1)=1,\"Course 3\",\"Course 4\")))","v":"Course 1"},{"$f":"IF(COUNTIF(Général!B156:K156,$G$1)=1,\"Course 1\",IF(COUNTIF(Général!B158:K158,$G$1)=1,\"Course 2\",IF(COUNTIF(Général!B160:K160,$G$1)=1,\"Course 3\",\"Course 4\")))","v":"Course 1"},{"$f":"IF(COUNTIF(Général!C156:L156,$G$1)=1,\"Course 1\",IF(COUNTIF(Général!C158:L158,$G$1)=1,\"Course 2\",IF(COUNTIF(Général!C160:L160,$G$1)=1,\"Course 3\",\"Course 4\")))","v":"Course 4"},{"$f":"IF(COUNTIF(Général!D156:M156,$G$1)=1,\"Course 1\",IF(COUNTIF(Général!D158:M158,$G$1)=1,\"Course 2\",IF(COUNTIF(Général!D160:M160,$G$1)=1,\"Course 3\",\"Course 4\")))","v":"Course 4"},null,{"$f":"Général!B7","v":"Equipage 5"},9]
["Bateau",null,{"$f":"IF(COUNTIF(Général!B36:B40,$G$1)=1,\"Boat 1\",IF(COUNTIF(Général!C36:C40,$G$1)=1,\"Boat 2\",IF(COUNTIF(Général!D36:D40,$G$1)=1,\"Boat 3\",IF(COUNTIF(Général!E36:E40,$G$1)=1,\"Boat 4\",IF(COUNTIF(Général!F36:F40,$G$1)=1,\"Boat 5\",IF(COUNTIF(Général!G36:G40,$G$1)=1,\"Boat 6\",IF(COUNTIF(Général!H36:H40,$G$1)=1,\"Boat 7\",IF(COUNTIF(Général!I36:I40,$G$1)=1,\"Boat 8\",IF(COUNTIF(Général!J36:J40,$G$1)=1,\"Boat 9\",\"Boat10\")))))))))","v":"Boat 5"},{"$f":"IF(COUNTIF(Général!B44:B48,$G$1)=1,\"Boat 1\",IF(COUNTIF(Général!C44:C48,$G$1)=1,\"Boat 2\",IF(COUNTIF(Général!D44:D48,$G$1)=1,\"Boat 3\",IF(COUNTIF(Général!E44:E48,$G$1)=1,\"Boat 4\",IF(COUNTIF(Général!F44:F48,$G$1)=1,\"Boat 5\",IF(COUNTIF(Général!G44:G48,$G$1)=1,\"Boat 6\",IF(COUNTIF(Général!H44:H48,$G$1)=1,\"Boat 7\",IF(COUNTIF(Général!I44:I48,$G$1)=1,\"Boat 8\",IF(COUNTIF(Général!J44:J48,$G$1)=1,\"Boat 9\",\"Boat 10\")))))))))","v":"Boat 5"},{"$f":"IF(COUNTIF(Général!B52:B56,$G$1)=1,\"Boat 1\",IF(COUNTIF(Général!C52:C56,$G$1)=1,\"Boat 2\",IF(COUNTIF(Général!D52:D56,$G$1)=1,\"Boat 3\", IF(COUNTIF(Général!E52:E56,$G$1)=1,\"Boat 4\", IF(COUNTIF(Général!F52:F56,$G$1)=1,\"Boat 5\", IF(COUNTIF(Général!G52:G56,$G$1)=1,\"Boat 6\", IF(COUNTIF(Général!H52:H56,$G$1)=1,\"Boat 7\",IF(COUNTIF(Général!I52:I56,$G$1)=1,\"Boat 8\",IF(COUNTIF(Général!J52:J56,$G$1)=1,\"Boat 9\",\"Boat 10\")))))))))","v":"Boat 3"},{"$f":"IF(COUNTIF(Général!B60:B64,$G$1)=1,\"Boat 1\",IF(COUNTIF(Général!C60:C64,$G$1)=1,\"Boat 2\",IF(COUNTIF(Général!D60:D64,$G$1)=1,\"Boat 3\", IF(COUNTIF(Général!E60:E64,$G$1)=1,\"Boat 4\", IF(COUNTIF(Général!F60:F64,$G$1)=1,\"Boat 5\", IF(COUNTIF(Général!G60:G64,$G$1)=1,\"Boat 6\", IF(COUNTIF(Général!H60:H64,$G$1)=1,\"Boat 7\",IF(COUNTIF(Général!I60:I64,$G$1)=1,\"Boat 8\",IF(COUNTIF(Général!I60:J64,$G$1)=1,\"Boat 9\",\"Boat 10\")))))))))","v":"Boat 1"},{"$f":"IF(COUNTIF(Général!B68:B72,$G$1)=1,\"Boat 1\",IF(COUNTIF(Général!C68:C72,$G$1)=1,\"Boat 2\",IF(COUNTIF(Général!D68:D72,$G$1)=1,\"Boat 3\", IF(COUNTIF(Général!E68:E72,$G$1)=1,\"Boat 4\", IF(COUNTIF(Général!F68:F72,$G$1)=1,\"Boat 5\", IF(COUNTIF(Général!G68:G72,$G$1)=1,\"Boat 6\", IF(COUNTIF(Général!H68:H72,$G$1)=1,\"Boat 7\",IF(COUNTIF(Général!I68:I72,$G$1)=1,\"Boat 8\",IF(COUNTIF(Général!J68:J72,$G$1)=1,\"Boat 9\",\"Boat 10\")))))))))","v":"Boat 1"},{"$f":"IF(COUNTIF(Général!B76:B80,$G$1)=1,\"Boat 1\",IF(COUNTIF(Général!C76:C80,$G$1)=1,\"Boat 2\",IF(COUNTIF(Général!D76:D80,$G$1)=1,\"Boat 3\", IF(COUNTIF(Général!E76:E80,$G$1)=1,\"Boat 4\", IF(COUNTIF(Général!F76:F80,$G$1)=1,\"Boat 5\", IF(COUNTIF(Général!G76:G80,$G$1)=1,\"Boat 6\", IF(COUNTIF(Général!H76:H80,$G$1)=1,\"Boat 7\",IF(COUNTIF(Général!I76:I80,$G$1)=1,\"Boat 8\",IF(COUNTIF(Général!J76:J80,$G$1)=1,\"Boat 9\",\"Boat 10\")))))))))","v":"Boat 5"},{"$f":"IF(COUNTIF(Général!B84:B88,$G$1)=1,\"Boat 1\",IF(COUNTIF(Général!C84:C88,$G$1)=1,\"Boat 2\",IF(COUNTIF(Général!D84:D88,$G$1)=1,\"Boat 3\", IF(COUNTIF(Général!E84:E88,$G$1)=1,\"Boat 4\", IF(COUNTIF(Général!F84:F88,$G$1)=1,\"Boat 5\", IF(COUNTIF(Général!G84:G88,$G$1)=1,\"Boat 6\", IF(COUNTIF(Général!H84:H88,$G$1)=1,\"Boat 7\",IF(COUNTIF(Général!I84:I88,$G$1)=1,\"Boat 8\",IF(COUNTIF(Général!J84:J88,$G$1)=1,\"Boat 9\",\"Boat 10\")))))))))","v":"Boat 1"},{"$f":"IF(COUNTIF(Général!B92:B96,$G$1)=1,\"Boat 1\",IF(COUNTIF(Général!C92:C96,$G$1)=1,\"Boat 2\",IF(COUNTIF(Général!D92:D96,$G$1)=1,\"Boat 3\", IF(COUNTIF(Général!E92:E96,$G$1)=1,\"Boat 4\", IF(COUNTIF(Général!F92:F96,$G$1)=1,\"Boat 5\", IF(COUNTIF(Général!G92:G96,$G$1)=1,\"Boat 6\", IF(COUNTIF(Général!H92:H96,$G$1)=1,\"Boat 7\",IF(COUNTIF(Général!I92:I96,$G$1)=1,\"Boat 8\",IF(COUNTIF(Général!J92:J96,$G$1)=1,\"Boat 9\",\"Boat 10\")))))))))","v":"Boat 2"},{"$f":"IF(COUNTIF(Général!B100:B104,$G$1)=1,\"Boat 1\",IF(COUNTIF(Général!C100:C104,$G$1)=1,\"Boat 2\",IF(COUNTIF(Général!D100:D104,$G$1)=1,\"Boat 3\", IF(COUNTIF(Général!E100:E104,$G$1)=1,\"Boat 4\", IF(COUNTIF(Général!F100:F104,$G$1)=1,\"Boat 5\", IF(COUNTIF(Général!G100:G104,$G$1)=1,\"Boat 6\", IF(COUNTIF(Général!H100:H104,$G$1)=1,\"Boat 7\",IF(COUNTIF(Général!I100:I104,$G$1)=1,\"Boat 8\",IF(COUNTIF(Général!J100:J104,$G$1)=1,\"Boat 9\",\"Boat 10\")))))))))","v":"Boat 2"},{"$f":"IF(COUNTIF(Général!B108:B112,$G$1)=1,\"Boat 1\",IF(COUNTIF(Général!C108:C112,$G$1)=1,\"Boat 2\",IF(COUNTIF(Général!D108:D112,$G$1)=1,\"Boat 3\", IF(COUNTIF(Général!E108:E112,$G$1)=1,\"Boat 4\", IF(COUNTIF(Général!F108:F112,$G$1)=1,\"Boat 5\", IF(COUNTIF(Général!G108:G112,$G$1)=1,\"Boat 6\", IF(COUNTIF(Général!H108:H112,$G$1)=1,\"Boat 7\",IF(COUNTIF(Général!I108:I112,$G$1)=1,\"Boat 8\",IF(COUNTIF(Général!J108:J112,$G$1)=1,\"Boat 9\",\"Boat 10\")))))))))","v":"Boat 2"},{"$f":"IF(COUNTIF(Général!B116:B120,$G$1)=1,\"Boat 1\",IF(COUNTIF(Général!C116:C120,$G$1)=1,\"Boat 2\",IF(COUNTIF(Général!C116:D120,$G$1)=1,\"Boat 3\", IF(COUNTIF(Général!C116:E120,$G$1)=1,\"Boat 4\", IF(COUNTIF(Général!F116:F120,$G$1)=1,\"Boat 5\", IF(COUNTIF(Général!G116:G120,$G$1)=1,\"Boat 6\", IF(COUNTIF(Général!H116:H120,$G$1)=1,\"Boat 7\",IF(COUNTIF(Général!I116:I120,$G$1)=1,\"Boat 8\",IF(COUNTIF(Général!J116:J120,$G$1)=1,\"Boat 9\",\"Boat 10\")))))))))","v":"Boat 4"},{"$f":"IF(COUNTIF(Général!B124:B128,$G$1)=1,\"Boat 1\",IF(COUNTIF(Général!C124:C128,$G$1)=1,\"Boat 2\",IF(COUNTIF(Général!D124:D128,$G$1)=1,\"Boat 3\", IF(COUNTIF(Général!E124:E128,$G$1)=1,\"Boat 4\", IF(COUNTIF(Général!F124:F128,$G$1)=1,\"Boat 5\", IF(COUNTIF(Général!G124:G128,$G$1)=1,\"Boat 6\", IF(COUNTIF(Général!H124:H128,$G$1)=1,\"Boat 7\",IF(COUNTIF(Général!I124:I128,$G$1)=1,\"Boat 8\",IF(COUNTIF(Général!J124:J128,$G$1)=1,\"Boat 9\",\"Boat 10\")))))))))","v":"Boat 4"},{"$f":"IF(COUNTIF(Général!B132:B136,$G$1)=1,\"Boat 1\",IF(COUNTIF(Général!C132:C136,$G$1)=1,\"Boat 2\",IF(COUNTIF(Général!D134:D136,$G$1)=1,\"Boat 3\", IF(COUNTIF(Général!E132:E136,$G$1)=1,\"Boat 4\", IF(COUNTIF(Général!F132:F136,$G$1)=1,\"Boat 5\", IF(COUNTIF(Général!G132:G136,$G$1)=1,\"Boat 6\", IF(COUNTIF(Général!H132:H136,$G$1)=1,\"Boat 7\",IF(COUNTIF(Général!I132:I136,$G$1)=1,\"Boat 8\",IF(COUNTIF(Général!J132:J136,$G$1)=1,\"Boat 9\",\"Boat 10\")))))))))","v":"Boat 6"},{"$f":"IF(COUNTIF(Général!B140:B144,$G$1)=1,\"Boat 1\",IF(COUNTIF(Général!C140:C144,$G$1)=1,\"Boat 2\",IF(COUNTIF(Général!D140:D144,$G$1)=1,\"Boat 3\", IF(COUNTIF(Général!E140:E144,$G$1)=1,\"Boat 4\", IF(COUNTIF(Général!F140:F144,$G$1)=1,\"Boat 5\", IF(COUNTIF(Général!G140:G144,$G$1)=1,\"Boat 6\", IF(COUNTIF(Général!H140:H144,$G$1)=1,\"Boat 7\",IF(COUNTIF(Général!I140:I144,$G$1)=1,\"Boat 8\",IF(COUNTIF(Général!J140:J144,$G$1)=1,\"Boat 9\",\"Boat 10\")))))))))","v":"Boat 6"},{"$f":"IF(COUNTIF(Général!B148:B152,$G$1)=1,\"Boat 1\",IF(COUNTIF(Général!C148:C152,$G$1)=1,\"Boat 2\",IF(COUNTIF(Général!D148:D152,$G$1)=1,\"Boat 3\", IF(COUNTIF(Général!E148:E152,$G$1)=1,\"Boat 4\", IF(COUNTIF(Général!F148:F152,$G$1)=1,\"Boat 5\", IF(COUNTIF(Général!G148:G152,$G$1)=1,\"Boat 6\", IF(COUNTIF(Général!H148:H152,$G$1)=1,\"Boat 7\",IF(COUNTIF(Général!I148:I152,$G$1)=1,\"Boat 8\",IF(COUNTIF(Général!J148:J152,$G$1)=1,\"Boat 9\",\"Boat 10\")))))))))","v":"Boat 4"},{"$f":"IF(COUNTIF(Général!B156:B159,$G$1)=1,\"Boat 1\",IF(COUNTIF(Général!C156:C159,$G$1)=1,\"Boat 2\",IF(COUNTIF(Général!D156:D159,$G$1)=1,\"Boat 3\", IF(COUNTIF(Général!E156:E159,$G$1)=1,\"Boat 4\", IF(COUNTIF(Général!F156:F159,$G$1)=1,\"Boat 5\", IF(COUNTIF(Général!G156:G159,$G$1)=1,\"Boat 6\", IF(COUNTIF(Général!H156:H159,$G$1)=1,\"Boat 7\",IF(COUNTIF(Général!I156:I159,$G$1)=1,\"Boat 8\",IF(COUNTIF(Général!J156:J159,$G$1)=1,\"Boat 9\",\"Boat 10\")))))))))","v":"Boat 1"},{"$f":"IF(COUNTIF(Général!B162:B165,$G$1)=1,\"Boat 1\",IF(COUNTIF(Général!C162:C165,$G$1)=1,\"Boat 2\",IF(COUNTIF(Général!D162:D165,$G$1)=1,\"Boat 3\", IF(COUNTIF(Général!E162:E165,$G$1)=1,\"Boat 4\", IF(COUNTIF(Général!F162:F165,$G$1)=1,\"Boat 5\", IF(COUNTIF(Général!G162:G165,$G$1)=1,\"Boat 6\", IF(COUNTIF(Général!H162:H165,$G$1)=1,\"Boat 7\",IF(COUNTIF(Général!I162:I165,$G$1)=1,\"Boat 8\",IF(COUNTIF(Général!J162:J165,$G$1)=1,\"Boat 9\",\"Boat 10\")))))))))","v":"Boat 1"},{"$f":"IF(COUNTIF(Général!B168:B171,$G$1)=1,\"Boat 1\",IF(COUNTIF(Général!C168:C171,$G$1)=1,\"Boat 2\",IF(COUNTIF(Général!D168:D171,$G$1)=1,\"Boat 3\", IF(COUNTIF(Général!E168:E171,$G$1)=1,\"Boat 4\", IF(COUNTIF(Général!F168:F171,$G$1)=1,\"Boat 5\", IF(COUNTIF(Général!G168:G171,$G$1)=1,\"Boat 6\", IF(COUNTIF(Général!H168:H171,$G$1)=1,\"Boat 7\",IF(COUNTIF(Général!I168:I171,$G$1)=1,\"Boat 8\",IF(COUNTIF(Général!J168:J171,$G$1)=1,\"Boat 9\",\"Boat 10\")))))))))","v":"Boat 1"},null,{"$f":"Général!B8","v":"Equipage 6"},8]
[null,null,null,null,null,null,null,null,null,null,null,null,null,null,null,null,null,null,null,null,null,{"$f":"Général!B9","v":"Equipage 7"},9]
["1er Equipage",null,{"$f":"IF($C$5=\"Course 1\",Général!B36,IF($C$5=\"Course 2\",Général!B38,IF($C$5=\"Course 3\",Général!#REF!,Général!B40)))","v":"Equipage 9"},{"$f":"IF($D$5=\"Course 1\",Général!B44,IF($D$5=\"Course 2\",Général!B46,IF($D$5=\"Course 3\",Général!#REF!,Général!B48)))","v":"Equipage 7"},{"$f":"IF($E$5=\"Course 1\",Général!B52,IF($E$5=\"Course 2\",Général!B54,IF($E$5=\"Course 3\",Général!#REF!,Général!B56)))","v":"Equipage 5"},{"$f":"IF($F$5=\"Course 1\",Général!B$60,IF($F$5=\"Course 2\",Général!B$62,IF($F$5=\"Course 3\",Général!#REF!,Général!B$64)))","v":"Equipage 8"},{"$f":"IF($G$5=\"Course 1\",Général!B$68,IF($G$5=\"Course 2\",Général!B$70,IF($G$5=\"Course 3\",Général!#REF!,Général!B$72)))","v":"Equipage 8"},{"$f":"IF($H$5=\"Course 1\",Général!B$76,IF($H$5=\"Course 2\",Général!B$78,IF($H$5=\"Course 3\",Général!#REF!,Général!B$80)))","v":"Equipage 5"},{"$f":"IF($I$5=\"Course 1\",Général!B$84,IF($I$5=\"Course 2\",Général!B$86,IF($I$5=\"Course 3\",Général!#REF!,Général!B$88)))","v":"Equipage 8"},{"$f":"IF($J$5=\"Course 1\",Général!B$92,IF($J$5=\"Course 2\",Général!B$94,IF($J$5=\"Course 3\",Général!#REF!,Général!B$96)))","v":"Equipage 11"},{"$f":"IF($K$5=\"Course 1\",Général!B$100,IF($K$5=\"Course 2\",Général!B$102,IF($K$5=\"Course 3\",Général!#REF!,Général!B$104)))","v":"Equipage 5"},{"$f":"IF($L$5=\"Course 1\",Général!B$108,IF($L$5=\"Course 2\",Général!B$110,IF($L$5=\"Course 3\",Général!#REF!,Général!B$112)))","v":"Equipage 4"},{"$f":"IF($M$5=\"Course 1\",Général!B$116,IF($M$5=\"Course 2\",Général!B$118,IF($M$5=\"Course 3\",Général!#REF!,Général!B$120)))","v":"Equipage 7"},{"$f":"IF($N$5=\"Course 1\",Général!B$124,IF($N$5=\"Course 2\",Général!B$126,IF($N$5=\"Course 3\",Général!#REF!,Général!B$128)))","v":"Equipage 7"},{"$f":"IF($O$5=\"Course 1\",Général!B$132,IF($O$5=\"Course 2\",Général!B$134,IF($O$5=\"Course 3\",Général!#REF!,Général!B$136)))","v":"Equipage 9"},{"$f":"IF($P$5=\"Course 1\",Général!B$140,IF($P$5=\"Course 2\",Général!B$142,IF($P$5=\"Course 3\",Général!#REF!,Général!B$144)))","v":"Equipage 6"},{"$f":"IF($Q$5=\"Course 1\",Général!B$148,IF($Q$5=\"Course 2\",Général!B$150,IF($Q$5=\"Course 3\",Général!#REF!,Général!B$152)))","v":"Equipage 12"},{"$f":"IF($R$5=\"Course 1\",Général!B$156,IF($R$5=\"Course 2\",Général!B$158,IF($R$5=\"Course 3\",Général!B$160,Général!B$162)))","v":"Equipage 8"},null,null,null,{"$f":"Général!B10","v":"Equipage 8"},16]
["2nd Equipage",null,{"$f":"IF($C$5=\"Course 1\",Général!C36,IF($C$5=\"Course 2\",Général!C38,IF($C$5=\"Course 3\",Général!#REF!,Général!C40)))","v":"Equipage 3"},{"$f":"IF($D$5=\"Course 1\",Général!C44,IF($D$5=\"Course 2\",Général!C46,IF($D$5=\"Course 3\",Général!#REF!,Général!C48)))","v":"Equipage 5"},{"$f":"IF($E$5=\"Course 1\",Général!C52,IF($E$5=\"Course 2\",Général!C54,IF($E$5=\"Course 3\",Général!#REF!,Général!C56)))","v":"Equipage 11"},{"$f":"IF($F$5=\"Course 1\",Général!C$60,IF($F$5=\"Course 2\",Général!C$62,IF($F$5=\"Course 3\",Général!#REF!,Général!C$64)))","v":"Equipage 3"},{"$f":"IF($G$5=\"Course 1\",Général!C$68,IF($G$5=\"Course 2\",Général!C$70,IF($G$5=\"Course 3\",Général!#REF!,Général!C$72)))","v":"Equipage 1"},{"$f":"IF($H$5=\"Course 1\",Général!C$76,IF($H$5=\"Course 2\",Général!C$78,IF($H$5=\"Course 3\",Général!#REF!,Général!C$80)))","v":"Equipage 6"},{"$f":"IF($I$5=\"Course 1\",Général!C$84,IF($I$5=\"Course 2\",Général!C$86,IF($I$5=\"Course 3\",Général!#REF!,Général!C$88)))","v":"Equipage 10"},{"$f":"IF($J$5=\"Course 1\",Général!C$92,IF($J$5=\"Course 2\",Général!C$94,IF($J$5=\"Course 3\",Général!#REF!,Général!C$96)))","v":"Equipage 8"},{"$f":"IF($K$5=\"Course 1\",Général!C$100,IF($K$5=\"Course 2\",Général!C$102,IF($K$5=\"Course 3\",Général!#REF!,Général!C$104)))","v":"Equipage 8"},{"$f":"IF($L$5=\"Course 1\",Général!C$108,IF($L$5=\"Course 2\",Général!C$110,IF($L$5=\"Course 3\",Général!#REF!,Général!C$112)))","v":"Equipage 8"},{"$f":"IF($M$5=\"Course 1\",Général!C$116,IF($M$5=\"Course 2\",Général!C$118,IF($M$5=\"Course 3\",Général!#REF!,Général!C$120)))","v":"Equipage 1"},{"$f":"IF($N$5=\"Course 1\",Général!C$124,IF($N$5=\"Course 2\",Général!C$126,IF($N$5=\"Course 3\",Général!#REF!,Général!C$128)))","v":"Equipage 9"},{"$f":"IF($O$5=\"Course 1\",Général!C$132,IF($O$5=\"Course 2\",Général!C$134,IF($O$5=\"Course 3\",Général!#REF!,Général!C$136)))","v":"Equipage 2"},{"$f":"IF($P$5=\"Course 1\",Général!C$140,IF($P$5=\"Course 2\",Général!C$142,IF($P$5=\"Course 3\",Général!#REF!,Général!C$144)))","v":"Equipage 2"},{"$f":"IF($Q$5=\"Course 1\",Général!C$148,IF($Q$5=\"Course 2\",Général!C$150,IF($Q$5=\"Course 3\",Général!#REF!,Général!C$152)))","v":"Equipage 11"},{"$f":"IF($R$5=\"Course 1\",Général!C$156,IF($R$5=\"Course 2\",Général!C$158,IF($R$5=\"Course 3\",Général!C$160,Général!C$162)))","v":"Equipage 12"},null,null,null,{"$f":"Général!B11","v":"Equipage 9"},4]
["3ème Equipage",null,{"$f":"IF($C$5=\"Course 1\",Général!D36,IF($C$5=\"Course 2\",Général!D38,IF($C$5=\"Course 3\",Général!#REF!,Général!D40)))","v":"Equipage 12"},{"$f":"IF($D$5=\"Course 1\",Général!D44,IF($D$5=\"Course 2\",Général!D46,IF($D$5=\"Course 3\",Général!#REF!,Général!D48)))","v":"Equipage 6"},{"$f":"IF($E$5=\"Course 1\",Général!D52,IF($E$5=\"Course 2\",Général!D54,IF($E$5=\"Course 3\",Général!#REF!,Général!D56)))","v":"Equipage 8"},{"$f":"IF($F$5=\"Course 1\",Général!D$60,IF($F$5=\"Course 2\",Général!D$62,IF($F$5=\"Course 3\",Général!#REF!,Général!D$64)))","v":"Equipage 6"},{"$f":"IF($G$5=\"Course 1\",Général!D$68,IF($G$5=\"Course 2\",Général!D$70,IF($G$5=\"Course 3\",Général!#REF!,Général!D$72)))","v":"Equipage 7"},{"$f":"IF($H$5=\"Course 1\",Général!D$76,IF($H$5=\"Course 2\",Général!D$78,IF($H$5=\"Course 3\",Général!#REF!,Général!D$80)))","v":"Equipage 9"},{"$f":"IF($I$5=\"Course 1\",Général!D$84,IF($I$5=\"Course 2\",Général!D$86,IF($I$5=\"Course 3\",Général!#REF!,Général!D$88)))","v":"Equipage 11"},{"$f":"IF($J$5=\"Course 1\",Général!D$92,IF($J$5=\"Course 2\",Général!D$94,IF($J$5=\"Course 3\",Général!#REF!,Général!D$96)))","v":"Equipage 4"},{"$f":"IF($K$5=\"Course 1\",Général!D$100,IF($K$5=\"Course 2\",Général!D$102,IF($K$5=\"Course 3\",Général!#REF!,Général!D$104)))","v":"Equipage 3"},{"$f":"IF($L$5=\"Course 1\",Général!D$108,IF($L$5=\"Course 2\",Général!D$110,IF($L$5=\"Course 3\",Général!#REF!,Général!D$112)))","v":"Equipage 12"},{"$f":"IF($M$5=\"Course 1\",Général!D$116,IF($M$5=\"Course 2\",Général!D$118,IF($M$5=\"Course 3\",Général!#REF!,Général!D$120)))","v":"Equipage 2"},{"$f":"IF($N$5=\"Course 1\",Général!D$124,IF($N$5=\"Course 2\",Général!D$126,IF($N$5=\"Course 3\",Général!#REF!,Général!D$128)))","v":"Equipage 2"},{"$f":"IF($O$5=\"Course 1\",Général!D$132,IF($O$5=\"Course 2\",Général!D$134,IF($O$5=\"Course 3\",Général!#REF!,Général!D$136)))","v":"Equipage 12"},{"$f":"IF($P$5=\"Course 1\",Général!D$140,IF($P$5=\"Course 2\",Général!D$142,IF($P$5=\"Course 3\",Général!#REF!,Général!D$144)))","v":"Equipage 12"},{"$f":"IF($Q$5=\"Course 1\",Général!D$148,IF($Q$5=\"Course 2\",Général!D$150,IF($Q$5=\"Course 3\",Général!#REF!,Général!D$152)))","v":"Equipage 5"},{"$f":"IF($R$5=\"Course 1\",Général!D$156,IF($R$5=\"Course 2\",Général!D$158,IF($R$5=\"Course 3\",Général!D$160,Général!D$162)))","v":"Equipage 2"},null,null,null,{"$f":"Général!B12","v":"Equipage 10"},5]
["4ème Equipage",null,{"$f":"IF($C$5=\"Course 1\",Général!E36,IF($C$5=\"Course 2\",Général!E38,IF($C$5=\"Course 3\",Général!#REF!,Général!E40)))","v":"Equipage 4"},{"$f":"IF($D$5=\"Course 1\",Général!E44,IF($D$5=\"Course 2\",Général!E46,IF($D$5=\"Course 3\",Général!#REF!,Général!E48)))","v":"Equipage 4"},{"$f":"IF($E$5=\"Course 1\",Général!E52,IF($E$5=\"Course 2\",Général!E54,IF($E$5=\"Course 3\",Général!#REF!,Général!E56)))","v":"Equipage 10"},{"$f":"IF($F$5=\"Course 1\",Général!E$60,IF($F$5=\"Course 2\",Général!E$62,IF($F$5=\"Course 3\",Général!#REF!,Général!E$64)))","v":"Equipage 7"},{"$f":"IF($G$5=\"Course 1\",Général!E$68,IF($G$5=\"Course 2\",Général!E$70,IF($G$5=\"Course 3\",Général!#REF!,Général!E$72)))","v":"Equipage 3"},{"$f":"IF($H$5=\"Course 1\",Général!E$76,IF($H$5=\"Course 2\",Général!E$78,IF($H$5=\"Course 3\",Général!#REF!,Général!E$80)))","v":"Equipage 11"},{"$f":"IF($I$5=\"Course 1\",Général!E$84,IF($I$5=\"Course 2\",Général!E$86,IF($I$5=\"Course 3\",Général!#REF!,Général!E$88)))","v":"Equipage 12"},{"$f":"IF($J$5=\"Course 1\",Général!E$92,IF($J$5=\"Course 2\",Général!E$94,IF($J$5=\"Course 3\",Général!#REF!,Général!E$96)))","v":"Equipage 1"},{"$f":"IF($K$5=\"Course 1\",Général!E$100,IF($K$5=\"Course 2\",Général!E$102,IF($K$5=\"Course 3\",Général!#REF!,Général!E$104)))","v":"Equipage 2"},{"$f":"IF($L$5=\"Course 1\",Général!E$108,IF($L$5=\"Course 2\",Général!E$110,IF($L$5=\"Course 3\",Général!#REF!,Général!E$112)))","v":"Equipage 11"},{"$f":"IF($M$5=\"Course 1\",Général!E$116,IF($M$5=\"Course 2\",Général!E$118,IF($M$5=\"Course 3\",Général!#REF!,Général!E$120)))","v":"Equipage 8"},{"$f":"IF($N$5=\"Course 1\",Général!E$124,IF($N$5=\"Course 2\",Général!E$126,IF($N$5=\"Course 3\",Général!#REF!,Général!E$128)))","v":"Equipage 8"},{"$f":"IF($O$5=\"Course 1\",Général!E$132,IF($O$5=\"Course 2\",Général!E$134,IF($O$5=\"Course 3\",Général!#REF!,Général!E$136)))","v":"Equipage 1"},{"$f":"IF($P$5=\"Course 1\",Général!E$140,IF($P$5=\"Course 2\",Général!E$142,IF($P$5=\"Course 3\",Général!#REF!,Général!E$144)))","v":"Equipage 7"},{"$f":"IF($Q$5=\"Course 1\",Général!E$148,IF($Q$5=\"Course 2\",Général!E$150,IF($Q$5=\"Course 3\",Général!#REF!,Général!E$152)))","v":"Equipage 8"},{"$f":"IF($R$5=\"Course 1\",Général!E$156,IF($R$5=\"Course 2\",Général!E$158,IF($R$5=\"Course 3\",Général!E$160,Général!E$162)))","v":"Equipage 5"},null,null,null,{"$f":"Général!B13","v":"Equipage 11"},6]
["5ème Equipage",null,{"$f":"IF($C$5=\"Course 1\",Général!F36,IF($C$5=\"Course 2\",Général!F38,IF($C$5=\"Course 3\",Général!#REF!,Général!F40)))","v":"Equipage 8"},{"$f":"IF($D$5=\"Course 1\",Général!F44,IF($D$5=\"Course 2\",Général!F46,IF($D$5=\"Course 3\",Général!#REF!,Général!F48)))","v":"Equipage 8"},{"$f":"IF($E$5=\"Course 1\",Général!F52,IF($E$5=\"Course 2\",Général!F54,IF($E$5=\"Course 3\",Général!#REF!,Général!F56)))","v":"Equipage 7"},{"$f":"IF($F$5=\"Course 1\",Général!F$60,IF($F$5=\"Course 2\",Général!F$62,IF($F$5=\"Course 3\",Général!#REF!,Général!F$64)))","v":"Equipage 2"},{"$f":"IF($G$5=\"Course 1\",Général!F$68,IF($G$5=\"Course 2\",Général!F$70,IF($G$5=\"Course 3\",Général!#REF!,Général!F$72)))","v":"Equipage 6"},{"$f":"IF($H$5=\"Course 1\",Général!F$76,IF($H$5=\"Course 2\",Général!F$78,IF($H$5=\"Course 3\",Général!#REF!,Général!F$80)))","v":"Equipage 8"},{"$f":"IF($I$5=\"Course 1\",Général!F$84,IF($I$5=\"Course 2\",Général!F$86,IF($I$5=\"Course 3\",Général!#REF!,Général!F$88)))","v":"Equipage 5"},{"$f":"IF($J$5=\"Course 1\",Général!F$92,IF($J$5=\"Course 2\",Général!F$94,IF($J$5=\"Course 3\",Général!#REF!,Général!F$96)))","v":"Equipage 12"},{"$f":"IF($K$5=\"Course 1\",Général!F$100,IF($K$5=\"Course 2\",Général!F$102,IF($K$5=\"Course 3\",Général!#REF!,Général!F$104)))","v":"Equipage 10"},{"$f":"IF($L$5=\"Course 1\",Général!F$108,IF($L$5=\"Course 2\",Général!$F110,IF($L$5=\"Course 3\",Général!#REF!,Général!F$112)))","v":"Equipage 10"},{"$f":"IF($M$5=\"Course 1\",Général!F$116,IF($M$5=\"Course 2\",Général!F$118,IF($M$5=\"Course 3\",Général!#REF!,Général!F$120)))","v":"Equipage 3"},{"$f":"IF($N$5=\"Course 1\",Général!F$124,IF($N$5=\"Course 2\",Général!F$126,IF($N$5=\"Course 3\",Général!#REF!,Général!F$128)))","v":"Equipage 5"},{"$f":"IF($O$5=\"Course 1\",Général!F$132,IF($O$5=\"Course 2\",Général!F$134,IF($O$5=\"Course 3\",Général!#REF!,Général!F$136)))","v":"Equipage 4"},{"$f":"IF($P$5=\"Course 1\",Général!F$140,IF($P$5=\"Course 2\",Général!F$142,IF($P$5=\"Course 3\",Général!#REF!,Général!F$144)))","v":"Equipage 4"},{"$f":"IF($Q$5=\"Course 1\",Général!F$148,IF($Q$5=\"Course 2\",Général!F$150,IF($Q$5=\"Course 3\",Général!#REF!,Général!F$152)))","v":"Equipage 2"},{"$f":"IF($R$5=\"Course 1\",Général!F$156,IF($R$5=\"Course 2\",Général!F$158,IF($R$5=\"Course 3\",Général!F$160,Général!F$162)))","v":"Equipage 7"},null,null,null,{"$f":"Général!B14","v":"Equipage 12"},9]
["6ème Equipage",null,{"$f":"IF($C$5=\"Course 1\",Général!G36,IF($C$5=\"Course 2\",Général!G38,IF($C$5=\"Course 3\",Général!#REF!,Général!G40)))","v":"Equipage 1"},{"$f":"IF($D$5=\"Course 1\",Général!G44,IF($D$5=\"Course 2\",Général!G46,IF($D$5=\"Course 3\",Général!#REF!,Général!G48)))","v":"Equipage 10"},{"$f":"IF($E$5=\"Course 1\",Général!G52,IF($E$5=\"Course 2\",Général!G54,IF($E$5=\"Course 3\",Général!#REF!,Général!G56)))","v":"Equipage 2"},{"$f":"IF($F$5=\"Course 1\",Général!G$60,IF($F$5=\"Course 2\",Général!G$62,IF($F$5=\"Course 3\",Général!#REF!,Général!G$64)))","v":"Equipage 5"},{"$f":"IF($G$5=\"Course 1\",Général!G$68,IF($G$5=\"Course 2\",Général!G$70,IF($G$5=\"Course 3\",Général!#REF!,Général!G$72)))","v":"Equipage 12"},{"$f":"IF($H$5=\"Course 1\",Général!G$76,IF($H$5=\"Course 2\",Général!G$78,IF($H$5=\"Course 3\",Général!#REF!,Général!G$80)))","v":"Equipage 7"},{"$f":"IF($I$5=\"Course 1\",Général!G$84,IF($I$5=\"Course 2\",Général!G$86,IF($I$5=\"Course 3\",Général!#REF!,Général!G$88)))","v":"Equipage 2"},{"$f":"IF($J$5=\"Course 1\",Général!G$92,IF($J$5=\"Course 2\",Général!G$94,IF($J$5=\"Course 3\",Général!#REF!,Général!G$96)))","v":"Equipage 6"},{"$f":"IF($K$5=\"Course 1\",Général!G$100,IF($K$5=\"Course 2\",Général!G$102,IF($K$5=\"Course 3\",Général!#REF!,Général!G$104)))","v":"Equipage 6"},{"$f":"IF($L$5=\"Course 1\",Général!G$108,IF($L$5=\"Course 2\",Général!G$110,IF($L$5=\"Course 3\",Général!#REF!,Général!G$112)))","v":"Equipage 6"},{"$f":"IF($M$5=\"Course 1\",Général!G$116,IF($M$5=\"Course 2\",Général!G$118,IF($M$5=\"Course 3\",Général!#REF!,Général!G$120)))","v":"Equipage 4"},{"$f":"IF($N$5=\"Course 1\",Général!G$124,IF($N$5=\"Course 2\",Général!G$126,IF($N$5=\"Course 3\",Général!#REF!,Général!G$128)))","v":"Equipage 4"},{"$f":"IF($O$5=\"Course 1\",Général!G$132,IF($O$5=\"Course 2\",Général!G$134,IF($O$5=\"Course 3\",Général!#REF!,Général!G$136)))","v":"Equipage 8"},{"$f":"IF($P$5=\"Course 1\",Général!G$140,IF($P$5=\"Course 2\",Général!G$142,IF($P$5=\"Course 3\",Général!#REF!,Général!G$144)))","v":"Equipage 8"},{"$f":"IF($Q$5=\"Course 1\",Général!G$148,IF($Q$5=\"Course 2\",Général!G$150,IF($Q$5=\"Course 3\",Général!#REF!,Général!G$152)))","v":"Equipage 4"},{"$f":"IF($R$5=\"Course 1\",Général!G$156,IF($R$5=\"Course 2\",Général!G$158,IF($R$5=\"Course 3\",Général!G$160,Général!G$162)))","v":"Equipage 1"},null,null,null,{"$f":"Général!B15","v":"Equipage 13"},0]
["7ème Equipage",null,{"$f":"IF($C$5=\"Course 1\",Général!H36,IF($C$5=\"Course 2\",Général!H38,IF($C$5=\"Course 3\",Général!#REF!,Général!H40)))","v":0},{"$f":"IF($D$5=\"Course 1\",Général!H44,IF($D$5=\"Course 2\",Général!H46,IF($D$5=\"Course 3\",Général!#REF!,Général!H48)))","v":0},{"$f":"IF($E$5=\"Course 1\",Général!H52,IF($E$5=\"Course 2\",Général!H54,IF($E$5=\"Course 3\",Général!#REF!,Général!H56)))","v":0},{"$f":"IF($F$5=\"Course 1\",Général!H$60,IF($F$5=\"Course 2\",Général!H$62,IF($F$5=\"Course 3\",Général!#REF!,Général!H$64)))","v":0},{"$f":"IF($G$5=\"Course 1\",Général!H$68,IF($G$5=\"Course 2\",Général!H$70,IF($G$5=\"Course 3\",Général!#REF!,Général!H$72)))","v":0},{"$f":"IF($H$5=\"Course 1\",Général!H$76,IF($H$5=\"Course 2\",Général!H$78,IF($H$5=\"Course 3\",Général!#REF!,Général!H$80)))","v":0},{"$f":"IF($I$5=\"Course 1\",Général!H$84,IF($I$5=\"Course 2\",Général!H$86,IF($I$5=\"Course 3\",Général!#REF!,Général!H$88)))","v":0},{"$f":"IF($J$5=\"Course 1\",Général!H$92,IF($J$5=\"Course 2\",Général!H$94,IF($J$5=\"Course 3\",Général!#REF!,Général!H$96)))","v":0},{"$f":"IF($K$5=\"Course 1\",Général!H$100,IF($K$5=\"Course 2\",Général!H$102,IF($K$5=\"Course 3\",Général!#REF!,Général!H$104)))","v":0},{"$f":"IF($L$5=\"Course 1\",Général!H$108,IF($L$5=\"Course 2\",Général!H$110,IF($L$5=\"Course 3\",Général!#REF!,Général!H$112)))","v":0},{"$f":"IF($M$5=\"Course 1\",Général!H$116,IF($M$5=\"Course 2\",Général!H$118,IF($M$5=\"Course 3\",Général!#REF!,Général!H$120)))","v":0},{"$f":"IF($N$5=\"Course 1\",Général!H$124,IF($N$5=\"Course 2\",Général!H$126,IF($N$5=\"Course 3\",Général!#REF!,Général!H$128)))","v":0},{"$f":"IF($O$5=\"Course 1\",Général!H$132,IF($O$5=\"Course 2\",Général!H$134,IF($O$5=\"Course 3\",Général!#REF!,Général!H$136)))","v":0},{"$f":"IF($P$5=\"Course 1\",Général!H$140,IF($P$5=\"Course 2\",Général!H$142,IF($P$5=\"Course 3\",Général!#REF!,Général!H$144)))","v":0},{"$f":"IF($Q$5=\"Course 1\",Général!H$148,IF($Q$5=\"Course 2\",Général!H$150,IF($Q$5=\"Course 3\",Général!#REF!,Général!H$152)))","v":0},{"$f":"IF($R$5=\"Course 1\",Général!H$156,IF($R$5=\"Course 2\",Général!H$158,IF($R$5=\"Course 3\",Général!H$160,Général!H$162)))","v":0},null,null,null,{"$f":"Général!B16","v":"Equipage 14"},0]
["8ème Equipage",null,{"$f":"IF($C$5=\"Course 1\",Général!I36,IF($C$5=\"Course 2\",Général!I38,IF($C$5=\"Course 3\",Général!#REF!,Général!I40)))","v":0},{"$f":"IF($D$5=\"Course 1\",Général!I44,IF($D$5=\"Course 2\",Général!I46,IF($D$5=\"Course 3\",Général!#REF!,Général!I48)))","v":0},{"$f":"IF($E$5=\"Course 1\",Général!I52,IF($E$5=\"Course 2\",Général!I54,IF($E$5=\"Course 3\",Général!#REF!,Général!I56)))","v":0},{"$f":"IF($F$5=\"Course 1\",Général!I$60,IF($F$5=\"Course 2\",Général!I$62,IF($F$5=\"Course 3\",Général!#REF!,Général!I$64)))","v":0},{"$f":"IF($G$5=\"Course 1\",Général!I$68,IF($G$5=\"Course 2\",Général!I$70,IF($G$5=\"Course 3\",Général!#REF!,Général!I$72)))","v":0},{"$f":"IF($H$5=\"Course 1\",Général!I$76,IF($H$5=\"Course 2\",Général!I$78,IF($H$5=\"Course 3\",Général!#REF!,Général!I$80)))","v":0},{"$f":"IF($I$5=\"Course 1\",Général!I$84,IF($I$5=\"Course 2\",Général!I$86,IF($I$5=\"Course 3\",Général!#REF!,Général!I$88)))","v":0},{"$f":"IF($J$5=\"Course 1\",Général!I$92,IF($J$5=\"Course 2\",Général!I$94,IF($J$5=\"Course 3\",Général!#REF!,Général!I$96)))","v":0},{"$f":"IF($K$5=\"Course 1\",Général!I$100,IF($K$5=\"Course 2\",Général!I$102,IF($K$5=\"Course 3\",Général!#REF!,Général!I$104)))","v":0},{"$f":"IF($L$5=\"Course 1\",Général!I$108,IF($L$5=\"Course 2\",Général!I$110,IF($L$5=\"Course 3\",Général!#REF!,Général!I$112)))","v":0},{"$f":"IF($M$5=\"Course 1\",Général!I$116,IF($M$5=\"Course 2\",Général!I$118,IF($M$5=\"Course 3\",Général!#REF!,Général!I$120)))","v":0},{"$f":"IF($N$5=\"Course 1\",Général!I$124,IF($N$5=\"Course 2\",Général!I$126,IF($N$5=\"Course 3\",Général!#REF!,Général!I$128)))","v":0},{"$f":"IF($O$5=\"Course 1\",Général!I$132,IF($O$5=\"Course 2\",Général!I$134,IF($O$5=\"Course 3\",Général!#REF!,Général!I$136)))","v":0},{"$f":"IF($P$5=\"Course 1\",Général!I$140,IF($P$5=\"Course 2\",Général!I$142,IF($P$5=\"Course 3\",Général!#REF!,Général!I$144)))","v":0},{"$f":"IF($Q$5=\"Course 1\",Général!I$148,IF($Q$5=\"Course 2\",Général!I$150,IF($Q$5=\"Course 3\",Général!#REF!,Général!I$152)))","v":0},{"$f":"IF($R$5=\"Course 1\",Général!I$156,IF($R$5=\"Course 2\",Général!I$158,IF($R$5=\"Course 3\",Général!I$160,Général!I$162)))","v":0},null,null,null,{"$f":"Général!B17","v":"Equipage 15"},0]
["9ème Equipage",null,{"$f":"IF($C$5=\"Course 1\",Général!J36,IF($C$5=\"Course 2\",Général!J38,IF($C$5=\"Course 3\",Général!#REF!,Général!J40)))","v":0},{"$f":"IF($D$5=\"Course 1\",Général!J44,IF($D$5=\"Course 2\",Général!J46,IF($D$5=\"Course 3\",Général!#REF!,Général!J48)))","v":0},{"$f":"IF($E$5=\"Course 1\",Général!J52,IF($E$5=\"Course 2\",Général!J54,IF($E$5=\"Course 3\",Général!#REF!,Général!J56)))","v":0},{"$f":"IF($F$5=\"Course 1\",Général!J$60,IF($F$5=\"Course 2\",Général!J$62,IF($F$5=\"Course 3\",Général!#REF!,Général!J$64)))","v":0},{"$f":"IF($G$5=\"Course 1\",Général!J$68,IF($G$5=\"Course 2\",Général!J$70,IF($G$5=\"Course 3\",Général!#REF!,Général!J$72)))","v":0},{"$f":"IF($H$5=\"Course 1\",Général!J$76,IF($H$5=\"Course 2\",Général!J$78,IF($H$5=\"Course 3\",Général!#REF!,Général!J$80)))","v":0},{"$f":"IF($I$5=\"Course 1\",Général!J$84,IF($I$5=\"Course 2\",Général!J$86,IF($I$5=\"Course 3\",Général!#REF!,Général!J$88)))","v":0},{"$f":"IF($J$5=\"Course 1\",Général!J$92,IF($J$5=\"Course 2\",Général!J$94,IF($J$5=\"Course 3\",Général!#REF!,Général!J$96)))","v":0},{"$f":"IF($K$5=\"Course 1\",Général!J$100,IF($K$5=\"Course 2\",Général!J$102,IF($K$5=\"Course 3\",Général!#REF!,Général!J$104)))","v":0},{"$f":"IF($L$5=\"Course 1\",Général!J$108,IF($L$5=\"Course 2\",Général!J$110,IF($L$5=\"Course 3\",Général!#REF!,Général!J$112)))","v":0},{"$f":"IF($M$5=\"Course 1\",Général!J$116,IF($M$5=\"Course 2\",Général!J$118,IF($M$5=\"Course 3\",Général!#REF!,Général!J$120)))","v":0},{"$f":"IF($N$5=\"Course 1\",Général!J$124,IF($N$5=\"Course 2\",Général!J$126,IF($N$5=\"Course 3\",Général!#REF!,Général!J$128)))","v":0},{"$f":"IF($O$5=\"Course 1\",Général!J$132,IF($O$5=\"Course 2\",Général!J$134,IF($O$5=\"Course 3\",Général!#REF!,Général!J$136)))","v":0},{"$f":"IF($P$5=\"Course 1\",Général!J$140,IF($P$5=\"Course 2\",Général!J$142,IF($P$5=\"Course 3\",Général!#REF!,Général!J$144)))","v":0},{"$f":"IF($Q$5=\"Course 1\",Général!J$148,IF($Q$5=\"Course 2\",Général!J$150,IF($Q$5=\"Course 3\",Général!#REF!,Général!J$152)))","v":0},{"$f":"IF($R$5=\"Course 1\",Général!J$156,IF($R$5=\"Course 2\",Général!J$158,IF($R$5=\"Course 3\",Général!J$160,Général!J$162)))","v":0},null,null,null,{"$f":"Général!B18","v":"Equipage 16"},0]
["10ème Equipage",null,{"$f":"IF($C$5=\"Course 1\",Général!K36,IF($C$5=\"Course 2\",Général!K38,IF($C$5=\"Course 3\",Général!#REF!,Général!K40)))","v":0},{"$f":"IF($D$5=\"Course 1\",Général!K44,IF($D$5=\"Course 2\",Général!K46,IF($D$5=\"Course 3\",Général!#REF!,Général!K48)))","v":0},{"$f":"IF($E$5=\"Course 1\",Général!K52,IF($E$5=\"Course 2\",Général!K54,IF($E$5=\"Course 3\",Général!#REF!,Général!K56)))","v":0},{"$f":"IF($F$5=\"Course 1\",Général!K$60,IF($F$5=\"Course 2\",Général!K$62,IF($F$5=\"Course 3\",Général!#REF!,Général!K$64)))","v":0},{"$f":"IF($G$5=\"Course 1\",Général!K$68,IF($G$5=\"Course 2\",Général!K$70,IF($G$5=\"Course 3\",Général!#REF!,Général!K$72)))","v":0},{"$f":"IF($H$5=\"Course 1\",Général!K$76,IF($H$5=\"Course 2\",Général!K$78,IF($H$5=\"Course 3\",Général!#REF!,Général!K$80)))","v":0},{"$f":"IF($I$5=\"Course 1\",Général!K$84,IF($I$5=\"Course 2\",Général!K$86,IF($I$5=\"Course 3\",Général!#REF!,Général!K$88)))","v":0},{"$f":"IF($J$5=\"Course 1\",Général!K$92,IF($J$5=\"Course 2\",Général!K$94,IF($J$5=\"Course 3\",Général!#REF!,Général!K$96)))","v":0},{"$f":"IF($K$5=\"Course 1\",Général!K$100,IF($K$5=\"Course 2\",Général!K$102,IF($K$5=\"Course 3\",Général!#REF!,Général!K$104)))","v":0},{"$f":"IF($L$5=\"Course 1\",Général!K$108,IF($L$5=\"Course 2\",Général!K$110,IF($L$5=\"Course 3\",Général!#REF!,Général!K$112)))","v":0},{"$f":"IF($M$5=\"Course 1\",Général!K$116,IF($M$5=\"Course 2\",Général!K$118,IF($M$5=\"Course 3\",Général!#REF!,Général!K$120)))","v":0},{"$f":"IF($N$5=\"Course 1\",Général!K$124,IF($N$5=\"Course 2\",Général!K$126,IF($N$5=\"Course 3\",Général!#REF!,Général!K$128)))","v":0},{"$f":"IF($O$5=\"Course 1\",Général!K$132,IF($O$5=\"Course 2\",Général!K$134,IF($O$5=\"Course 3\",Général!#REF!,Général!K$136)))","v":0},{"$f":"IF($P$5=\"Course 1\",Général!K$140,IF($P$5=\"Course 2\",Général!K$142,IF($P$5=\"Course 3\",Général!#REF!,Général!K$144)))","v":0},{"$f":"IF($Q$5=\"Course 1\",Général!K$148,IF($Q$5=\"Course 2\",Général!K$150,IF($Q$5=\"Course 3\",Général!#REF!,Général!K$152)))","v":0},{"$f":"IF($R$5=\"Course 1\",Général!K$156,IF($R$5=\"Course 2\",Général!K$158,IF($R$5=\"Course 3\",Général!K$160,Général!K$162)))","v":0},null,null,null,{"$f":"Général!B19","v":"Equipage 17"},0]
[null,null,null,null,null,null,null,null,null,null,null,null,null,null,null,null,null,null,null,null,null,{"$f":"Général!B20","v":"Equipage 18"},0]
[null,null,null,null,null,null,null,null,null,null,null,null,null,null,null,null,null,null,null,null,null,{"$f":"Général!B21","v":"Equipage 19"},{"$f":"COUNTIF($C$8:$R$17,V19)","v":0}]
[null,null,null,null,null,null,null,null,null,null,null,null,null,null,null,null,null,null,null,null,null,{"$f":"Général!B22","v":"Equipage 20"},0]
[null,null,null,null,null,null,null,null,null,null,null,null,null,null,null,null,null,null,null,null,null,{"$f":"Général!B23","v":"Equipage 21"},0]
[null,null,null,null,null,null,null,null,null,null,null,null,null,null,null,null,null,null,null,null,null,{"$f":"Général!B24","v":"Equipage 22"},0]
[null,null,null,null,null,null,null,null,null,null,null,null,null,null,null,null,null,null,null,null,null,{"$f":"Général!B25","v":"Equipage 23"},0]
[null,null,null,null,null,null,null,null,null,null,null,null,null,null,null,null,null,null,null,null,null,{"$f":"Général!B26","v":"Equipage 24"},0]
[null,null,null,null,null,null,null,null,null,null,null,null,null,null,null,null,null,null,null,null,null,{"$f":"Général!B27","v":"Equipage 25"},0]
[null,null,null,null,null,null,null,null,null,null,null,null,null,null,null,null,null,null,null,null,null,{"$f":"Général!B28","v":"Equipage 26"},0]
[null,null,null,null,null,null,null,null,null,null,null,null,null,null,null,null,null,null,null,null,null,{"$f":"Général!B29","v":"Equipage 27"},0]
[null,null,null,null,null,null,null,null,null,null,null,null,null,null,null,null,null,null,null,null,null,{"$f":"Général!B30","v":"Equipage 28"},0]
[null,null,null,null,null,null,null,null,null,null,null,null,null,null,null,null,null,null,null,null,null,{"$f":"Général!B31","v":"Equipage 29"},0]
[null,null,null,null,null,null,null,null,null,null,null,null,null,null,null,null,null,null,null,null,null,{"$f":"Général!B32","v":"Equipage 30"},0]

{"sheet":"Eq.9","index":13,"n_rows":30,"n_cols":23,"rows_kept":30,"cut":false,"hidden":true,"merged":[[7,0,7,1],[0,0,1,5],[0,6,1,10],[3,0,3,1],[4,0,4,1],[5,0,5,1],[14,0,14,1],[15,0,15,1],[16,0,16,1],[8,0,8,1],[9,0,9,1],[10,0,10,1],[11,0,11,1],[12,0,12,1],[13,0,13,1]]}
["Equipage ",null,null,null,null,null,{"$f":"Général!B11","v":"Equipage 9"},null,null,null,null,null,null,null,null,null,null,null,null,null,null,{"$f":"Général!B3","v":"Equipage 1"},{"$f":"COUNTIF(C$8:R$17,V1)","v":10}]
[null,null,null,null,null,null,null,null,null,null,null,null,null,null,null,null,null,null,null,null,null,{"$f":"Général!B4","v":"Equipage 2"},{"$f":"COUNTIF($C$8:$R$17,V2)","v":6}]
[null,null,null,null,null,null,null,null,null,null,null,null,null,null,null,null,null,null,null,null,null,{"$f":"Général!B5","v":"Equipage 3"},{"$f":"COUNTIF($C$8:$R$17,V3)","v":9}]
[null,null,"FLIGHT 1","FLIGHT 2","FLIGHT 3","FLIGHT 4","FLIGHT 5","FLIGHT 6","FLIGHT 7","FLIGHT 8","FLIGHT 9","FLIGHT 10","FLIGHT 11","FLIGHT 12","FLIGHT 13","FLIGHT 14","FLIGHT 15","FLIGHT 16","FLIGHT 17","FLIGHT 18",null,{"$f":"Général!B6","v":"Equipage 4"},{"$f":"COUNTIF($C$8:$R$17,V4)","v":9}]
["N° de course",null,{"$f":"IF(COUNTIF(Général!B36:K36,$G$1)=1,\"Course 1\",IF(COUNTIF(Général!B38:K38,$G$1)=1,\"Course 2\",IF(COUNTIF(Général!#REF!,$G$1)=1,\"Course 3\",\"Course 4\")))","v":"Course 2"},{"$f":"IF(COUNTIF(Général!B44:K44,$G$1)=1,\"Course 1\",IF(COUNTIF(Général!B46:K46,$G$1)=1,\"Course 2\",IF(COUNTIF(Général!#REF!,$G$1)=1,\"Course 3\",\"Course 4\")))","v":"Course 2"},{"$f":"IF(COUNTIF(Général!B52:K52,$G$1)=1,\"Course 1\",IF(COUNTIF(Général!B54:K54,$G$1)=1,\"Course 2\",IF(COUNTIF(Général!#REF!,$G$1)=1,\"Course 3\",\"Course 4\")))","v":"Course 2"},{"$f":"IF(COUNTIF(Général!B60:K60,$G$1)=1,\"Course 1\",IF(COUNTIF(Général!B62:K62,$G$1)=1,\"Course 2\",IF(COUNTIF(Général!#REF!,$G$1)=1,\"Course 3\",\"Course 4\")))","v":"Course 2"},{"$f":"IF(COUNTIF(Général!B68:K68,$G$1)=1,\"Course 1\",IF(COUNTIF(Général!B70:K70,$G$1)=1,\"Course 2\",IF(COUNTIF(Général!#REF!,$G$1)=1,\"Course 3\",\"Course 4\")))","v":"Course 2"},{"$f":"IF(COUNTIF(Général!B76:K76,$G$1)=1,\"Course 1\",IF(COUNTIF(Général!B78:K78,$G$1)=1,\"Course 2\",IF(COUNTIF(Général!#REF!,$G$1)=1,\"Course 3\",\"Course 4\")))","v":"Course 1"},{"$f":"IF(COUNTIF(Général!B84:K84,$G$1)=1,\"Course 1\",IF(COUNTIF(Général!B86:K86,$G$1)=1,\"Course 2\",IF(COUNTIF(Général!#REF!,$G$1)=1,\"Course 3\",\"Course 4\")))","v":"Course 1"},{"$f":"IF(COUNTIF(Général!B92:K92,$G$1)=1,\"Course 1\",IF(COUNTIF(Général!B94:K94,$G$1)=1,\"Course 2\",IF(COUNTIF(Général!#REF!,$G$1)=1,\"Course 3\",\"Course 4\")))","v":"Course 1"},{"$f":"IF(COUNTIF(Général!B100:K100,$G$1)=1,\"Course 1\",IF(COUNTIF(Général!B102:K102,$G$1)=1,\"Course 2\",IF(COUNTIF(Général!#REF!,$G$1)=1,\"Course 3\",\"Course 4\")))","v":"Course 1"},{"$f":"IF(COUNTIF(Général!B108:K108,$G$1)=1,\"Course 1\",IF(COUNTIF(Général!B110:K110,$G$1)=1,\"Course 2\",IF(COUNTIF(Général!#REF!,$G$1)=1,\"Course 3\",\"Course 4\")))","v":"Course 2"},{"$f":"IF(COUNTIF(Général!B116:K116,$G$1)=1,\"Course 1\",IF(COUNTIF(Général!B118:K118,$G$1)=1,\"Course 2\",IF(COUNTIF(Général!#REF!,$G$1)=1,\"Course 3\",\"Course 4\")))","v":"Course 1"},{"$f":"IF(COUNTIF(Général!B124:K124,$G$1)=1,\"Course 1\",IF(COUNTIF(Général!B126:K126,$G$1)=1,\"Course 2\",IF(COUNTIF(Général!#REF!,$G$1)=1,\"Course 3\",\"Course 4\")))","v":"Course 1"},{"$f":"IF(COUNTIF(Général!B132:K132,$G$1)=1,\"Course 1\",IF(COUNTIF(Général!B134:K134,$G$1)=1,\"Course 2\",IF(COUNTIF(Général!#REF!,$G$1)=1,\"Course 3\",\"Course 4\")))","v":"Course 2"},{"$f":"IF(COUNTIF(Général!B140:K140,$G$1)=1,\"Course 1\",IF(COUNTIF(Général!B142:K142,$G$1)=1,\"Course 2\",IF(COUNTIF(Général!#REF!,$G$1)=1,\"Course 3\",\"Course 4\")))","v":"Course 2"},{"$f":"IF(COUNTIF(Général!B148:K148,$G$1)=1,\"Course 1\",IF(COUNTIF(Général!B150:K150,$G$1)=1,\"Course 2\",IF(COUNTIF(Général!#REF!,$G$1)=1,\"Course 3\",\"Course 4\")))","v":"Course 2"},{"$f":"IF(COUNTIF(Général!B156:K156,$G$1)=1,\"Course 1\",IF(COUNTIF(Général!B158:K158,$G$1)=1,\"Course 2\",IF(COUNTIF(Général!B160:K160,$G$1)=1,\"Course 3\",\"Course 4\")))","v":"Course 2"},{"$f":"IF(COUNTIF(Général!C156:L156,$G$1)=1,\"Course 1\",IF(COUNTIF(Général!C158:L158,$G$1)=1,\"Course 2\",IF(COUNTIF(Général!C160:L160,$G$1)=1,\"Course 3\",\"Course 4\")))","v":"Course 2"},{"$f":"IF(COUNTIF(Général!D156:M156,$G$1)=1,\"Course 1\",IF(COUNTIF(Général!D158:M158,$G$1)=1,\"Course 2\",IF(COUNTIF(Général!D160:M160,$G$1)=1,\"Course 3\",\"Course 4\")))","v":"Course 4"},null,{"$f":"Général!B7","v":"Equipage 5"},7]
["Bateau",null,{"$f":"IF(COUNTIF(Général!B36:B40,$G$1)=1,\"Boat 1\",IF(COUNTIF(Général!C36:C40,$G$1)=1,\"Boat 2\",IF(COUNTIF(Général!D36:D40,$G$1)=1,\"Boat 3\",IF(COUNTIF(Général!E36:E40,$G$1)=1,\"Boat 4\",IF(COUNTIF(Général!F36:F40,$G$1)=1,\"Boat 5\",IF(COUNTIF(Général!G36:G40,$G$1)=1,\"Boat 6\",IF(COUNTIF(Général!H36:H40,$G$1)=1,\"Boat 7\",IF(COUNTIF(Général!I36:I40,$G$1)=1,\"Boat 8\",IF(COUNTIF(Général!J36:J40,$G$1)=1,\"Boat 9\",\"Boat10\")))))))))","v":"Boat 1"},{"$f":"IF(COUNTIF(Général!B44:B48,$G$1)=1,\"Boat 1\",IF(COUNTIF(Général!C44:C48,$G$1)=1,\"Boat 2\",IF(COUNTIF(Général!D44:D48,$G$1)=1,\"Boat 3\",IF(COUNTIF(Général!E44:E48,$G$1)=1,\"Boat 4\",IF(COUNTIF(Général!F44:F48,$G$1)=1,\"Boat 5\",IF(COUNTIF(Général!G44:G48,$G$1)=1,\"Boat 6\",IF(COUNTIF(Général!H44:H48,$G$1)=1,\"Boat 7\",IF(COUNTIF(Général!I44:I48,$G$1)=1,\"Boat 8\",IF(COUNTIF(Général!J44:J48,$G$1)=1,\"Boat 9\",\"Boat 10\")))))))))","v":"Boat 4"},{"$f":"IF(COUNTIF(Général!B52:B56,$G$1)=1,\"Boat 1\",IF(COUNTIF(Général!C52:C56,$G$1)=1,\"Boat 2\",IF(COUNTIF(Général!D52:D56,$G$1)=1,\"Boat 3\", IF(COUNTIF(Général!E52:E56,$G$1)=1,\"Boat 4\", IF(COUNTIF(Général!F52:F56,$G$1)=1,\"Boat 5\", IF(COUNTIF(Général!G52:G56,$G$1)=1,\"Boat 6\", IF(COUNTIF(Général!H52:H56,$G$1)=1,\"Boat 7\",IF(COUNTIF(Général!I52:I56,$G$1)=1,\"Boat 8\",IF(COUNTIF(Général!J52:J56,$G$1)=1,\"Boat 9\",\"Boat 10\")))))))))","v":"Boat 6"},{"$f":"IF(COUNTIF(Général!B60:B64,$G$1)=1,\"Boat 1\",IF(COUNTIF(Général!C60:C64,$G$1)=1,\"Boat 2\",IF(COUNTIF(Général!D60:D64,$G$1)=1,\"Boat 3\", IF(COUNTIF(Général!E60:E64,$G$1)=1,\"Boat 4\", IF(COUNTIF(Général!F60:F64,$G$1)=1,\"Boat 5\", IF(COUNTIF(Général!G60:G64,$G$1)=1,\"Boat 6\", IF(COUNTIF(Général!H60:H64,$G$1)=1,\"Boat 7\",IF(COUNTIF(Général!I60:I64,$G$1)=1,\"Boat 8\",IF(COUNTIF(Général!I60:J64,$G$1)=1,\"Boat 9\",\"Boat 10\")))))))))","v":"Boat 5"},{"$f":"IF(COUNTIF(Général!B68:B72,$G$1)=1,\"Boat 1\",IF(COUNTIF(Général!C68:C72,$G$1)=1,\"Boat 2\",IF(COUNTIF(Général!D68:D72,$G$1)=1,\"Boat 3\", IF(COUNTIF(Général!E68:E72,$G$1)=1,\"Boat 4\", IF(COUNTIF(Général!F68:F72,$G$1)=1,\"Boat 5\", IF(COUNTIF(Général!G68:G72,$G$1)=1,\"Boat 6\", IF(COUNTIF(Général!H68:H72,$G$1)=1,\"Boat 7\",IF(COUNTIF(Général!I68:I72,$G$1)=1,\"Boat 8\",IF(COUNTIF(Général!J68:J72,$G$1)=1,\"Boat 9\",\"Boat 10\")))))))))","v":"Boat 3"},{"$f":"IF(COUNTIF(Général!B76:B80,$G$1)=1,\"Boat 1\",IF(COUNTIF(Général!C76:C80,$G$1)=1,\"Boat 2\",IF(COUNTIF(Général!D76:D80,$G$1)=1,\"Boat 3\", IF(COUNTIF(Général!E76:E80,$G$1)=1,\"Boat 4\", IF(COUNTIF(Général!F76:F80,$G$1)=1,\"Boat 5\", IF(COUNTIF(Général!G76:G80,$G$1)=1,\"Boat 6\", IF(COUNTIF(Général!H76:H80,$G$1)=1,\"Boat 7\",IF(COUNTIF(Général!I76:I80,$G$1)=1,\"Boat 8\",IF(COUNTIF(Général!J76:J80,$G$1)=1,\"Boat 9\",\"Boat 10\")))))))))","v":"Boat 3"},{"$f":"IF(COUNTIF(Général!B84:B88,$G$1)=1,\"Boat 1\",IF(COUNTIF(Général!C84:C88,$G$1)=1,\"Boat 2\",IF(COUNTIF(Général!D84:D88,$G$1)=1,\"Boat 3\", IF(COUNTIF(Général!E84:E88,$G$1)=1,\"Boat 4\", IF(COUNTIF(Général!F84:F88,$G$1)=1,\"Boat 5\", IF(COUNTIF(Général!G84:G88,$G$1)=1,\"Boat 6\", IF(COUNTIF(Général!H84:H88,$G$1)=1,\"Boat 7\",IF(COUNTIF(Général!I84:I88,$G$1)=1,\"Boat 8\",IF(COUNTIF(Général!J84:J88,$G$1)=1,\"Boat 9\",\"Boat 10\")))))))))","v":"Boat 1"},{"$f":"IF(COUNTIF(Général!B92:B96,$G$1)=1,\"Boat 1\",IF(COUNTIF(Général!C92:C96,$G$1)=1,\"Boat 2\",IF(COUNTIF(Général!D92:D96,$G$1)=1,\"Boat 3\", IF(COUNTIF(Général!E92:E96,$G$1)=1,\"Boat 4\", IF(COUNTIF(Général!F92:F96,$G$1)=1,\"Boat 5\", IF(COUNTIF(Général!G92:G96,$G$1)=1,\"Boat 6\", IF(COUNTIF(Général!H92:H96,$G$1)=1,\"Boat 7\",IF(COUNTIF(Général!I92:I96,$G$1)=1,\"Boat 8\",IF(COUNTIF(Général!J92:J96,$G$1)=1,\"Boat 9\",\"Boat 10\")))))))))","v":"Boat 4"},{"$f":"IF(COUNTIF(Général!B100:B104,$G$1)=1,\"Boat 1\",IF(COUNTIF(Général!C100:C104,$G$1)=1,\"Boat 2\",IF(COUNTIF(Général!D100:D104,$G$1)=1,\"Boat 3\", IF(COUNTIF(Général!E100:E104,$G$1)=1,\"Boat 4\", IF(COUNTIF(Général!F100:F104,$G$1)=1,\"Boat 5\", IF(COUNTIF(Général!G100:G104,$G$1)=1,\"Boat 6\", IF(COUNTIF(Général!H100:H104,$G$1)=1,\"Boat 7\",IF(COUNTIF(Général!I100:I104,$G$1)=1,\"Boat 8\",IF(COUNTIF(Général!J100:J104,$G$1)=1,\"Boat 9\",\"Boat 10\")))))))))","v":"Boat 6"},{"$f":"IF(COUNTIF(Général!B108:B112,$G$1)=1,\"Boat 1\",IF(COUNTIF(Général!C108:C112,$G$1)=1,\"Boat 2\",IF(COUNTIF(Général!D108:D112,$G$1)=1,\"Boat 3\", IF(COUNTIF(Général!E108:E112,$G$1)=1,\"Boat 4\", IF(COUNTIF(Général!F108:F112,$G$1)=1,\"Boat 5\", IF(COUNTIF(Général!G108:G112,$G$1)=1,\"Boat 6\", IF(COUNTIF(Général!H108:H112,$G$1)=1,\"Boat 7\",IF(COUNTIF(Général!I108:I112,$G$1)=1,\"Boat 8\",IF(COUNTIF(Général!J108:J112,$G$1)=1,\"Boat 9\",\"Boat 10\")))))))))","v":"Boat 5"},{"$f":"IF(COUNTIF(Général!B116:B120,$G$1)=1,\"Boat 1\",IF(COUNTIF(Général!C116:C120,$G$1)=1,\"Boat 2\",IF(COUNTIF(Général!C116:D120,$G$1)=1,\"Boat 3\", IF(COUNTIF(Général!C116:E120,$G$1)=1,\"Boat 4\", IF(COUNTIF(Général!F116:F120,$G$1)=1,\"Boat 5\", IF(COUNTIF(Général!G116:G120,$G$1)=1,\"Boat 6\", IF(COUNTIF(Général!H116:H120,$G$1)=1,\"Boat 7\",IF(COUNTIF(Général!I116:I120,$G$1)=1,\"Boat 8\",IF(COUNTIF(Général!J116:J120,$G$1)=1,\"Boat 9\",\"Boat 10\")))))))))","v":"Boat 5"},{"$f":"IF(COUNTIF(Général!B124:B128,$G$1)=1,\"Boat 1\",IF(COUNTIF(Général!C124:C128,$G$1)=1,\"Boat 2\",IF(COUNTIF(Général!D124:D128,$G$1)=1,\"Boat 3\", IF(COUNTIF(Général!E124:E128,$G$1)=1,\"Boat 4\", IF(COUNTIF(Général!F124:F128,$G$1)=1,\"Boat 5\", IF(COUNTIF(Général!G124:G128,$G$1)=1,\"Boat 6\", IF(COUNTIF(Général!H124:H128,$G$1)=1,\"Boat 7\",IF(COUNTIF(Général!I124:I128,$G$1)=1,\"Boat 8\",IF(COUNTIF(Général!J124:J128,$G$1)=1,\"Boat 9\",\"Boat 10\")))))))))","v":"Boat 2"},{"$f":"IF(COUNTIF(Général!B132:B136,$G$1)=1,\"Boat 1\",IF(COUNTIF(Général!C132:C136,$G$1)=1,\"Boat 2\",IF(COUNTIF(Général!D134:D136,$G$1)=1,\"Boat 3\", IF(COUNTIF(Général!E132:E136,$G$1)=1,\"Boat 4\", IF(COUNTIF(Général!F132:F136,$G$1)=1,\"Boat 5\", IF(COUNTIF(Général!G132:G136,$G$1)=1,\"Boat 6\", IF(COUNTIF(Général!H132:H136,$G$1)=1,\"Boat 7\",IF(COUNTIF(Général!I132:I136,$G$1)=1,\"Boat 8\",IF(COUNTIF(Général!J132:J136,$G$1)=1,\"Boat 9\",\"Boat 10\")))))))))","v":"Boat 1"},{"$f":"IF(COUNTIF(Général!B140:B144,$G$1)=1,\"Boat 1\",IF(COUNTIF(Général!C140:C144,$G$1)=1,\"Boat 2\",IF(COUNTIF(Général!D140:D144,$G$1)=1,\"Boat 3\", IF(COUNTIF(Général!E140:E144,$G$1)=1,\"Boat 4\", IF(COUNTIF(Général!F140:F144,$G$1)=1,\"Boat 5\", IF(COUNTIF(Général!G140:G144,$G$1)=1,\"Boat 6\", IF(COUNTIF(Général!H140:H144,$G$1)=1,\"Boat 7\",IF(COUNTIF(Général!I140:I144,$G$1)=1,\"Boat 8\",IF(COUNTIF(Général!J140:J144,$G$1)=1,\"Boat 9\",\"Boat 10\")))))))))","v":"Boat 4"},{"$f":"IF(COUNTIF(Général!B148:B152,$G$1)=1,\"Boat 1\",IF(COUNTIF(Général!C148:C152,$G$1)=1,\"Boat 2\",IF(COUNTIF(Général!D148:D152,$G$1)=1,\"Boat 3\", IF(COUNTIF(Général!E148:E152,$G$1)=1,\"Boat 4\", IF(COUNTIF(Général!F148:F152,$G$1)=1,\"Boat 5\", IF(COUNTIF(Général!G148:G152,$G$1)=1,\"Boat 6\", IF(COUNTIF(Général!H148:H152,$G$1)=1,\"Boat 7\",IF(COUNTIF(Général!I148:I152,$G$1)=1,\"Boat 8\",IF(COUNTIF(Général!J148:J152,$G$1)=1,\"Boat 9\",\"Boat 10\")))))))))","v":"Boat 2"},{"$f":"IF(COUNTIF(Général!B156:B159,$G$1)=1,\"Boat 1\",IF(COUNTIF(Général!C156:C159,$G$1)=1,\"Boat 2\",IF(COUNTIF(Général!D156:D159,$G$1)=1,\"Boat 3\", IF(COUNTIF(Général!E156:E159,$G$1)=1,\"Boat 4\", IF(COUNTIF(Général!F156:F159,$G$1)=1,\"Boat 5\", IF(COUNTIF(Général!G156:G159,$G$1)=1,\"Boat 6\", IF(COUNTIF(Général!H156:H159,$G$1)=1,\"Boat 7\",IF(COUNTIF(Général!I156:I159,$G$1)=1,\"Boat 8\",IF(COUNTIF(Général!J156:J159,$G$1)=1,\"Boat 9\",\"Boat 10\")))))))))","v":"Boat 2"},{"$f":"IF(COUNTIF(Général!B162:B165,$G$1)=1,\"Boat 1\",IF(COUNTIF(Général!C162:C165,$G$1)=1,\"Boat 2\",IF(COUNTIF(Général!D162:D165,$G$1)=1,\"Boat 3\", IF(COUNTIF(Général!E162:E165,$G$1)=1,\"Boat 4\", IF(COUNTIF(Général!F162:F165,$G$1)=1,\"Boat 5\", IF(COUNTIF(Général!G162:G165,$G$1)=1,\"Boat 6\", IF(COUNTIF(Général!H162:H165,$G$1)=1,\"Boat 7\",IF(COUNTIF(Général!I162:I165,$G$1)=1,\"Boat 8\",IF(COUNTIF(Général!J162:J165,$G$1)=1,\"Boat 9\",\"Boat 10\")))))))))","v":"Boat 2"},{"$f":"IF(COUNTIF(Général!B168:B171,$G$1)=1,\"Boat 1\",IF(COUNTIF(Général!C168:C171,$G$1)=1,\"Boat 2\",IF(COUNTIF(Général!D168:D171,$G$1)=1,\"Boat 3\", IF(COUNTIF(Général!E168:E171,$G$1)=1,\"Boat 4\", IF(COUNTIF(Général!F168:F171,$G$1)=1,\"Boat 5\", IF(COUNTIF(Général!G168:G171,$G$1)=1,\"Boat 6\", IF(COUNTIF(Général!H168:H171,$G$1)=1,\"Boat 7\",IF(COUNTIF(Général!I168:I171,$G$1)=1,\"Boat 8\",IF(COUNTIF(Général!J168:J171,$G$1)=1,\"Boat 9\",\"Boat 10\")))))))))","v":"Boat 2"},null,{"$f":"Général!B8","v":"Equipage 6"},6]
[null,null,null,null,null,null,null,null,null,null,null,null,null,null,null,null,null,null,null,null,null,{"$f":"Général!B9","v":"Equipage 7"},7]
["1er Equipage",null,{"$f":"IF($C$5=\"Course 1\",Général!B36,IF($C$5=\"Course 2\",Général!B38,IF($C$5=\"Course 3\",Général!#REF!,Général!B40)))","v":"Equipage 9"},{"$f":"IF($D$5=\"Course 1\",Général!B44,IF($D$5=\"Course 2\",Général!B46,IF($D$5=\"Course 3\",Général!#REF!,Général!B48)))","v":"Equipage 12"},{"$f":"IF($E$5=\"Course 1\",Général!B52,IF($E$5=\"Course 2\",Général!B54,IF($E$5=\"Course 3\",Général!#REF!,Général!B56)))","v":"Equipage 1"},{"$f":"IF($F$5=\"Course 1\",Général!B$60,IF($F$5=\"Course 2\",Général!B$62,IF($F$5=\"Course 3\",Général!#REF!,Général!B$64)))","v":"Equipage 4"},{"$f":"IF($G$5=\"Course 1\",Général!B$68,IF($G$5=\"Course 2\",Général!B$70,IF($G$5=\"Course 3\",Général!#REF!,Général!B$72)))","v":"Equipage 5"},{"$f":"IF($H$5=\"Course 1\",Général!B$76,IF($H$5=\"Course 2\",Général!B$78,IF($H$5=\"Course 3\",Général!#REF!,Général!B$80)))","v":"Equipage 5"},{"$f":"IF($I$5=\"Course 1\",Général!B$84,IF($I$5=\"Course 2\",Général!B$86,IF($I$5=\"Course 3\",Général!#REF!,Général!B$88)))","v":"Equipage 9"},{"$f":"IF($J$5=\"Course 1\",Général!B$92,IF($J$5=\"Course 2\",Général!B$94,IF($J$5=\"Course 3\",Général!#REF!,Général!B$96)))","v":"Equipage 3"},{"$f":"IF($K$5=\"Course 1\",Général!B$100,IF($K$5=\"Course 2\",Général!B$102,IF($K$5=\"Course 3\",Général!#REF!,Général!B$104)))","v":"Equipage 11"},{"$f":"IF($L$5=\"Course 1\",Général!B$108,IF($L$5=\"Course 2\",Général!B$110,IF($L$5=\"Course 3\",Général!#REF!,Général!B$112)))","v":"Equipage 1"},{"$f":"IF($M$5=\"Course 1\",Général!B$116,IF($M$5=\"Course 2\",Général!B$118,IF($M$5=\"Course 3\",Général!#REF!,Général!B$120)))","v":"Equipage 6"},{"$f":"IF($N$5=\"Course 1\",Général!B$124,IF($N$5=\"Course 2\",Général!B$126,IF($N$5=\"Course 3\",Général!#REF!,Général!B$128)))","v":"Equipage 7"},{"$f":"IF($O$5=\"Course 1\",Général!B$132,IF($O$5=\"Course 2\",Général!B$134,IF($O$5=\"Course 3\",Général!#REF!,Général!B$136)))","v":"Equipage 9"},{"$f":"IF($P$5=\"Course 1\",Général!B$140,IF($P$5=\"Course 2\",Général!B$142,IF($P$5=\"Course 3\",Général!#REF!,Général!B$144)))","v":"Equipage 10"},{"$f":"IF($Q$5=\"Course 1\",Général!B$148,IF($Q$5=\"Course 2\",Général!B$150,IF($Q$5=\"Course 3\",Général!#REF!,Général!B$152)))","v":"Equipage 3"},{"$f":"IF($R$5=\"Course 1\",Général!B$156,IF($R$5=\"Course 2\",Général!B$158,IF($R$5=\"Course 3\",Général!B$160,Général!B$162)))","v":"Equipage 4"},null,null,null,{"$f":"Général!B10","v":"Equipage 8"},4]
["2nd Equipage",null,{"$f":"IF($C$5=\"Course 1\",Général!C36,IF($C$5=\"Course 2\",Général!C38,IF($C$5=\"Course 3\",Général!#REF!,Général!C40)))","v":"Equipage 3"},{"$f":"IF($D$5=\"Course 1\",Général!C44,IF($D$5=\"Course 2\",Général!C46,IF($D$5=\"Course 3\",Général!#REF!,Général!C48)))","v":"Equipage 11"},{"$f":"IF($E$5=\"Course 1\",Général!C52,IF($E$5=\"Course 2\",Général!C54,IF($E$5=\"Course 3\",Général!#REF!,Général!C56)))","v":"Equipage 3"},{"$f":"IF($F$5=\"Course 1\",Général!C$60,IF($F$5=\"Course 2\",Général!C$62,IF($F$5=\"Course 3\",Général!#REF!,Général!C$64)))","v":"Equipage 1"},{"$f":"IF($G$5=\"Course 1\",Général!C$68,IF($G$5=\"Course 2\",Général!C$70,IF($G$5=\"Course 3\",Général!#REF!,Général!C$72)))","v":"Equipage 2"},{"$f":"IF($H$5=\"Course 1\",Général!C$76,IF($H$5=\"Course 2\",Général!C$78,IF($H$5=\"Course 3\",Général!#REF!,Général!C$80)))","v":"Equipage 6"},{"$f":"IF($I$5=\"Course 1\",Général!C$84,IF($I$5=\"Course 2\",Général!C$86,IF($I$5=\"Course 3\",Général!#REF!,Général!C$88)))","v":"Equipage 4"},{"$f":"IF($J$5=\"Course 1\",Général!C$92,IF($J$5=\"Course 2\",Général!C$94,IF($J$5=\"Course 3\",Général!#REF!,Général!C$96)))","v":"Equipage 10"},{"$f":"IF($K$5=\"Course 1\",Général!C$100,IF($K$5=\"Course 2\",Général!C$102,IF($K$5=\"Course 3\",Général!#REF!,Général!C$104)))","v":"Equipage 7"},{"$f":"IF($L$5=\"Course 1\",Général!C$108,IF($L$5=\"Course 2\",Général!C$110,IF($L$5=\"Course 3\",Général!#REF!,Général!C$112)))","v":"Equipage 5"},{"$f":"IF($M$5=\"Course 1\",Général!C$116,IF($M$5=\"Course 2\",Général!C$118,IF($M$5=\"Course 3\",Général!#REF!,Général!C$120)))","v":"Equipage 5"},{"$f":"IF($N$5=\"Course 1\",Général!C$124,IF($N$5=\"Course 2\",Général!C$126,IF($N$5=\"Course 3\",Général!#REF!,Général!C$128)))","v":"Equipage 9"},{"$f":"IF($O$5=\"Course 1\",Général!C$132,IF($O$5=\"Course 2\",Général!C$134,IF($O$5=\"Course 3\",Général!#REF!,Général!C$136)))","v":"Equipage 2"},{"$f":"IF($P$5=\"Course 1\",Général!C$140,IF($P$5=\"Course 2\",Général!C$142,IF($P$5=\"Course 3\",Général!#REF!,Général!C$144)))","v":"Equipage 11"},{"$f":"IF($Q$5=\"Course 1\",Général!C$148,IF($Q$5=\"Course 2\",Général!C$150,IF($Q$5=\"Course 3\",Général!#REF!,Général!C$152)))","v":"Equipage 9"},{"$f":"IF($R$5=\"Course 1\",Général!C$156,IF($R$5=\"Course 2\",Général!C$158,IF($R$5=\"Course 3\",Général!C$160,Général!C$162)))","v":"Equipage 9"},null,null,null,{"$f":"Général!B11","v":"Equipage 9"},16]
["3ème Equipage",null,{"$f":"IF($C$5=\"Course 1\",Général!D36,IF($C$5=\"Course 2\",Général!D38,IF($C$5=\"Course 3\",Général!#REF!,Général!D40)))","v":"Equipage 12"},{"$f":"IF($D$5=\"Course 1\",Général!D44,IF($D$5=\"Course 2\",Général!D46,IF($D$5=\"Course 3\",Général!#REF!,Général!D48)))","v":"Equipage 3"},{"$f":"IF($E$5=\"Course 1\",Général!D52,IF($E$5=\"Course 2\",Général!D54,IF($E$5=\"Course 3\",Général!#REF!,Général!D56)))","v":"Equipage 6"},{"$f":"IF($F$5=\"Course 1\",Général!D$60,IF($F$5=\"Course 2\",Général!D$62,IF($F$5=\"Course 3\",Général!#REF!,Général!D$64)))","v":"Equipage 10"},{"$f":"IF($G$5=\"Course 1\",Général!D$68,IF($G$5=\"Course 2\",Général!D$70,IF($G$5=\"Course 3\",Général!#REF!,Général!D$72)))","v":"Equipage 9"},{"$f":"IF($H$5=\"Course 1\",Général!D$76,IF($H$5=\"Course 2\",Général!D$78,IF($H$5=\"Course 3\",Général!#REF!,Général!D$80)))","v":"Equipage 9"},{"$f":"IF($I$5=\"Course 1\",Général!D$84,IF($I$5=\"Course 2\",Général!D$86,IF($I$5=\"Course 3\",Général!#REF!,Général!D$88)))","v":"Equipage 1"},{"$f":"IF($J$5=\"Course 1\",Général!D$92,IF($J$5=\"Course 2\",Général!D$94,IF($J$5=\"Course 3\",Général!#REF!,Général!D$96)))","v":"Equipage 7"},{"$f":"IF($K$5=\"Course 1\",Général!D$100,IF($K$5=\"Course 2\",Général!D$102,IF($K$5=\"Course 3\",Général!#REF!,Général!D$104)))","v":"Equipage 4"},{"$f":"IF($L$5=\"Course 1\",Général!D$108,IF($L$5=\"Course 2\",Général!D$110,IF($L$5=\"Course 3\",Général!#REF!,Général!D$112)))","v":"Equipage 3"},{"$f":"IF($M$5=\"Course 1\",Général!D$116,IF($M$5=\"Course 2\",Général!D$118,IF($M$5=\"Course 3\",Général!#REF!,Général!D$120)))","v":"Equipage 10"},{"$f":"IF($N$5=\"Course 1\",Général!D$124,IF($N$5=\"Course 2\",Général!D$126,IF($N$5=\"Course 3\",Général!#REF!,Général!D$128)))","v":"Equipage 2"},{"$f":"IF($O$5=\"Course 1\",Général!D$132,IF($O$5=\"Course 2\",Général!D$134,IF($O$5=\"Course 3\",Général!#REF!,Général!D$136)))","v":"Equipage 12"},{"$f":"IF($P$5=\"Course 1\",Général!D$140,IF($P$5=\"Course 2\",Général!D$142,IF($P$5=\"Course 3\",Général!#REF!,Général!D$144)))","v":"Equipage 5"},{"$f":"IF($Q$5=\"Course 1\",Général!D$148,IF($Q$5=\"Course 2\",Général!D$150,IF($Q$5=\"Course 3\",Général!#REF!,Général!D$152)))","v":"Equipage 10"},{"$f":"IF($R$5=\"Course 1\",Général!D$156,IF($R$5=\"Course 2\",Général!D$158,IF($R$5=\"Course 3\",Général!D$160,Général!D$162)))","v":"Equipage 6"},null,null,null,{"$f":"Général!B12","v":"Equipage 10"},7]
["4ème Equipage",null,{"$f":"IF($C$5=\"Course 1\",Général!E36,IF($C$5=\"Course 2\",Général!E38,IF($C$5=\"Course 3\",Général!#REF!,Général!E40)))","v":"Equipage 4"},{"$f":"IF($D$5=\"Course 1\",Général!E44,IF($D$5=\"Course 2\",Général!E46,IF($D$5=\"Course 3\",Général!#REF!,Général!E48)))","v":"Equipage 9"},{"$f":"IF($E$5=\"Course 1\",Général!E52,IF($E$5=\"Course 2\",Général!E54,IF($E$5=\"Course 3\",Général!#REF!,Général!E56)))","v":"Equipage 4"},{"$f":"IF($F$5=\"Course 1\",Général!E$60,IF($F$5=\"Course 2\",Général!E$62,IF($F$5=\"Course 3\",Général!#REF!,Général!E$64)))","v":"Equipage 11"},{"$f":"IF($G$5=\"Course 1\",Général!E$68,IF($G$5=\"Course 2\",Général!E$70,IF($G$5=\"Course 3\",Général!#REF!,Général!E$72)))","v":"Equipage 11"},{"$f":"IF($H$5=\"Course 1\",Général!E$76,IF($H$5=\"Course 2\",Général!E$78,IF($H$5=\"Course 3\",Général!#REF!,Général!E$80)))","v":"Equipage 11"},{"$f":"IF($I$5=\"Course 1\",Général!E$84,IF($I$5=\"Course 2\",Général!E$86,IF($I$5=\"Course 3\",Général!#REF!,Général!E$88)))","v":"Equipage 7"},{"$f":"IF($J$5=\"Course 1\",Général!E$92,IF($J$5=\"Course 2\",Général!E$94,IF($J$5=\"Course 3\",Général!#REF!,Général!E$96)))","v":"Equipage 9"},{"$f":"IF($K$5=\"Course 1\",Général!E$100,IF($K$5=\"Course 2\",Général!E$102,IF($K$5=\"Course 3\",Général!#REF!,Général!E$104)))","v":"Equipage 1"},{"$f":"IF($L$5=\"Course 1\",Général!E$108,IF($L$5=\"Course 2\",Général!E$110,IF($L$5=\"Course 3\",Général!#REF!,Général!E$112)))","v":"Equipage 2"},{"$f":"IF($M$5=\"Course 1\",Général!E$116,IF($M$5=\"Course 2\",Général!E$118,IF($M$5=\"Course 3\",Général!#REF!,Général!E$120)))","v":"Equipage 12"},{"$f":"IF($N$5=\"Course 1\",Général!E$124,IF($N$5=\"Course 2\",Général!E$126,IF($N$5=\"Course 3\",Général!#REF!,Général!E$128)))","v":"Equipage 8"},{"$f":"IF($O$5=\"Course 1\",Général!E$132,IF($O$5=\"Course 2\",Général!E$134,IF($O$5=\"Course 3\",Général!#REF!,Général!E$136)))","v":"Equipage 1"},{"$f":"IF($P$5=\"Course 1\",Général!E$140,IF($P$5=\"Course 2\",Général!E$142,IF($P$5=\"Course 3\",Général!#REF!,Général!E$144)))","v":"Equipage 9"},{"$f":"IF($Q$5=\"Course 1\",Général!E$148,IF($Q$5=\"Course 2\",Général!E$150,IF($Q$5=\"Course 3\",Général!#REF!,Général!E$152)))","v":"Equipage 6"},{"$f":"IF($R$5=\"Course 1\",Général!E$156,IF($R$5=\"Course 2\",Général!E$158,IF($R$5=\"Course 3\",Général!E$160,Général!E$162)))","v":"Equipage 10"},null,null,null,{"$f":"Général!B13","v":"Equipage 11"},8]
["5ème Equipage",null,{"$f":"IF($C$5=\"Course 1\",Général!F36,IF($C$5=\"Course 2\",Général!F38,IF($C$5=\"Course 3\",Général!#REF!,Général!F40)))","v":"Equipage 8"},{"$f":"IF($D$5=\"Course 1\",Général!F44,IF($D$5=\"Course 2\",Général!F46,IF($D$5=\"Course 3\",Général!#REF!,Général!F48)))","v":"Equipage 1"},{"$f":"IF($E$5=\"Course 1\",Général!F52,IF($E$5=\"Course 2\",Général!F54,IF($E$5=\"Course 3\",Général!#REF!,Général!F56)))","v":"Equipage 12"},{"$f":"IF($F$5=\"Course 1\",Général!F$60,IF($F$5=\"Course 2\",Général!F$62,IF($F$5=\"Course 3\",Général!#REF!,Général!F$64)))","v":"Equipage 9"},{"$f":"IF($G$5=\"Course 1\",Général!F$68,IF($G$5=\"Course 2\",Général!F$70,IF($G$5=\"Course 3\",Général!#REF!,Général!F$72)))","v":"Equipage 4"},{"$f":"IF($H$5=\"Course 1\",Général!F$76,IF($H$5=\"Course 2\",Général!F$78,IF($H$5=\"Course 3\",Général!#REF!,Général!F$80)))","v":"Equipage 8"},{"$f":"IF($I$5=\"Course 1\",Général!F$84,IF($I$5=\"Course 2\",Général!F$86,IF($I$5=\"Course 3\",Général!#REF!,Général!F$88)))","v":"Equipage 6"},{"$f":"IF($J$5=\"Course 1\",Général!F$92,IF($J$5=\"Course 2\",Général!F$94,IF($J$5=\"Course 3\",Général!#REF!,Général!F$96)))","v":"Equipage 5"},{"$f":"IF($K$5=\"Course 1\",Général!F$100,IF($K$5=\"Course 2\",Général!F$102,IF($K$5=\"Course 3\",Général!#REF!,Général!F$104)))","v":"Equipage 12"},{"$f":"IF($L$5=\"Course 1\",Général!F$108,IF($L$5=\"Course 2\",Général!$F110,IF($L$5=\"Course 3\",Général!#REF!,Général!F$112)))","v":"Equipage 9"},{"$f":"IF($M$5=\"Course 1\",Général!F$116,IF($M$5=\"Course 2\",Général!F$118,IF($M$5=\"Course 3\",Général!#REF!,Général!F$120)))","v":"Equipage 9"},{"$f":"IF($N$5=\"Course 1\",Général!F$124,IF($N$5=\"Course 2\",Général!F$126,IF($N$5=\"Course 3\",Général!#REF!,Général!F$128)))","v":"Equipage 5"},{"$f":"IF($O$5=\"Course 1\",Général!F$132,IF($O$5=\"Course 2\",Général!F$134,IF($O$5=\"Course 3\",Général!#REF!,Général!F$136)))","v":"Equipage 4"},{"$f":"IF($P$5=\"Course 1\",Général!F$140,IF($P$5=\"Course 2\",Général!F$142,IF($P$5=\"Course 3\",Général!#REF!,Général!F$144)))","v":"Equipage 3"},{"$f":"IF($Q$5=\"Course 1\",Général!F$148,IF($Q$5=\"Course 2\",Général!F$150,IF($Q$5=\"Course 3\",Général!#REF!,Général!F$152)))","v":"Equipage 7"},{"$f":"IF($R$5=\"Course 1\",Général!F$156,IF($R$5=\"Course 2\",Général!F$158,IF($R$5=\"Course 3\",Général!F$160,Général!F$162)))","v":"Equipage 3"},null,null,null,{"$f":"Général!B14","v":"Equipage 12"},7]
["6ème Equipage",null,{"$f":"IF($C$5=\"Course 1\",Général!G36,IF($C$5=\"Course 2\",Général!G38,IF($C$5=\"Course 3\",Général!#REF!,Général!G40)))","v":"Equipage 1"},{"$f":"IF($D$5=\"Course 1\",Général!G44,IF($D$5=\"Course 2\",Général!G46,IF($D$5=\"Course 3\",Général!#REF!,Général!G48)))","v":"Equipage 2"},{"$f":"IF($E$5=\"Course 1\",Général!G52,IF($E$5=\"Course 2\",Général!G54,IF($E$5=\"Course 3\",Général!#REF!,Général!G56)))","v":"Equipage 9"},{"$f":"IF($F$5=\"Course 1\",Général!G$60,IF($F$5=\"Course 2\",Général!G$62,IF($F$5=\"Course 3\",Général!#REF!,Général!G$64)))","v":"Equipage 12"},{"$f":"IF($G$5=\"Course 1\",Général!G$68,IF($G$5=\"Course 2\",Général!G$70,IF($G$5=\"Course 3\",Général!#REF!,Général!G$72)))","v":"Equipage 10"},{"$f":"IF($H$5=\"Course 1\",Général!G$76,IF($H$5=\"Course 2\",Général!G$78,IF($H$5=\"Course 3\",Général!#REF!,Général!G$80)))","v":"Equipage 7"},{"$f":"IF($I$5=\"Course 1\",Général!G$84,IF($I$5=\"Course 2\",Général!G$86,IF($I$5=\"Course 3\",Général!#REF!,Général!G$88)))","v":"Equipage 3"},{"$f":"IF($J$5=\"Course 1\",Général!G$92,IF($J$5=\"Course 2\",Général!G$94,IF($J$5=\"Course 3\",Général!#REF!,Général!G$96)))","v":"Equipage 2"},{"$f":"IF($K$5=\"Course 1\",Général!G$100,IF($K$5=\"Course 2\",Général!G$102,IF($K$5=\"Course 3\",Général!#REF!,Général!G$104)))","v":"Equipage 9"},{"$f":"IF($L$5=\"Course 1\",Général!G$108,IF($L$5=\"Course 2\",Général!G$110,IF($L$5=\"Course 3\",Général!#REF!,Général!G$112)))","v":"Equipage 7"},{"$f":"IF($M$5=\"Course 1\",Général!G$116,IF($M$5=\"Course 2\",Général!G$118,IF($M$5=\"Course 3\",Général!#REF!,Général!G$120)))","v":"Equipage 11"},{"$f":"IF($N$5=\"Course 1\",Général!G$124,IF($N$5=\"Course 2\",Général!G$126,IF($N$5=\"Course 3\",Général!#REF!,Général!G$128)))","v":"Equipage 4"},{"$f":"IF($O$5=\"Course 1\",Général!G$132,IF($O$5=\"Course 2\",Général!G$134,IF($O$5=\"Course 3\",Général!#REF!,Général!G$136)))","v":"Equipage 8"},{"$f":"IF($P$5=\"Course 1\",Général!G$140,IF($P$5=\"Course 2\",Général!G$142,IF($P$5=\"Course 3\",Général!#REF!,Général!G$144)))","v":"Equipage 1"},{"$f":"IF($Q$5=\"Course 1\",Général!G$148,IF($Q$5=\"Course 2\",Général!G$150,IF($Q$5=\"Course 3\",Général!#REF!,Général!G$152)))","v":"Equipage 1"},{"$f":"IF($R$5=\"Course 1\",Général!G$156,IF($R$5=\"Course 2\",Général!G$158,IF($R$5=\"Course 3\",Général!G$160,Général!G$162)))","v":"Equipage 11"},null,null,null,{"$f":"Général!B15","v":"Equipage 13"},0]
["7ème Equipage",null,{"$f":"IF($C$5=\"Course 1\",Général!H36,IF($C$5=\"Course 2\",Général!H38,IF($C$5=\"Course 3\",Général!#REF!,Général!H40)))","v":0},{"$f":"IF($D$5=\"Course 1\",Général!H44,IF($D$5=\"Course 2\",Général!H46,IF($D$5=\"Course 3\",Général!#REF!,Général!H48)))","v":0},{"$f":"IF($E$5=\"Course 1\",Général!H52,IF($E$5=\"Course 2\",Général!H54,IF($E$5=\"Course 3\",Général!#REF!,Général!H56)))","v":0},{"$f":"IF($F$5=\"Course 1\",Général!H$60,IF($F$5=\"Course 2\",Général!H$62,IF($F$5=\"Course 3\",Général!#REF!,Général!H$64)))","v":0},{"$f":"IF($G$5=\"Course 1\",Général!H$68,IF($G$5=\"Course 2\",Général!H$70,IF($G$5=\"Course 3\",Général!#REF!,Général!H$72)))","v":0},{"$f":"IF($H$5=\"Course 1\",Général!H$76,IF($H$5=\"Course 2\",Général!H$78,IF($H$5=\"Course 3\",Général!#REF!,Général!H$80)))","v":0},{"$f":"IF($I$5=\"Course 1\",Général!H$84,IF($I$5=\"Course 2\",Général!H$86,IF($I$5=\"Course 3\",Général!#REF!,Général!H$88)))","v":0},{"$f":"IF($J$5=\"Course 1\",Général!H$92,IF($J$5=\"Course 2\",Général!H$94,IF($J$5=\"Course 3\",Général!#REF!,Général!H$96)))","v":0},{"$f":"IF($K$5=\"Course 1\",Général!H$100,IF($K$5=\"Course 2\",Général!H$102,IF($K$5=\"Course 3\",Général!#REF!,Général!H$104)))","v":0},{"$f":"IF($L$5=\"Course 1\",Général!H$108,IF($L$5=\"Course 2\",Général!H$110,IF($L$5=\"Course 3\",Général!#REF!,Général!H$112)))","v":0},{"$f":"IF($M$5=\"Course 1\",Général!H$116,IF($M$5=\"Course 2\",Général!H$118,IF($M$5=\"Course 3\",Général!#REF!,Général!H$120)))","v":0},{"$f":"IF($N$5=\"Course 1\",Général!H$124,IF($N$5=\"Course 2\",Général!H$126,IF($N$5=\"Course 3\",Général!#REF!,Général!H$128)))","v":0},{"$f":"IF($O$5=\"Course 1\",Général!H$132,IF($O$5=\"Course 2\",Général!H$134,IF($O$5=\"Course 3\",Général!#REF!,Général!H$136)))","v":0},{"$f":"IF($P$5=\"Course 1\",Général!H$140,IF($P$5=\"Course 2\",Général!H$142,IF($P$5=\"Course 3\",Général!#REF!,Général!H$144)))","v":0},{"$f":"IF($Q$5=\"Course 1\",Général!H$148,IF($Q$5=\"Course 2\",Général!H$150,IF($Q$5=\"Course 3\",Général!#REF!,Général!H$152)))","v":0},{"$f":"IF($R$5=\"Course 1\",Général!H$156,IF($R$5=\"Course 2\",Général!H$158,IF($R$5=\"Course 3\",Général!H$160,Général!H$162)))","v":0},null,null,null,{"$f":"Général!B16","v":"Equipage 14"},0]
["8ème Equipage",null,{"$f":"IF($C$5=\"Course 1\",Général!I36,IF($C$5=\"Course 2\",Général!I38,IF($C$5=\"Course 3\",Général!#REF!,Général!I40)))","v":0},{"$f":"IF($D$5=\"Course 1\",Général!I44,IF($D$5=\"Course 2\",Général!I46,IF($D$5=\"Course 3\",Général!#REF!,Général!I48)))","v":0},{"$f":"IF($E$5=\"Course 1\",Général!I52,IF($E$5=\"Course 2\",Général!I54,IF($E$5=\"Course 3\",Général!#REF!,Général!I56)))","v":0},{"$f":"IF($F$5=\"Course 1\",Général!I$60,IF($F$5=\"Course 2\",Général!I$62,IF($F$5=\"Course 3\",Général!#REF!,Général!I$64)))","v":0},{"$f":"IF($G$5=\"Course 1\",Général!I$68,IF($G$5=\"Course 2\",Général!I$70,IF($G$5=\"Course 3\",Général!#REF!,Général!I$72)))","v":0},{"$f":"IF($H$5=\"Course 1\",Général!I$76,IF($H$5=\"Course 2\",Général!I$78,IF($H$5=\"Course 3\",Général!#REF!,Général!I$80)))","v":0},{"$f":"IF($I$5=\"Course 1\",Général!I$84,IF($I$5=\"Course 2\",Général!I$86,IF($I$5=\"Course 3\",Général!#REF!,Général!I$88)))","v":0},{"$f":"IF($J$5=\"Course 1\",Général!I$92,IF($J$5=\"Course 2\",Général!I$94,IF($J$5=\"Course 3\",Général!#REF!,Général!I$96)))","v":0},{"$f":"IF($K$5=\"Course 1\",Général!I$100,IF($K$5=\"Course 2\",Général!I$102,IF($K$5=\"Course 3\",Général!#REF!,Général!I$104)))","v":0},{"$f":"IF($L$5=\"Course 1\",Général!I$108,IF($L$5=\"Course 2\",Général!I$110,IF($L$5=\"Course 3\",Général!#REF!,Général!I$112)))","v":0},{"$f":"IF($M$5=\"Course 1\",Général!I$116,IF($M$5=\"Course 2\",Général!I$118,IF($M$5=\"Course 3\",Général!#REF!,Général!I$120)))","v":0},{"$f":"IF($N$5=\"Course 1\",Général!I$124,IF($N$5=\"Course 2\",Général!I$126,IF($N$5=\"Course 3\",Général!#REF!,Général!I$128)))","v":0},{"$f":"IF($O$5=\"Course 1\",Général!I$132,IF($O$5=\"Course 2\",Général!I$134,IF($O$5=\"Course 3\",Général!#REF!,Général!I$136)))","v":0},{"$f":"IF($P$5=\"Course 1\",Général!I$140,IF($P$5=\"Course 2\",Général!I$142,IF($P$5=\"Course 3\",Général!#REF!,Général!I$144)))","v":0},{"$f":"IF($Q$5=\"Course 1\",Général!I$148,IF($Q$5=\"Course 2\",Général!I$150,IF($Q$5=\"Course 3\",Général!#REF!,Général!I$152)))","v":0},{"$f":"IF($R$5=\"Course 1\",Général!I$156,IF($R$5=\"Course 2\",Général!I$158,IF($R$5=\"Course 3\",Général!I$160,Général!I$162)))","v":0},null,null,null,{"$f":"Général!B17","v":"Equipage 15"},0]
["9ème Equipage",null,{"$f":"IF($C$5=\"Course 1\",Général!J36,IF($C$5=\"Course 2\",Général!J38,IF($C$5=\"Course 3\",Général!#REF!,Général!J40)))","v":0},{"$f":"IF($D$5=\"Course 1\",Général!J44,IF($D$5=\"Course 2\",Général!J46,IF($D$5=\"Course 3\",Général!#REF!,Général!J48)))","v":0},{"$f":"IF($E$5=\"Course 1\",Général!J52,IF($E$5=\"Course 2\",Général!J54,IF($E$5=\"Course 3\",Général!#REF!,Général!J56)))","v":0},{"$f":"IF($F$5=\"Course 1\",Général!J$60,IF($F$5=\"Course 2\",Général!J$62,IF($F$5=\"Course 3\",Général!#REF!,Général!J$64)))","v":0},{"$f":"IF($G$5=\"Course 1\",Général!J$68,IF($G$5=\"Course 2\",Général!J$70,IF($G$5=\"Course 3\",Général!#REF!,Général!J$72)))","v":0},{"$f":"IF($H$5=\"Course 1\",Général!J$76,IF($H$5=\"Course 2\",Général!J$78,IF($H$5=\"Course 3\",Général!#REF!,Général!J$80)))","v":0},{"$f":"IF($I$5=\"Course 1\",Général!J$84,IF($I$5=\"Course 2\",Général!J$86,IF($I$5=\"Course 3\",Général!#REF!,Général!J$88)))","v":0},{"$f":"IF($J$5=\"Course 1\",Général!J$92,IF($J$5=\"Course 2\",Général!J$94,IF($J$5=\"Course 3\",Général!#REF!,Général!J$96)))","v":0},{"$f":"IF($K$5=\"Course 1\",Général!J$100,IF($K$5=\"Course 2\",Général!J$102,IF($K$5=\"Course 3\",Général!#REF!,Général!J$104)))","v":0},{"$f":"IF($L$5=\"Course 1\",Général!J$108,IF($L$5=\"Course 2\",Général!J$110,IF($L$5=\"Course 3\",Général!#REF!,Général!J$112)))","v":0},{"$f":"IF($M$5=\"Course 1\",Général!J$116,IF($M$5=\"Course 2\",Général!J$118,IF($M$5=\"Course 3\",Général!#REF!,Général!J$120)))","v":0},{"$f":"IF($N$5=\"Course 1\",Général!J$124,IF($N$5=\"Course 2\",Général!J$126,IF($N$5=\"Course 3\",Général!#REF!,Général!J$128)))","v":0},{"$f":"IF($O$5=\"Course 1\",Général!J$132,IF($O$5=\"Course 2\",Général!J$134,IF($O$5=\"Course 3\",Général!#REF!,Général!J$136)))","v":0},{"$f":"IF($P$5=\"Course 1\",Général!J$140,IF($P$5=\"Course 2\",Général!J$142,IF($P$5=\"Course 3\",Général!#REF!,Général!J$144)))","v":0},{"$f":"IF($Q$5=\"Course 1\",Général!J$148,IF($Q$5=\"Course 2\",Général!J$150,IF($Q$5=\"Course 3\",Général!#REF!,Général!J$152)))","v":0},{"$f":"IF($R$5=\"Course 1\",Général!J$156,IF($R$5=\"Course 2\",Général!J$158,IF($R$5=\"Course 3\",Général!J$160,Général!J$162)))","v":0},null,null,null,{"$f":"Général!B18","v":"Equipage 16"},0]
["10ème Equipage",null,{"$f":"IF($C$5=\"Course 1\",Général!K36,IF($C$5=\"Course 2\",Général!K38,IF($C$5=\"Course 3\",Général!#REF!,Général!K40)))","v":0},{"$f":"IF($D$5=\"Course 1\",Général!K44,IF($D$5=\"Course 2\",Général!K46,IF($D$5=\"Course 3\",Général!#REF!,Général!K48)))","v":0},{"$f":"IF($E$5=\"Course 1\",Général!K52,IF($E$5=\"Course 2\",Général!K54,IF($E$5=\"Course 3\",Général!#REF!,Général!K56)))","v":0},{"$f":"IF($F$5=\"Course 1\",Général!K$60,IF($F$5=\"Course 2\",Général!K$62,IF($F$5=\"Course 3\",Général!#REF!,Général!K$64)))","v":0},{"$f":"IF($G$5=\"Course 1\",Général!K$68,IF($G$5=\"Course 2\",Général!K$70,IF($G$5=\"Course 3\",Général!#REF!,Général!K$72)))","v":0},{"$f":"IF($H$5=\"Course 1\",Général!K$76,IF($H$5=\"Course 2\",Général!K$78,IF($H$5=\"Course 3\",Général!#REF!,Général!K$80)))","v":0},{"$f":"IF($I$5=\"Course 1\",Général!K$84,IF($I$5=\"Course 2\",Général!K$86,IF($I$5=\"Course 3\",Général!#REF!,Général!K$88)))","v":0},{"$f":"IF($J$5=\"Course 1\",Général!K$92,IF($J$5=\"Course 2\",Général!K$94,IF($J$5=\"Course 3\",Général!#REF!,Général!K$96)))","v":0},{"$f":"IF($K$5=\"Course 1\",Général!K$100,IF($K$5=\"Course 2\",Général!K$102,IF($K$5=\"Course 3\",Général!#REF!,Général!K$104)))","v":0},{"$f":"IF($L$5=\"Course 1\",Général!K$108,IF($L$5=\"Course 2\",Général!K$110,IF($L$5=\"Course 3\",Général!#REF!,Général!K$112)))","v":0},{"$f":"IF($M$5=\"Course 1\",Général!K$116,IF($M$5=\"Course 2\",Général!K$118,IF($M$5=\"Course 3\",Général!#REF!,Général!K$120)))","v":0},{"$f":"IF($N$5=\"Course 1\",Général!K$124,IF($N$5=\"Course 2\",Général!K$126,IF($N$5=\"Course 3\",Général!#REF!,Général!K$128)))","v":0},{"$f":"IF($O$5=\"Course 1\",Général!K$132,IF($O$5=\"Course 2\",Général!K$134,IF($O$5=\"Course 3\",Général!#REF!,Général!K$136)))","v":0},{"$f":"IF($P$5=\"Course 1\",Général!K$140,IF($P$5=\"Course 2\",Général!K$142,IF($P$5=\"Course 3\",Général!#REF!,Général!K$144)))","v":0},{"$f":"IF($Q$5=\"Course 1\",Général!K$148,IF($Q$5=\"Course 2\",Général!K$150,IF($Q$5=\"Course 3\",Général!#REF!,Général!K$152)))","v":0},{"$f":"IF($R$5=\"Course 1\",Général!K$156,IF($R$5=\"Course 2\",Général!K$158,IF($R$5=\"Course 3\",Général!K$160,Général!K$162)))","v":0},null,null,null,{"$f":"Général!B19","v":"Equipage 17"},0]
[null,null,null,null,null,null,null,null,null,null,null,null,null,null,null,null,null,null,null,null,null,{"$f":"Général!B20","v":"Equipage 18"},0]
[null,null,null,null,null,null,null,null,null,null,null,null,null,null,null,null,null,null,null,null,null,{"$f":"Général!B21","v":"Equipage 19"},{"$f":"COUNTIF($C$8:$R$17,V19)","v":0}]
[null,null,null,null,null,null,null,null,null,null,null,null,null,null,null,null,null,null,null,null,null,{"$f":"Général!B22","v":"Equipage 20"},0]
[null,null,null,null,null,null,null,null,null,null,null,null,null,null,null,null,null,null,null,null,null,{"$f":"Général!B23","v":"Equipage 21"},0]
[null,null,null,null,null,null,null,null,null,null,null,null,null,null,null,null,null,null,null,null,null,{"$f":"Général!B24","v":"Equipage 22"},0]
[null,null,null,null,null,null,null,null,null,null,null,null,null,null,null,null,null,null,null,null,null,{"$f":"Général!B25","v":"Equipage 23"},0]
[null,null,null,null,null,null,null,null,null,null,null,null,null,null,null,null,null,null,null,null,null,{"$f":"Général!B26","v":"Equipage 24"},0]
[null,null,null,null,null,null,null,null,null,null,null,null,null,null,null,null,null,null,null,null,null,{"$f":"Général!B27","v":"Equipage 25"},0]
[null,null,null,null,null,null,null,null,null,null,null,null,null,null,null,null,null,null,null,null,null,{"$f":"Général!B28","v":"Equipage 26"},0]
[null,null,null,null,null,null,null,null,null,null,null,null,null,null,null,null,null,null,null,null,null,{"$f":"Général!B29","v":"Equipage 27"},0]
[null,null,null,null,null,null,null,null,null,null,null,null,null,null,null,null,null,null,null,null,null,{"$f":"Général!B30","v":"Equipage 28"},0]
[null,null,null,null,null,null,null,null,null,null,null,null,null,null,null,null,null,null,null,null,null,{"$f":"Général!B31","v":"Equipage 29"},0]
[null,null,null,null,null,null,null,null,null,null,null,null,null,null,null,null,null,null,null,null,null,{"$f":"Général!B32","v":"Equipage 30"},0]

{"sheet":"Eq.10","index":14,"n_rows":30,"n_cols":23,"rows_kept":30,"cut":false,"hidden":true,"merged":[[7,0,7,1],[0,0,1,5],[0,6,1,10],[3,0,3,1],[4,0,4,1],[5,0,5,1],[14,0,14,1],[15,0,15,1],[16,0,16,1],[8,0,8,1],[9,0,9,1],[10,0,10,1],[11,0,11,1],[12,0,12,1],[13,0,13,1]]}
["Equipage ",null,null,null,null,null,{"$f":"Général!B12","v":"Equipage 10"},null,null,null,null,null,null,null,null,null,null,null,null,null,null,{"$f":"Général!B3","v":"Equipage 1"},{"$f":"COUNTIF(C$8:R$17,V1)","v":5}]
[null,null,null,null,null,null,null,null,null,null,null,null,null,null,null,null,null,null,null,null,null,{"$f":"Général!B4","v":"Equipage 2"},{"$f":"COUNTIF($C$8:$R$17,V2)","v":7}]
[null,null,null,null,null,null,null,null,null,null,null,null,null,null,null,null,null,null,null,null,null,{"$f":"Général!B5","v":"Equipage 3"},{"$f":"COUNTIF($C$8:$R$17,V3)","v":8}]
[null,null,"FLIGHT 1","FLIGHT 2","FLIGHT 3","FLIGHT 4","FLIGHT 5","FLIGHT 6","FLIGHT 7","FLIGHT 8","FLIGHT 9","FLIGHT 10","FLIGHT 11","FLIGHT 12","FLIGHT 13","FLIGHT 14","FLIGHT 15","FLIGHT 16","FLIGHT 17","FLIGHT 18",null,{"$f":"Général!B6","v":"Equipage 4"},{"$f":"COUNTIF($C$8:$R$17,V4)","v":6}]
["N° de course",null,{"$f":"IF(COUNTIF(Général!B36:K36,$G$1)=1,\"Course 1\",IF(COUNTIF(Général!B38:K38,$G$1)=1,\"Course 2\",IF(COUNTIF(Général!#REF!,$G$1)=1,\"Course 3\",\"Course 4\")))","v":"Course 1"},{"$f":"IF(COUNTIF(Général!B44:K44,$G$1)=1,\"Course 1\",IF(COUNTIF(Général!B46:K46,$G$1)=1,\"Course 2\",IF(COUNTIF(Général!#REF!,$G$1)=1,\"Course 3\",\"Course 4\")))","v":"Course 1"},{"$f":"IF(COUNTIF(Général!B52:K52,$G$1)=1,\"Course 1\",IF(COUNTIF(Général!B54:K54,$G$1)=1,\"Course 2\",IF(COUNTIF(Général!#REF!,$G$1)=1,\"Course 3\",\"Course 4\")))","v":"Course 1"},{"$f":"IF(COUNTIF(Général!B60:K60,$G$1)=1,\"Course 1\",IF(COUNTIF(Général!B62:K62,$G$1)=1,\"Course 2\",IF(COUNTIF(Général!#REF!,$G$1)=1,\"Course 3\",\"Course 4\")))","v":"Course 2"},{"$f":"IF(COUNTIF(Général!B68:K68,$G$1)=1,\"Course 1\",IF(COUNTIF(Général!B70:K70,$G$1)=1,\"Course 2\",IF(COUNTIF(Général!#REF!,$G$1)=1,\"Course 3\",\"Course 4\")))","v":"Course 2"},{"$f":"IF(COUNTIF(Général!B76:K76,$G$1)=1,\"Course 1\",IF(COUNTIF(Général!B78:K78,$G$1)=1,\"Course 2\",IF(COUNTIF(Général!#REF!,$G$1)=1,\"Course 3\",\"Course 4\")))","v":"Course 2"},{"$f":"IF(COUNTIF(Général!B84:K84,$G$1)=1,\"Course 1\",IF(COUNTIF(Général!B86:K86,$G$1)=1,\"Course 2\",IF(COUNTIF(Général!#REF!,$G$1)=1,\"Course 3\",\"Course 4\")))","v":"Course 2"},{"$f":"IF(COUNTIF(Général!B92:K92,$G$1)=1,\"Course 1\",IF(COUNTIF(Général!B94:K94,$G$1)=1,\"Course 2\",IF(COUNTIF(Général!#REF!,$G$1)=1,\"Course 3\",\"Course 4\")))","v":"Course 1"},{"$f":"IF(COUNTIF(Général!B100:K100,$G$1)=1,\"Course 1\",IF(COUNTIF(Général!B102:K102,$G$1)=1,\"Course 2\",IF(COUNTIF(Général!#REF!,$G$1)=1,\"Course 3\",\"Course 4\")))","v":"Course 2"},{"$f":"IF(COUNTIF(Général!B108:K108,$G$1)=1,\"Course 1\",IF(COUNTIF(Général!B110:K110,$G$1)=1,\"Course 2\",IF(COUNTIF(Général!#REF!,$G$1)=1,\"Course 3\",\"Course 4\")))","v":"Course 1"},{"$f":"IF(COUNTIF(Général!B116:K116,$G$1)=1,\"Course 1\",IF(COUNTIF(Général!B118:K118,$G$1)=1,\"Course 2\",IF(COUNTIF(Général!#REF!,$G$1)=1,\"Course 3\",\"Course 4\")))","v":"Course 1"},{"$f":"IF(COUNTIF(Général!B124:K124,$G$1)=1,\"Course 1\",IF(COUNTIF(Général!B126:K126,$G$1)=1,\"Course 2\",IF(COUNTIF(Général!#REF!,$G$1)=1,\"Course 3\",\"Course 4\")))","v":"Course 2"},{"$f":"IF(COUNTIF(Général!B132:K132,$G$1)=1,\"Course 1\",IF(COUNTIF(Général!B134:K134,$G$1)=1,\"Course 2\",IF(COUNTIF(Général!#REF!,$G$1)=1,\"Course 3\",\"Course 4\")))","v":"Course 1"},{"$f":"IF(COUNTIF(Général!B140:K140,$G$1)=1,\"Course 1\",IF(COUNTIF(Général!B142:K142,$G$1)=1,\"Course 2\",IF(COUNTIF(Général!#REF!,$G$1)=1,\"Course 3\",\"Course 4\")))","v":"Course 2"},{"$f":"IF(COUNTIF(Général!B148:K148,$G$1)=1,\"Course 1\",IF(COUNTIF(Général!B150:K150,$G$1)=1,\"Course 2\",IF(COUNTIF(Général!#REF!,$G$1)=1,\"Course 3\",\"Course 4\")))","v":"Course 2"},{"$f":"IF(COUNTIF(Général!B156:K156,$G$1)=1,\"Course 1\",IF(COUNTIF(Général!B158:K158,$G$1)=1,\"Course 2\",IF(COUNTIF(Général!B160:K160,$G$1)=1,\"Course 3\",\"Course 4\")))","v":"Course 2"},{"$f":"IF(COUNTIF(Général!C156:L156,$G$1)=1,\"Course 1\",IF(COUNTIF(Général!C158:L158,$G$1)=1,\"Course 2\",IF(COUNTIF(Général!C160:L160,$G$1)=1,\"Course 3\",\"Course 4\")))","v":"Course 2"},{"$f":"IF(COUNTIF(Général!D156:M156,$G$1)=1,\"Course 1\",IF(COUNTIF(Général!D158:M158,$G$1)=1,\"Course 2\",IF(COUNTIF(Général!D160:M160,$G$1)=1,\"Course 3\",\"Course 4\")))","v":"Course 2"},null,{"$f":"Général!B7","v":"Equipage 5"},10]
["Bateau",null,{"$f":"IF(COUNTIF(Général!B36:B40,$G$1)=1,\"Boat 1\",IF(COUNTIF(Général!C36:C40,$G$1)=1,\"Boat 2\",IF(COUNTIF(Général!D36:D40,$G$1)=1,\"Boat 3\",IF(COUNTIF(Général!E36:E40,$G$1)=1,\"Boat 4\",IF(COUNTIF(Général!F36:F40,$G$1)=1,\"Boat 5\",IF(COUNTIF(Général!G36:G40,$G$1)=1,\"Boat 6\",IF(COUNTIF(Général!H36:H40,$G$1)=1,\"Boat 7\",IF(COUNTIF(Général!I36:I40,$G$1)=1,\"Boat 8\",IF(COUNTIF(Général!J36:J40,$G$1)=1,\"Boat 9\",\"Boat10\")))))))))","v":"Boat 3"},{"$f":"IF(COUNTIF(Général!B44:B48,$G$1)=1,\"Boat 1\",IF(COUNTIF(Général!C44:C48,$G$1)=1,\"Boat 2\",IF(COUNTIF(Général!D44:D48,$G$1)=1,\"Boat 3\",IF(COUNTIF(Général!E44:E48,$G$1)=1,\"Boat 4\",IF(COUNTIF(Général!F44:F48,$G$1)=1,\"Boat 5\",IF(COUNTIF(Général!G44:G48,$G$1)=1,\"Boat 6\",IF(COUNTIF(Général!H44:H48,$G$1)=1,\"Boat 7\",IF(COUNTIF(Général!I44:I48,$G$1)=1,\"Boat 8\",IF(COUNTIF(Général!J44:J48,$G$1)=1,\"Boat 9\",\"Boat 10\")))))))))","v":"Boat 6"},{"$f":"IF(COUNTIF(Général!B52:B56,$G$1)=1,\"Boat 1\",IF(COUNTIF(Général!C52:C56,$G$1)=1,\"Boat 2\",IF(COUNTIF(Général!D52:D56,$G$1)=1,\"Boat 3\", IF(COUNTIF(Général!E52:E56,$G$1)=1,\"Boat 4\", IF(COUNTIF(Général!F52:F56,$G$1)=1,\"Boat 5\", IF(COUNTIF(Général!G52:G56,$G$1)=1,\"Boat 6\", IF(COUNTIF(Général!H52:H56,$G$1)=1,\"Boat 7\",IF(COUNTIF(Général!I52:I56,$G$1)=1,\"Boat 8\",IF(COUNTIF(Général!J52:J56,$G$1)=1,\"Boat 9\",\"Boat 10\")))))))))","v":"Boat 4"},{"$f":"IF(COUNTIF(Général!B60:B64,$G$1)=1,\"Boat 1\",IF(COUNTIF(Général!C60:C64,$G$1)=1,\"Boat 2\",IF(COUNTIF(Général!D60:D64,$G$1)=1,\"Boat 3\", IF(COUNTIF(Général!E60:E64,$G$1)=1,\"Boat 4\", IF(COUNTIF(Général!F60:F64,$G$1)=1,\"Boat 5\", IF(COUNTIF(Général!G60:G64,$G$1)=1,\"Boat 6\", IF(COUNTIF(Général!H60:H64,$G$1)=1,\"Boat 7\",IF(COUNTIF(Général!I60:I64,$G$1)=1,\"Boat 8\",IF(COUNTIF(Général!I60:J64,$G$1)=1,\"Boat 9\",\"Boat 10\")))))))))","v":"Boat 3"},{"$f":"IF(COUNTIF(Général!B68:B72,$G$1)=1,\"Boat 1\",IF(COUNTIF(Général!C68:C72,$G$1)=1,\"Boat 2\",IF(COUNTIF(Général!D68:D72,$G$1)=1,\"Boat 3\", IF(COUNTIF(Général!E68:E72,$G$1)=1,\"Boat 4\", IF(COUNTIF(Général!F68:F72,$G$1)=1,\"Boat 5\", IF(COUNTIF(Général!G68:G72,$G$1)=1,\"Boat 6\", IF(COUNTIF(Général!H68:H72,$G$1)=1,\"Boat 7\",IF(COUNTIF(Général!I68:I72,$G$1)=1,\"Boat 8\",IF(COUNTIF(Général!J68:J72,$G$1)=1,\"Boat 9\",\"Boat 10\")))))))))","v":"Boat 6"},{"$f":"IF(COUNTIF(Général!B76:B80,$G$1)=1,\"Boat 1\",IF(COUNTIF(Général!C76:C80,$G$1)=1,\"Boat 2\",IF(COUNTIF(Général!D76:D80,$G$1)=1,\"Boat 3\", IF(COUNTIF(Général!E76:E80,$G$1)=1,\"Boat 4\", IF(COUNTIF(Général!F76:F80,$G$1)=1,\"Boat 5\", IF(COUNTIF(Général!G76:G80,$G$1)=1,\"Boat 6\", IF(COUNTIF(Général!H76:H80,$G$1)=1,\"Boat 7\",IF(COUNTIF(Général!I76:I80,$G$1)=1,\"Boat 8\",IF(COUNTIF(Général!J76:J80,$G$1)=1,\"Boat 9\",\"Boat 10\")))))))))","v":"Boat 5"},{"$f":"IF(COUNTIF(Général!B84:B88,$G$1)=1,\"Boat 1\",IF(COUNTIF(Général!C84:C88,$G$1)=1,\"Boat 2\",IF(COUNTIF(Général!D84:D88,$G$1)=1,\"Boat 3\", IF(COUNTIF(Général!E84:E88,$G$1)=1,\"Boat 4\", IF(COUNTIF(Général!F84:F88,$G$1)=1,\"Boat 5\", IF(COUNTIF(Général!G84:G88,$G$1)=1,\"Boat 6\", IF(COUNTIF(Général!H84:H88,$G$1)=1,\"Boat 7\",IF(COUNTIF(Général!I84:I88,$G$1)=1,\"Boat 8\",IF(COUNTIF(Général!J84:J88,$G$1)=1,\"Boat 9\",\"Boat 10\")))))))))","v":"Boat 2"},{"$f":"IF(COUNTIF(Général!B92:B96,$G$1)=1,\"Boat 1\",IF(COUNTIF(Général!C92:C96,$G$1)=1,\"Boat 2\",IF(COUNTIF(Général!D92:D96,$G$1)=1,\"Boat 3\", IF(COUNTIF(Général!E92:E96,$G$1)=1,\"Boat 4\", IF(COUNTIF(Général!F92:F96,$G$1)=1,\"Boat 5\", IF(COUNTIF(Général!G92:G96,$G$1)=1,\"Boat 6\", IF(COUNTIF(Général!H92:H96,$G$1)=1,\"Boat 7\",IF(COUNTIF(Général!I92:I96,$G$1)=1,\"Boat 8\",IF(COUNTIF(Général!J92:J96,$G$1)=1,\"Boat 9\",\"Boat 10\")))))))))","v":"Boat 2"},{"$f":"IF(COUNTIF(Général!B100:B104,$G$1)=1,\"Boat 1\",IF(COUNTIF(Général!C100:C104,$G$1)=1,\"Boat 2\",IF(COUNTIF(Général!D100:D104,$G$1)=1,\"Boat 3\", IF(COUNTIF(Général!E100:E104,$G$1)=1,\"Boat 4\", IF(COUNTIF(Général!F100:F104,$G$1)=1,\"Boat 5\", IF(COUNTIF(Général!G100:G104,$G$1)=1,\"Boat 6\", IF(COUNTIF(Général!H100:H104,$G$1)=1,\"Boat 7\",IF(COUNTIF(Général!I100:I104,$G$1)=1,\"Boat 8\",IF(COUNTIF(Général!J100:J104,$G$1)=1,\"Boat 9\",\"Boat 10\")))))))))","v":"Boat 5"},{"$f":"IF(COUNTIF(Général!B108:B112,$G$1)=1,\"Boat 1\",IF(COUNTIF(Général!C108:C112,$G$1)=1,\"Boat 2\",IF(COUNTIF(Général!D108:D112,$G$1)=1,\"Boat 3\", IF(COUNTIF(Général!E108:E112,$G$1)=1,\"Boat 4\", IF(COUNTIF(Général!F108:F112,$G$1)=1,\"Boat 5\", IF(COUNTIF(Général!G108:G112,$G$1)=1,\"Boat 6\", IF(COUNTIF(Général!H108:H112,$G$1)=1,\"Boat 7\",IF(COUNTIF(Général!I108:I112,$G$1)=1,\"Boat 8\",IF(COUNTIF(Général!J108:J112,$G$1)=1,\"Boat 9\",\"Boat 10\")))))))))","v":"Boat 5"},{"$f":"IF(COUNTIF(Général!B116:B120,$G$1)=1,\"Boat 1\",IF(COUNTIF(Général!C116:C120,$G$1)=1,\"Boat 2\",IF(COUNTIF(Général!C116:D120,$G$1)=1,\"Boat 3\", IF(COUNTIF(Général!C116:E120,$G$1)=1,\"Boat 4\", IF(COUNTIF(Général!F116:F120,$G$1)=1,\"Boat 5\", IF(COUNTIF(Général!G116:G120,$G$1)=1,\"Boat 6\", IF(COUNTIF(Général!H116:H120,$G$1)=1,\"Boat 7\",IF(COUNTIF(Général!I116:I120,$G$1)=1,\"Boat 8\",IF(COUNTIF(Général!J116:J120,$G$1)=1,\"Boat 9\",\"Boat 10\")))))))))","v":"Boat 3"},{"$f":"IF(COUNTIF(Général!B124:B128,$G$1)=1,\"Boat 1\",IF(COUNTIF(Général!C124:C128,$G$1)=1,\"Boat 2\",IF(COUNTIF(Général!D124:D128,$G$1)=1,\"Boat 3\", IF(COUNTIF(Général!E124:E128,$G$1)=1,\"Boat 4\", IF(COUNTIF(Général!F124:F128,$G$1)=1,\"Boat 5\", IF(COUNTIF(Général!G124:G128,$G$1)=1,\"Boat 6\", IF(COUNTIF(Général!H124:H128,$G$1)=1,\"Boat 7\",IF(COUNTIF(Général!I124:I128,$G$1)=1,\"Boat 8\",IF(COUNTIF(Général!J124:J128,$G$1)=1,\"Boat 9\",\"Boat 10\")))))))))","v":"Boat 2"},{"$f":"IF(COUNTIF(Général!B132:B136,$G$1)=1,\"Boat 1\",IF(COUNTIF(Général!C132:C136,$G$1)=1,\"Boat 2\",IF(COUNTIF(Général!D134:D136,$G$1)=1,\"Boat 3\", IF(COUNTIF(Général!E132:E136,$G$1)=1,\"Boat 4\", IF(COUNTIF(Général!F132:F136,$G$1)=1,\"Boat 5\", IF(COUNTIF(Général!G132:G136,$G$1)=1,\"Boat 6\", IF(COUNTIF(Général!H132:H136,$G$1)=1,\"Boat 7\",IF(COUNTIF(Général!I132:I136,$G$1)=1,\"Boat 8\",IF(COUNTIF(Général!J132:J136,$G$1)=1,\"Boat 9\",\"Boat 10\")))))))))","v":"Boat 2"},{"$f":"IF(COUNTIF(Général!B140:B144,$G$1)=1,\"Boat 1\",IF(COUNTIF(Général!C140:C144,$G$1)=1,\"Boat 2\",IF(COUNTIF(Général!D140:D144,$G$1)=1,\"Boat 3\", IF(COUNTIF(Général!E140:E144,$G$1)=1,\"Boat 4\", IF(COUNTIF(Général!F140:F144,$G$1)=1,\"Boat 5\", IF(COUNTIF(Général!G140:G144,$G$1)=1,\"Boat 6\", IF(COUNTIF(Général!H140:H144,$G$1)=1,\"Boat 7\",IF(COUNTIF(Général!I140:I144,$G$1)=1,\"Boat 8\",IF(COUNTIF(Général!J140:J144,$G$1)=1,\"Boat 9\",\"Boat 10\")))))))))","v":"Boat 1"},{"$f":"IF(COUNTIF(Général!B148:B152,$G$1)=1,\"Boat 1\",IF(COUNTIF(Général!C148:C152,$G$1)=1,\"Boat 2\",IF(COUNTIF(Général!D148:D152,$G$1)=1,\"Boat 3\", IF(COUNTIF(Général!E148:E152,$G$1)=1,\"Boat 4\", IF(COUNTIF(Général!F148:F152,$G$1)=1,\"Boat 5\", IF(COUNTIF(Général!G148:G152,$G$1)=1,\"Boat 6\", IF(COUNTIF(Général!H148:H152,$G$1)=1,\"Boat 7\",IF(COUNTIF(Général!I148:I152,$G$1)=1,\"Boat 8\",IF(COUNTIF(Général!J148:J152,$G$1)=1,\"Boat 9\",\"Boat 10\")))))))))","v":"Boat 3"},{"$f":"IF(COUNTIF(Général!B156:B159,$G$1)=1,\"Boat 1\",IF(COUNTIF(Général!C156:C159,$G$1)=1,\"Boat 2\",IF(COUNTIF(Général!D156:D159,$G$1)=1,\"Boat 3\", IF(COUNTIF(Général!E156:E159,$G$1)=1,\"Boat 4\", IF(COUNTIF(Général!F156:F159,$G$1)=1,\"Boat 5\", IF(COUNTIF(Général!G156:G159,$G$1)=1,\"Boat 6\", IF(COUNTIF(Général!H156:H159,$G$1)=1,\"Boat 7\",IF(COUNTIF(Général!I156:I159,$G$1)=1,\"Boat 8\",IF(COUNTIF(Général!J156:J159,$G$1)=1,\"Boat 9\",\"Boat 10\")))))))))","v":"Boat 4"},{"$f":"IF(COUNTIF(Général!B162:B165,$G$1)=1,\"Boat 1\",IF(COUNTIF(Général!C162:C165,$G$1)=1,\"Boat 2\",IF(COUNTIF(Général!D162:D165,$G$1)=1,\"Boat 3\", IF(COUNTIF(Général!E162:E165,$G$1)=1,\"Boat 4\", IF(COUNTIF(Général!F162:F165,$G$1)=1,\"Boat 5\", IF(COUNTIF(Général!G162:G165,$G$1)=1,\"Boat 6\", IF(COUNTIF(Général!H162:H165,$G$1)=1,\"Boat 7\",IF(COUNTIF(Général!I162:I165,$G$1)=1,\"Boat 8\",IF(COUNTIF(Général!J162:J165,$G$1)=1,\"Boat 9\",\"Boat 10\")))))))))","v":"Boat 4"},{"$f":"IF(COUNTIF(Général!B168:B171,$G$1)=1,\"Boat 1\",IF(COUNTIF(Général!C168:C171,$G$1)=1,\"Boat 2\",IF(COUNTIF(Général!D168:D171,$G$1)=1,\"Boat 3\", IF(COUNTIF(Général!E168:E171,$G$1)=1,\"Boat 4\", IF(COUNTIF(Général!F168:F171,$G$1)=1,\"Boat 5\", IF(COUNTIF(Général!G168:G171,$G$1)=1,\"Boat 6\", IF(COUNTIF(Général!H168:H171,$G$1)=1,\"Boat 7\",IF(COUNTIF(Général!I168:I171,$G$1)=1,\"Boat 8\",IF(COUNTIF(Général!J168:J171,$G$1)=1,\"Boat 9\",\"Boat 10\")))))))))","v":"Boat 4"},null,{"$f":"Général!B8","v":"Equipage 6"},9]
[null,null,null,null,null,null,null,null,null,null,null,null,null,null,null,null,null,null,null,null,null,{"$f":"Général!B9","v":"Equipage 7"},6]
["1er Equipage",null,{"$f":"IF($C$5=\"Course 1\",Général!B36,IF($C$5=\"Course 2\",Général!B38,IF($C$5=\"Course 3\",Général!#REF!,Général!B40)))","v":"Equipage 6"},{"$f":"IF($D$5=\"Course 1\",Général!B44,IF($D$5=\"Course 2\",Général!B46,IF($D$5=\"Course 3\",Général!#REF!,Général!B48)))","v":"Equipage 7"},{"$f":"IF($E$5=\"Course 1\",Général!B52,IF($E$5=\"Course 2\",Général!B54,IF($E$5=\"Course 3\",Général!#REF!,Général!B56)))","v":"Equipage 5"},{"$f":"IF($F$5=\"Course 1\",Général!B$60,IF($F$5=\"Course 2\",Général!B$62,IF($F$5=\"Course 3\",Général!#REF!,Général!B$64)))","v":"Equipage 4"},{"$f":"IF($G$5=\"Course 1\",Général!B$68,IF($G$5=\"Course 2\",Général!B$70,IF($G$5=\"Course 3\",Général!#REF!,Général!B$72)))","v":"Equipage 5"},{"$f":"IF($H$5=\"Course 1\",Général!B$76,IF($H$5=\"Course 2\",Général!B$78,IF($H$5=\"Course 3\",Général!#REF!,Général!B$80)))","v":"Equipage 2"},{"$f":"IF($I$5=\"Course 1\",Général!B$84,IF($I$5=\"Course 2\",Général!B$86,IF($I$5=\"Course 3\",Général!#REF!,Général!B$88)))","v":"Equipage 8"},{"$f":"IF($J$5=\"Course 1\",Général!B$92,IF($J$5=\"Course 2\",Général!B$94,IF($J$5=\"Course 3\",Général!#REF!,Général!B$96)))","v":"Equipage 3"},{"$f":"IF($K$5=\"Course 1\",Général!B$100,IF($K$5=\"Course 2\",Général!B$102,IF($K$5=\"Course 3\",Général!#REF!,Général!B$104)))","v":"Equipage 5"},{"$f":"IF($L$5=\"Course 1\",Général!B$108,IF($L$5=\"Course 2\",Général!B$110,IF($L$5=\"Course 3\",Général!#REF!,Général!B$112)))","v":"Equipage 4"},{"$f":"IF($M$5=\"Course 1\",Général!B$116,IF($M$5=\"Course 2\",Général!B$118,IF($M$5=\"Course 3\",Général!#REF!,Général!B$120)))","v":"Equipage 6"},{"$f":"IF($N$5=\"Course 1\",Général!B$124,IF($N$5=\"Course 2\",Général!B$126,IF($N$5=\"Course 3\",Général!#REF!,Général!B$128)))","v":"Equipage 12"},{"$f":"IF($O$5=\"Course 1\",Général!B$132,IF($O$5=\"Course 2\",Général!B$134,IF($O$5=\"Course 3\",Général!#REF!,Général!B$136)))","v":"Equipage 7"},{"$f":"IF($P$5=\"Course 1\",Général!B$140,IF($P$5=\"Course 2\",Général!B$142,IF($P$5=\"Course 3\",Général!#REF!,Général!B$144)))","v":"Equipage 10"},{"$f":"IF($Q$5=\"Course 1\",Général!B$148,IF($Q$5=\"Course 2\",Général!B$150,IF($Q$5=\"Course 3\",Général!#REF!,Général!B$152)))","v":"Equipage 3"},{"$f":"IF($R$5=\"Course 1\",Général!B$156,IF($R$5=\"Course 2\",Général!B$158,IF($R$5=\"Course 3\",Général!B$160,Général!B$162)))","v":"Equipage 4"},null,null,null,{"$f":"Général!B10","v":"Equipage 8"},5]
["2nd Equipage",null,{"$f":"IF($C$5=\"Course 1\",Général!C36,IF($C$5=\"Course 2\",Général!C38,IF($C$5=\"Course 3\",Général!#REF!,Général!C40)))","v":"Equipage 7"},{"$f":"IF($D$5=\"Course 1\",Général!C44,IF($D$5=\"Course 2\",Général!C46,IF($D$5=\"Course 3\",Général!#REF!,Général!C48)))","v":"Equipage 5"},{"$f":"IF($E$5=\"Course 1\",Général!C52,IF($E$5=\"Course 2\",Général!C54,IF($E$5=\"Course 3\",Général!#REF!,Général!C56)))","v":"Equipage 11"},{"$f":"IF($F$5=\"Course 1\",Général!C$60,IF($F$5=\"Course 2\",Général!C$62,IF($F$5=\"Course 3\",Général!#REF!,Général!C$64)))","v":"Equipage 1"},{"$f":"IF($G$5=\"Course 1\",Général!C$68,IF($G$5=\"Course 2\",Général!C$70,IF($G$5=\"Course 3\",Général!#REF!,Général!C$72)))","v":"Equipage 2"},{"$f":"IF($H$5=\"Course 1\",Général!C$76,IF($H$5=\"Course 2\",Général!C$78,IF($H$5=\"Course 3\",Général!#REF!,Général!C$80)))","v":"Equipage 4"},{"$f":"IF($I$5=\"Course 1\",Général!C$84,IF($I$5=\"Course 2\",Général!C$86,IF($I$5=\"Course 3\",Général!#REF!,Général!C$88)))","v":"Equipage 10"},{"$f":"IF($J$5=\"Course 1\",Général!C$92,IF($J$5=\"Course 2\",Général!C$94,IF($J$5=\"Course 3\",Général!#REF!,Général!C$96)))","v":"Equipage 10"},{"$f":"IF($K$5=\"Course 1\",Général!C$100,IF($K$5=\"Course 2\",Général!C$102,IF($K$5=\"Course 3\",Général!#REF!,Général!C$104)))","v":"Equipage 8"},{"$f":"IF($L$5=\"Course 1\",Général!C$108,IF($L$5=\"Course 2\",Général!C$110,IF($L$5=\"Course 3\",Général!#REF!,Général!C$112)))","v":"Equipage 8"},{"$f":"IF($M$5=\"Course 1\",Général!C$116,IF($M$5=\"Course 2\",Général!C$118,IF($M$5=\"Course 3\",Général!#REF!,Général!C$120)))","v":"Equipage 5"},{"$f":"IF($N$5=\"Course 1\",Général!C$124,IF($N$5=\"Course 2\",Général!C$126,IF($N$5=\"Course 3\",Général!#REF!,Général!C$128)))","v":"Equipage 10"},{"$f":"IF($O$5=\"Course 1\",Général!C$132,IF($O$5=\"Course 2\",Général!C$134,IF($O$5=\"Course 3\",Général!#REF!,Général!C$136)))","v":"Equipage 10"},{"$f":"IF($P$5=\"Course 1\",Général!C$140,IF($P$5=\"Course 2\",Général!C$142,IF($P$5=\"Course 3\",Général!#REF!,Général!C$144)))","v":"Equipage 11"},{"$f":"IF($Q$5=\"Course 1\",Général!C$148,IF($Q$5=\"Course 2\",Général!C$150,IF($Q$5=\"Course 3\",Général!#REF!,Général!C$152)))","v":"Equipage 9"},{"$f":"IF($R$5=\"Course 1\",Général!C$156,IF($R$5=\"Course 2\",Général!C$158,IF($R$5=\"Course 3\",Général!C$160,Général!C$162)))","v":"Equipage 9"},null,null,null,{"$f":"Général!B11","v":"Equipage 9"},7]
["3ème Equipage",null,{"$f":"IF($C$5=\"Course 1\",Général!D36,IF($C$5=\"Course 2\",Général!D38,IF($C$5=\"Course 3\",Général!#REF!,Général!D40)))","v":"Equipage 10"},{"$f":"IF($D$5=\"Course 1\",Général!D44,IF($D$5=\"Course 2\",Général!D46,IF($D$5=\"Course 3\",Général!#REF!,Général!D48)))","v":"Equipage 6"},{"$f":"IF($E$5=\"Course 1\",Général!D52,IF($E$5=\"Course 2\",Général!D54,IF($E$5=\"Course 3\",Général!#REF!,Général!D56)))","v":"Equipage 8"},{"$f":"IF($F$5=\"Course 1\",Général!D$60,IF($F$5=\"Course 2\",Général!D$62,IF($F$5=\"Course 3\",Général!#REF!,Général!D$64)))","v":"Equipage 10"},{"$f":"IF($G$5=\"Course 1\",Général!D$68,IF($G$5=\"Course 2\",Général!D$70,IF($G$5=\"Course 3\",Général!#REF!,Général!D$72)))","v":"Equipage 9"},{"$f":"IF($H$5=\"Course 1\",Général!D$76,IF($H$5=\"Course 2\",Général!D$78,IF($H$5=\"Course 3\",Général!#REF!,Général!D$80)))","v":"Equipage 1"},{"$f":"IF($I$5=\"Course 1\",Général!D$84,IF($I$5=\"Course 2\",Général!D$86,IF($I$5=\"Course 3\",Général!#REF!,Général!D$88)))","v":"Equipage 11"},{"$f":"IF($J$5=\"Course 1\",Général!D$92,IF($J$5=\"Course 2\",Général!D$94,IF($J$5=\"Course 3\",Général!#REF!,Général!D$96)))","v":"Equipage 7"},{"$f":"IF($K$5=\"Course 1\",Général!D$100,IF($K$5=\"Course 2\",Général!D$102,IF($K$5=\"Course 3\",Général!#REF!,Général!D$104)))","v":"Equipage 3"},{"$f":"IF($L$5=\"Course 1\",Général!D$108,IF($L$5=\"Course 2\",Général!D$110,IF($L$5=\"Course 3\",Général!#REF!,Général!D$112)))","v":"Equipage 12"},{"$f":"IF($M$5=\"Course 1\",Général!D$116,IF($M$5=\"Course 2\",Général!D$118,IF($M$5=\"Course 3\",Général!#REF!,Général!D$120)))","v":"Equipage 10"},{"$f":"IF($N$5=\"Course 1\",Général!D$124,IF($N$5=\"Course 2\",Général!D$126,IF($N$5=\"Course 3\",Général!#REF!,Général!D$128)))","v":"Equipage 1"},{"$f":"IF($O$5=\"Course 1\",Général!D$132,IF($O$5=\"Course 2\",Général!D$134,IF($O$5=\"Course 3\",Général!#REF!,Général!D$136)))","v":"Equipage 5"},{"$f":"IF($P$5=\"Course 1\",Général!D$140,IF($P$5=\"Course 2\",Général!D$142,IF($P$5=\"Course 3\",Général!#REF!,Général!D$144)))","v":"Equipage 5"},{"$f":"IF($Q$5=\"Course 1\",Général!D$148,IF($Q$5=\"Course 2\",Général!D$150,IF($Q$5=\"Course 3\",Général!#REF!,Général!D$152)))","v":"Equipage 10"},{"$f":"IF($R$5=\"Course 1\",Général!D$156,IF($R$5=\"Course 2\",Général!D$158,IF($R$5=\"Course 3\",Général!D$160,Général!D$162)))","v":"Equipage 6"},null,null,null,{"$f":"Général!B12","v":"Equipage 10"},16]
["4ème Equipage",null,{"$f":"IF($C$5=\"Course 1\",Général!E36,IF($C$5=\"Course 2\",Général!E38,IF($C$5=\"Course 3\",Général!#REF!,Général!E40)))","v":"Equipage 2"},{"$f":"IF($D$5=\"Course 1\",Général!E44,IF($D$5=\"Course 2\",Général!E46,IF($D$5=\"Course 3\",Général!#REF!,Général!E48)))","v":"Equipage 4"},{"$f":"IF($E$5=\"Course 1\",Général!E52,IF($E$5=\"Course 2\",Général!E54,IF($E$5=\"Course 3\",Général!#REF!,Général!E56)))","v":"Equipage 10"},{"$f":"IF($F$5=\"Course 1\",Général!E$60,IF($F$5=\"Course 2\",Général!E$62,IF($F$5=\"Course 3\",Général!#REF!,Général!E$64)))","v":"Equipage 11"},{"$f":"IF($G$5=\"Course 1\",Général!E$68,IF($G$5=\"Course 2\",Général!E$70,IF($G$5=\"Course 3\",Général!#REF!,Général!E$72)))","v":"Equipage 11"},{"$f":"IF($H$5=\"Course 1\",Général!E$76,IF($H$5=\"Course 2\",Général!E$78,IF($H$5=\"Course 3\",Général!#REF!,Général!E$80)))","v":"Equipage 12"},{"$f":"IF($I$5=\"Course 1\",Général!E$84,IF($I$5=\"Course 2\",Général!E$86,IF($I$5=\"Course 3\",Général!#REF!,Général!E$88)))","v":"Equipage 12"},{"$f":"IF($J$5=\"Course 1\",Général!E$92,IF($J$5=\"Course 2\",Général!E$94,IF($J$5=\"Course 3\",Général!#REF!,Général!E$96)))","v":"Equipage 9"},{"$f":"IF($K$5=\"Course 1\",Général!E$100,IF($K$5=\"Course 2\",Général!E$102,IF($K$5=\"Course 3\",Général!#REF!,Général!E$104)))","v":"Equipage 2"},{"$f":"IF($L$5=\"Course 1\",Général!E$108,IF($L$5=\"Course 2\",Général!E$110,IF($L$5=\"Course 3\",Général!#REF!,Général!E$112)))","v":"Equipage 11"},{"$f":"IF($M$5=\"Course 1\",Général!E$116,IF($M$5=\"Course 2\",Général!E$118,IF($M$5=\"Course 3\",Général!#REF!,Général!E$120)))","v":"Equipage 12"},{"$f":"IF($N$5=\"Course 1\",Général!E$124,IF($N$5=\"Course 2\",Général!E$126,IF($N$5=\"Course 3\",Général!#REF!,Général!E$128)))","v":"Equipage 6"},{"$f":"IF($O$5=\"Course 1\",Général!E$132,IF($O$5=\"Course 2\",Général!E$134,IF($O$5=\"Course 3\",Général!#REF!,Général!E$136)))","v":"Equipage 6"},{"$f":"IF($P$5=\"Course 1\",Général!E$140,IF($P$5=\"Course 2\",Général!E$142,IF($P$5=\"Course 3\",Général!#REF!,Général!E$144)))","v":"Equipage 9"},{"$f":"IF($Q$5=\"Course 1\",Général!E$148,IF($Q$5=\"Course 2\",Général!E$150,IF($Q$5=\"Course 3\",Général!#REF!,Général!E$152)))","v":"Equipage 6"},{"$f":"IF($R$5=\"Course 1\",Général!E$156,IF($R$5=\"Course 2\",Général!E$158,IF($R$5=\"Course 3\",Général!E$160,Général!E$162)))","v":"Equipage 10"},null,null,null,{"$f":"Général!B13","v":"Equipage 11"},11]
["5ème Equipage",null,{"$f":"IF($C$5=\"Course 1\",Général!F36,IF($C$5=\"Course 2\",Général!F38,IF($C$5=\"Course 3\",Général!#REF!,Général!F40)))","v":"Equipage 11"},{"$f":"IF($D$5=\"Course 1\",Général!F44,IF($D$5=\"Course 2\",Général!F46,IF($D$5=\"Course 3\",Général!#REF!,Général!F48)))","v":"Equipage 8"},{"$f":"IF($E$5=\"Course 1\",Général!F52,IF($E$5=\"Course 2\",Général!F54,IF($E$5=\"Course 3\",Général!#REF!,Général!F56)))","v":"Equipage 7"},{"$f":"IF($F$5=\"Course 1\",Général!F$60,IF($F$5=\"Course 2\",Général!F$62,IF($F$5=\"Course 3\",Général!#REF!,Général!F$64)))","v":"Equipage 9"},{"$f":"IF($G$5=\"Course 1\",Général!F$68,IF($G$5=\"Course 2\",Général!F$70,IF($G$5=\"Course 3\",Général!#REF!,Général!F$72)))","v":"Equipage 4"},{"$f":"IF($H$5=\"Course 1\",Général!F$76,IF($H$5=\"Course 2\",Général!F$78,IF($H$5=\"Course 3\",Général!#REF!,Général!F$80)))","v":"Equipage 10"},{"$f":"IF($I$5=\"Course 1\",Général!F$84,IF($I$5=\"Course 2\",Général!F$86,IF($I$5=\"Course 3\",Général!#REF!,Général!F$88)))","v":"Equipage 5"},{"$f":"IF($J$5=\"Course 1\",Général!F$92,IF($J$5=\"Course 2\",Général!F$94,IF($J$5=\"Course 3\",Général!#REF!,Général!F$96)))","v":"Equipage 5"},{"$f":"IF($K$5=\"Course 1\",Général!F$100,IF($K$5=\"Course 2\",Général!F$102,IF($K$5=\"Course 3\",Général!#REF!,Général!F$104)))","v":"Equipage 10"},{"$f":"IF($L$5=\"Course 1\",Général!F$108,IF($L$5=\"Course 2\",Général!$F110,IF($L$5=\"Course 3\",Général!#REF!,Général!F$112)))","v":"Equipage 10"},{"$f":"IF($M$5=\"Course 1\",Général!F$116,IF($M$5=\"Course 2\",Général!F$118,IF($M$5=\"Course 3\",Général!#REF!,Général!F$120)))","v":"Equipage 9"},{"$f":"IF($N$5=\"Course 1\",Général!F$124,IF($N$5=\"Course 2\",Général!F$126,IF($N$5=\"Course 3\",Général!#REF!,Général!F$128)))","v":"Equipage 11"},{"$f":"IF($O$5=\"Course 1\",Général!F$132,IF($O$5=\"Course 2\",Général!F$134,IF($O$5=\"Course 3\",Général!#REF!,Général!F$136)))","v":"Equipage 11"},{"$f":"IF($P$5=\"Course 1\",Général!F$140,IF($P$5=\"Course 2\",Général!F$142,IF($P$5=\"Course 3\",Général!#REF!,Général!F$144)))","v":"Equipage 3"},{"$f":"IF($Q$5=\"Course 1\",Général!F$148,IF($Q$5=\"Course 2\",Général!F$150,IF($Q$5=\"Course 3\",Général!#REF!,Général!F$152)))","v":"Equipage 7"},{"$f":"IF($R$5=\"Course 1\",Général!F$156,IF($R$5=\"Course 2\",Général!F$158,IF($R$5=\"Course 3\",Général!F$160,Général!F$162)))","v":"Equipage 3"},null,null,null,{"$f":"Général!B14","v":"Equipage 12"},6]
["6ème Equipage",null,{"$f":"IF($C$5=\"Course 1\",Général!G36,IF($C$5=\"Course 2\",Général!G38,IF($C$5=\"Course 3\",Général!#REF!,Général!G40)))","v":"Equipage 5"},{"$f":"IF($D$5=\"Course 1\",Général!G44,IF($D$5=\"Course 2\",Général!G46,IF($D$5=\"Course 3\",Général!#REF!,Général!G48)))","v":"Equipage 10"},{"$f":"IF($E$5=\"Course 1\",Général!G52,IF($E$5=\"Course 2\",Général!G54,IF($E$5=\"Course 3\",Général!#REF!,Général!G56)))","v":"Equipage 2"},{"$f":"IF($F$5=\"Course 1\",Général!G$60,IF($F$5=\"Course 2\",Général!G$62,IF($F$5=\"Course 3\",Général!#REF!,Général!G$64)))","v":"Equipage 12"},{"$f":"IF($G$5=\"Course 1\",Général!G$68,IF($G$5=\"Course 2\",Général!G$70,IF($G$5=\"Course 3\",Général!#REF!,Général!G$72)))","v":"Equipage 10"},{"$f":"IF($H$5=\"Course 1\",Général!G$76,IF($H$5=\"Course 2\",Général!G$78,IF($H$5=\"Course 3\",Général!#REF!,Général!G$80)))","v":"Equipage 3"},{"$f":"IF($I$5=\"Course 1\",Général!G$84,IF($I$5=\"Course 2\",Général!G$86,IF($I$5=\"Course 3\",Général!#REF!,Général!G$88)))","v":"Equipage 2"},{"$f":"IF($J$5=\"Course 1\",Général!G$92,IF($J$5=\"Course 2\",Général!G$94,IF($J$5=\"Course 3\",Général!#REF!,Général!G$96)))","v":"Equipage 2"},{"$f":"IF($K$5=\"Course 1\",Général!G$100,IF($K$5=\"Course 2\",Général!G$102,IF($K$5=\"Course 3\",Général!#REF!,Général!G$104)))","v":"Equipage 6"},{"$f":"IF($L$5=\"Course 1\",Général!G$108,IF($L$5=\"Course 2\",Général!G$110,IF($L$5=\"Course 3\",Général!#REF!,Général!G$112)))","v":"Equipage 6"},{"$f":"IF($M$5=\"Course 1\",Général!G$116,IF($M$5=\"Course 2\",Général!G$118,IF($M$5=\"Course 3\",Général!#REF!,Général!G$120)))","v":"Equipage 11"},{"$f":"IF($N$5=\"Course 1\",Général!G$124,IF($N$5=\"Course 2\",Général!G$126,IF($N$5=\"Course 3\",Général!#REF!,Général!G$128)))","v":"Equipage 3"},{"$f":"IF($O$5=\"Course 1\",Général!G$132,IF($O$5=\"Course 2\",Général!G$134,IF($O$5=\"Course 3\",Général!#REF!,Général!G$136)))","v":"Equipage 3"},{"$f":"IF($P$5=\"Course 1\",Général!G$140,IF($P$5=\"Course 2\",Général!G$142,IF($P$5=\"Course 3\",Général!#REF!,Général!G$144)))","v":"Equipage 1"},{"$f":"IF($Q$5=\"Course 1\",Général!G$148,IF($Q$5=\"Course 2\",Général!G$150,IF($Q$5=\"Course 3\",Général!#REF!,Général!G$152)))","v":"Equipage 1"},{"$f":"IF($R$5=\"Course 1\",Général!G$156,IF($R$5=\"Course 2\",Général!G$158,IF($R$5=\"Course 3\",Général!G$160,Général!G$162)))","v":"Equipage 11"},null,null,null,{"$f":"Général!B15","v":"Equipage 13"},0]
["7ème Equipage",null,{"$f":"IF($C$5=\"Course 1\",Général!H36,IF($C$5=\"Course 2\",Général!H38,IF($C$5=\"Course 3\",Général!#REF!,Général!H40)))","v":0},{"$f":"IF($D$5=\"Course 1\",Général!H44,IF($D$5=\"Course 2\",Général!H46,IF($D$5=\"Course 3\",Général!#REF!,Général!H48)))","v":0},{"$f":"IF($E$5=\"Course 1\",Général!H52,IF($E$5=\"Course 2\",Général!H54,IF($E$5=\"Course 3\",Général!#REF!,Général!H56)))","v":0},{"$f":"IF($F$5=\"Course 1\",Général!H$60,IF($F$5=\"Course 2\",Général!H$62,IF($F$5=\"Course 3\",Général!#REF!,Général!H$64)))","v":0},{"$f":"IF($G$5=\"Course 1\",Général!H$68,IF($G$5=\"Course 2\",Général!H$70,IF($G$5=\"Course 3\",Général!#REF!,Général!H$72)))","v":0},{"$f":"IF($H$5=\"Course 1\",Général!H$76,IF($H$5=\"Course 2\",Général!H$78,IF($H$5=\"Course 3\",Général!#REF!,Général!H$80)))","v":0},{"$f":"IF($I$5=\"Course 1\",Général!H$84,IF($I$5=\"Course 2\",Général!H$86,IF($I$5=\"Course 3\",Général!#REF!,Général!H$88)))","v":0},{"$f":"IF($J$5=\"Course 1\",Général!H$92,IF($J$5=\"Course 2\",Général!H$94,IF($J$5=\"Course 3\",Général!#REF!,Général!H$96)))","v":0},{"$f":"IF($K$5=\"Course 1\",Général!H$100,IF($K$5=\"Course 2\",Général!H$102,IF($K$5=\"Course 3\",Général!#REF!,Général!H$104)))","v":0},{"$f":"IF($L$5=\"Course 1\",Général!H$108,IF($L$5=\"Course 2\",Général!H$110,IF($L$5=\"Course 3\",Général!#REF!,Général!H$112)))","v":0},{"$f":"IF($M$5=\"Course 1\",Général!H$116,IF($M$5=\"Course 2\",Général!H$118,IF($M$5=\"Course 3\",Général!#REF!,Général!H$120)))","v":0},{"$f":"IF($N$5=\"Course 1\",Général!H$124,IF($N$5=\"Course 2\",Général!H$126,IF($N$5=\"Course 3\",Général!#REF!,Général!H$128)))","v":0},{"$f":"IF($O$5=\"Course 1\",Général!H$132,IF($O$5=\"Course 2\",Général!H$134,IF($O$5=\"Course 3\",Général!#REF!,Général!H$136)))","v":0},{"$f":"IF($P$5=\"Course 1\",Général!H$140,IF($P$5=\"Course 2\",Général!H$142,IF($P$5=\"Course 3\",Général!#REF!,Général!H$144)))","v":0},{"$f":"IF($Q$5=\"Course 1\",Général!H$148,IF($Q$5=\"Course 2\",Général!H$150,IF($Q$5=\"Course 3\",Général!#REF!,Général!H$152)))","v":0},{"$f":"IF($R$5=\"Course 1\",Général!H$156,IF($R$5=\"Course 2\",Général!H$158,IF($R$5=\"Course 3\",Général!H$160,Général!H$162)))","v":0},null,null,null,{"$f":"Général!B16","v":"Equipage 14"},0]
["8ème Equipage",null,{"$f":"IF($C$5=\"Course 1\",Général!I36,IF($C$5=\"Course 2\",Général!I38,IF($C$5=\"Course 3\",Général!#REF!,Général!I40)))","v":0},{"$f":"IF($D$5=\"Course 1\",Général!I44,IF($D$5=\"Course 2\",Général!I46,IF($D$5=\"Course 3\",Général!#REF!,Général!I48)))","v":0},{"$f":"IF($E$5=\"Course 1\",Général!I52,IF($E$5=\"Course 2\",Général!I54,IF($E$5=\"Course 3\",Général!#REF!,Général!I56)))","v":0},{"$f":"IF($F$5=\"Course 1\",Général!I$60,IF($F$5=\"Course 2\",Général!I$62,IF($F$5=\"Course 3\",Général!#REF!,Général!I$64)))","v":0},{"$f":"IF($G$5=\"Course 1\",Général!I$68,IF($G$5=\"Course 2\",Général!I$70,IF($G$5=\"Course 3\",Général!#REF!,Général!I$72)))","v":0},{"$f":"IF($H$5=\"Course 1\",Général!I$76,IF($H$5=\"Course 2\",Général!I$78,IF($H$5=\"Course 3\",Général!#REF!,Général!I$80)))","v":0},{"$f":"IF($I$5=\"Course 1\",Général!I$84,IF($I$5=\"Course 2\",Général!I$86,IF($I$5=\"Course 3\",Général!#REF!,Général!I$88)))","v":0},{"$f":"IF($J$5=\"Course 1\",Général!I$92,IF($J$5=\"Course 2\",Général!I$94,IF($J$5=\"Course 3\",Général!#REF!,Général!I$96)))","v":0},{"$f":"IF($K$5=\"Course 1\",Général!I$100,IF($K$5=\"Course 2\",Général!I$102,IF($K$5=\"Course 3\",Général!#REF!,Général!I$104)))","v":0},{"$f":"IF($L$5=\"Course 1\",Général!I$108,IF($L$5=\"Course 2\",Général!I$110,IF($L$5=\"Course 3\",Général!#REF!,Général!I$112)))","v":0},{"$f":"IF($M$5=\"Course 1\",Général!I$116,IF($M$5=\"Course 2\",Général!I$118,IF($M$5=\"Course 3\",Général!#REF!,Général!I$120)))","v":0},{"$f":"IF($N$5=\"Course 1\",Général!I$124,IF($N$5=\"Course 2\",Général!I$126,IF($N$5=\"Course 3\",Général!#REF!,Général!I$128)))","v":0},{"$f":"IF($O$5=\"Course 1\",Général!I$132,IF($O$5=\"Course 2\",Général!I$134,IF($O$5=\"Course 3\",Général!#REF!,Général!I$136)))","v":0},{"$f":"IF($P$5=\"Course 1\",Général!I$140,IF($P$5=\"Course 2\",Général!I$142,IF($P$5=\"Course 3\",Général!#REF!,Général!I$144)))","v":0},{"$f":"IF($Q$5=\"Course 1\",Général!I$148,IF($Q$5=\"Course 2\",Général!I$150,IF($Q$5=\"Course 3\",Général!#REF!,Général!I$152)))","v":0},{"$f":"IF($R$5=\"Course 1\",Général!I$156,IF($R$5=\"Course 2\",Général!I$158,IF($R$5=\"Course 3\",Général!I$160,Général!I$162)))","v":0},null,null,null,{"$f":"Général!B17","v":"Equipage 15"},0]
["9ème Equipage",null,{"$f":"IF($C$5=\"Course 1\",Général!J36,IF($C$5=\"Course 2\",Général!J38,IF($C$5=\"Course 3\",Général!#REF!,Général!J40)))","v":0},{"$f":"IF($D$5=\"Course 1\",Général!J44,IF($D$5=\"Course 2\",Général!J46,IF($D$5=\"Course 3\",Général!#REF!,Général!J48)))","v":0},{"$f":"IF($E$5=\"Course 1\",Général!J52,IF($E$5=\"Course 2\",Général!J54,IF($E$5=\"Course 3\",Général!#REF!,Général!J56)))","v":0},{"$f":"IF($F$5=\"Course 1\",Général!J$60,IF($F$5=\"Course 2\",Général!J$62,IF($F$5=\"Course 3\",Général!#REF!,Général!J$64)))","v":0},{"$f":"IF($G$5=\"Course 1\",Général!J$68,IF($G$5=\"Course 2\",Général!J$70,IF($G$5=\"Course 3\",Général!#REF!,Général!J$72)))","v":0},{"$f":"IF($H$5=\"Course 1\",Général!J$76,IF($H$5=\"Course 2\",Général!J$78,IF($H$5=\"Course 3\",Général!#REF!,Général!J$80)))","v":0},{"$f":"IF($I$5=\"Course 1\",Général!J$84,IF($I$5=\"Course 2\",Général!J$86,IF($I$5=\"Course 3\",Général!#REF!,Général!J$88)))","v":0},{"$f":"IF($J$5=\"Course 1\",Général!J$92,IF($J$5=\"Course 2\",Général!J$94,IF($J$5=\"Course 3\",Général!#REF!,Général!J$96)))","v":0},{"$f":"IF($K$5=\"Course 1\",Général!J$100,IF($K$5=\"Course 2\",Général!J$102,IF($K$5=\"Course 3\",Général!#REF!,Général!J$104)))","v":0},{"$f":"IF($L$5=\"Course 1\",Général!J$108,IF($L$5=\"Course 2\",Général!J$110,IF($L$5=\"Course 3\",Général!#REF!,Général!J$112)))","v":0},{"$f":"IF($M$5=\"Course 1\",Général!J$116,IF($M$5=\"Course 2\",Général!J$118,IF($M$5=\"Course 3\",Général!#REF!,Général!J$120)))","v":0},{"$f":"IF($N$5=\"Course 1\",Général!J$124,IF($N$5=\"Course 2\",Général!J$126,IF($N$5=\"Course 3\",Général!#REF!,Général!J$128)))","v":0},{"$f":"IF($O$5=\"Course 1\",Général!J$132,IF($O$5=\"Course 2\",Général!J$134,IF($O$5=\"Course 3\",Général!#REF!,Général!J$136)))","v":0},{"$f":"IF($P$5=\"Course 1\",Général!J$140,IF($P$5=\"Course 2\",Général!J$142,IF($P$5=\"Course 3\",Général!#REF!,Général!J$144)))","v":0},{"$f":"IF($Q$5=\"Course 1\",Général!J$148,IF($Q$5=\"Course 2\",Général!J$150,IF($Q$5=\"Course 3\",Général!#REF!,Général!J$152)))","v":0},{"$f":"IF($R$5=\"Course 1\",Général!J$156,IF($R$5=\"Course 2\",Général!J$158,IF($R$5=\"Course 3\",Général!J$160,Général!J$162)))","v":0},null,null,null,{"$f":"Général!B18","v":"Equipage 16"},0]
["10ème Equipage",null,{"$f":"IF($C$5=\"Course 1\",Général!K36,IF($C$5=\"Course 2\",Général!K38,IF($C$5=\"Course 3\",Général!#REF!,Général!K40)))","v":0},{"$f":"IF($D$5=\"Course 1\",Général!K44,IF($D$5=\"Course 2\",Général!K46,IF($D$5=\"Course 3\",Général!#REF!,Général!K48)))","v":0},{"$f":"IF($E$5=\"Course 1\",Général!K52,IF($E$5=\"Course 2\",Général!K54,IF($E$5=\"Course 3\",Général!#REF!,Général!K56)))","v":0},{"$f":"IF($F$5=\"Course 1\",Général!K$60,IF($F$5=\"Course 2\",Général!K$62,IF($F$5=\"Course 3\",Général!#REF!,Général!K$64)))","v":0},{"$f":"IF($G$5=\"Course 1\",Général!K$68,IF($G$5=\"Course 2\",Général!K$70,IF($G$5=\"Course 3\",Général!#REF!,Général!K$72)))","v":0},{"$f":"IF($H$5=\"Course 1\",Général!K$76,IF($H$5=\"Course 2\",Général!K$78,IF($H$5=\"Course 3\",Général!#REF!,Général!K$80)))","v":0},{"$f":"IF($I$5=\"Course 1\",Général!K$84,IF($I$5=\"Course 2\",Général!K$86,IF($I$5=\"Course 3\",Général!#REF!,Général!K$88)))","v":0},{"$f":"IF($J$5=\"Course 1\",Général!K$92,IF($J$5=\"Course 2\",Général!K$94,IF($J$5=\"Course 3\",Général!#REF!,Général!K$96)))","v":0},{"$f":"IF($K$5=\"Course 1\",Général!K$100,IF($K$5=\"Course 2\",Général!K$102,IF($K$5=\"Course 3\",Général!#REF!,Général!K$104)))","v":0},{"$f":"IF($L$5=\"Course 1\",Général!K$108,IF($L$5=\"Course 2\",Général!K$110,IF($L$5=\"Course 3\",Général!#REF!,Général!K$112)))","v":0},{"$f":"IF($M$5=\"Course 1\",Général!K$116,IF($M$5=\"Course 2\",Général!K$118,IF($M$5=\"Course 3\",Général!#REF!,Général!K$120)))","v":0},{"$f":"IF($N$5=\"Course 1\",Général!K$124,IF($N$5=\"Course 2\",Général!K$126,IF($N$5=\"Course 3\",Général!#REF!,Général!K$128)))","v":0},{"$f":"IF($O$5=\"Course 1\",Général!K$132,IF($O$5=\"Course 2\",Général!K$134,IF($O$5=\"Course 3\",Général!#REF!,Général!K$136)))","v":0},{"$f":"IF($P$5=\"Course 1\",Général!K$140,IF($P$5=\"Course 2\",Général!K$142,IF($P$5=\"Course 3\",Général!#REF!,Général!K$144)))","v":0},{"$f":"IF($Q$5=\"Course 1\",Général!K$148,IF($Q$5=\"Course 2\",Général!K$150,IF($Q$5=\"Course 3\",Général!#REF!,Général!K$152)))","v":0},{"$f":"IF($R$5=\"Course 1\",Général!K$156,IF($R$5=\"Course 2\",Général!K$158,IF($R$5=\"Course 3\",Général!K$160,Général!K$162)))","v":0},null,null,null,{"$f":"Général!B19","v":"Equipage 17"},0]
[null,null,null,null,null,null,null,null,null,null,null,null,null,null,null,null,null,null,null,null,null,{"$f":"Général!B20","v":"Equipage 18"},0]
[null,null,null,null,null,null,null,null,null,null,null,null,null,null,null,null,null,null,null,null,null,{"$f":"Général!B21","v":"Equipage 19"},{"$f":"COUNTIF($C$8:$R$17,V19)","v":0}]
[null,null,null,null,null,null,null,null,null,null,null,null,null,null,null,null,null,null,null,null,null,{"$f":"Général!B22","v":"Equipage 20"},0]
[null,null,null,null,null,null,null,null,null,null,null,null,null,null,null,null,null,null,null,null,null,{"$f":"Général!B23","v":"Equipage 21"},0]
[null,null,null,null,null,null,null,null,null,null,null,null,null,null,null,null,null,null,null,null,null,{"$f":"Général!B24","v":"Equipage 22"},0]
[null,null,null,null,null,null,null,null,null,null,null,null,null,null,null,null,null,null,null,null,null,{"$f":"Général!B25","v":"Equipage 23"},0]
[null,null,null,null,null,null,null,null,null,null,null,null,null,null,null,null,null,null,null,null,null,{"$f":"Général!B26","v":"Equipage 24"},0]
[null,null,null,null,null,null,null,null,null,null,null,null,null,null,null,null,null,null,null,null,null,{"$f":"Général!B27","v":"Equipage 25"},0]
[null,null,null,null,null,null,null,null,null,null,null,null,null,null,null,null,null,null,null,null,null,{"$f":"Général!B28","v":"Equipage 26"},0]
[null,null,null,null,null,null,null,null,null,null,null,null,null,null,null,null,null,null,null,null,null,{"$f":"Général!B29","v":"Equipage 27"},0]
[null,null,null,null,null,null,null,null,null,null,null,null,null,null,null,null,null,null,null,null,null,{"$f":"Général!B30","v":"Equipage 28"},0]
[null,null,null,null,null,null,null,null,null,null,null,null,null,null,null,null,null,null,null,null,null,{"$f":"Général!B31","v":"Equipage 29"},0]
[null,null,null,null,null,null,null,null,null,null,null,null,null,null,null,null,null,null,null,null,null,{"$f":"Général!B32","v":"Equipage 30"},0]

{"sheet":"Eq.11","index":15,"n_rows":30,"n_cols":23,"rows_kept":30,"cut":false,"hidden":true,"merged":[[7,0,7,1],[0,0,1,5],[0,6,1,10],[3,0,3,1],[4,0,4,1],[5,0,5,1],[14,0,14,1],[15,0,15,1],[16,0,16,1],[8,0,8,1],[9,0,9,1],[10,0,10,1],[11,0,11,1],[12,0,12,1],[13,0,13,1]]}
["Equipage ",null,null,null,null,null,{"$f":"Général!B13","v":"Equipage 11"},null,null,null,null,null,null,null,null,null,null,null,null,null,null,{"$f":"Général!B3","v":"Equipage 1"},{"$f":"COUNTIF(C$8:R$17,V1)","v":6}]
[null,null,null,null,null,null,null,null,null,null,null,null,null,null,null,null,null,null,null,null,null,{"$f":"Général!B4","v":"Equipage 2"},{"$f":"COUNTIF($C$8:$R$17,V2)","v":6}]
[null,null,null,null,null,null,null,null,null,null,null,null,null,null,null,null,null,null,null,null,null,{"$f":"Général!B5","v":"Equipage 3"},{"$f":"COUNTIF($C$8:$R$17,V3)","v":5}]
[null,null,"FLIGHT 1","FLIGHT 2","FLIGHT 3","FLIGHT 4","FLIGHT 5","FLIGHT 6","FLIGHT 7","FLIGHT 8","FLIGHT 9","FLIGHT 10","FLIGHT 11","FLIGHT 12","FLIGHT 13","FLIGHT 14","FLIGHT 15","FLIGHT 16","FLIGHT 17","FLIGHT 18",null,{"$f":"Général!B6","v":"Equipage 4"},{"$f":"COUNTIF($C$8:$R$17,V4)","v":7}]
["N° de course",null,{"$f":"IF(COUNTIF(Général!B36:K36,$G$1)=1,\"Course 1\",IF(COUNTIF(Général!B38:K38,$G$1)=1,\"Course 2\",IF(COUNTIF(Général!#REF!,$G$1)=1,\"Course 3\",\"Course 4\")))","v":"Course 1"},{"$f":"IF(COUNTIF(Général!B44:K44,$G$1)=1,\"Course 1\",IF(COUNTIF(Général!B46:K46,$G$1)=1,\"Course 2\",IF(COUNTIF(Général!#REF!,$G$1)=1,\"Course 3\",\"Course 4\")))","v":"Course 2"},{"$f":"IF(COUNTIF(Général!B52:K52,$G$1)=1,\"Course 1\",IF(COUNTIF(Général!B54:K54,$G$1)=1,\"Course 2\",IF(COUNTIF(Général!#REF!,$G$1)=1,\"Course 3\",\"Course 4\")))","v":"Course 1"},{"$f":"IF(COUNTIF(Général!B60:K60,$G$1)=1,\"Course 1\",IF(COUNTIF(Général!B62:K62,$G$1)=1,\"Course 2\",IF(COUNTIF(Général!#REF!,$G$1)=1,\"Course 3\",\"Course 4\")))","v":"Course 2"},{"$f":"IF(COUNTIF(Général!B68:K68,$G$1)=1,\"Course 1\",IF(COUNTIF(Général!B70:K70,$G$1)=1,\"Course 2\",IF(COUNTIF(Général!#REF!,$G$1)=1,\"Course 3\",\"Course 4\")))","v":"Course 2"},{"$f":"IF(COUNTIF(Général!B76:K76,$G$1)=1,\"Course 1\",IF(COUNTIF(Général!B78:K78,$G$1)=1,\"Course 2\",IF(COUNTIF(Général!#REF!,$G$1)=1,\"Course 3\",\"Course 4\")))","v":"Course 1"},{"$f":"IF(COUNTIF(Général!B84:K84,$G$1)=1,\"Course 1\",IF(COUNTIF(Général!B86:K86,$G$1)=1,\"Course 2\",IF(COUNTIF(Général!#REF!,$G$1)=1,\"Course 3\",\"Course 4\")))","v":"Course 2"},{"$f":"IF(COUNTIF(Général!B92:K92,$G$1)=1,\"Course 1\",IF(COUNTIF(Général!B94:K94,$G$1)=1,\"Course 2\",IF(COUNTIF(Général!#REF!,$G$1)=1,\"Course 3\",\"Course 4\")))","v":"Course 2"},{"$f":"IF(COUNTIF(Général!B100:K100,$G$1)=1,\"Course 1\",IF(COUNTIF(Général!B102:K102,$G$1)=1,\"Course 2\",IF(COUNTIF(Général!#REF!,$G$1)=1,\"Course 3\",\"Course 4\")))","v":"Course 1"},{"$f":"IF(COUNTIF(Général!B108:K108,$G$1)=1,\"Course 1\",IF(COUNTIF(Général!B110:K110,$G$1)=1,\"Course 2\",IF(COUNTIF(Général!#REF!,$G$1)=1,\"Course 3\",\"Course 4\")))","v":"Course 1"},{"$f":"IF(COUNTIF(Général!B116:K116,$G$1)=1,\"Course 1\",IF(COUNTIF(Général!B118:K118,$G$1)=1,\"Course 2\",IF(COUNTIF(Général!#REF!,$G$1)=1,\"Course 3\",\"Course 4\")))","v":"Course 1"},{"$f":"IF(COUNTIF(Général!B124:K124,$G$1)=1,\"Course 1\",IF(COUNTIF(Général!B126:K126,$G$1)=1,\"Course 2\",IF(COUNTIF(Général!#REF!,$G$1)=1,\"Course 3\",\"Course 4\")))","v":"Course 2"},{"$f":"IF(COUNTIF(Général!B132:K132,$G$1)=1,\"Course 1\",IF(COUNTIF(Général!B134:K134,$G$1)=1,\"Course 2\",IF(COUNTIF(Général!#REF!,$G$1)=1,\"Course 3\",\"Course 4\")))","v":"Course 1"},{"$f":"IF(COUNTIF(Général!B140:K140,$G$1)=1,\"Course 1\",IF(COUNTIF(Général!B142:K142,$G$1)=1,\"Course 2\",IF(COUNTIF(Général!#REF!,$G$1)=1,\"Course 3\",\"Course 4\")))","v":"Course 2"},{"$f":"IF(COUNTIF(Général!B148:K148,$G$1)=1,\"Course 1\",IF(COUNTIF(Général!B150:K150,$G$1)=1,\"Course 2\",IF(COUNTIF(Général!#REF!,$G$1)=1,\"Course 3\",\"Course 4\")))","v":"Course 1"},{"$f":"IF(COUNTIF(Général!B156:K156,$G$1)=1,\"Course 1\",IF(COUNTIF(Général!B158:K158,$G$1)=1,\"Course 2\",IF(COUNTIF(Général!B160:K160,$G$1)=1,\"Course 3\",\"Course 4\")))","v":"Course 2"},{"$f":"IF(COUNTIF(Général!C156:L156,$G$1)=1,\"Course 1\",IF(COUNTIF(Général!C158:L158,$G$1)=1,\"Course 2\",IF(COUNTIF(Général!C160:L160,$G$1)=1,\"Course 3\",\"Course 4\")))","v":"Course 2"},{"$f":"IF(COUNTIF(Général!D156:M156,$G$1)=1,\"Course 1\",IF(COUNTIF(Général!D158:M158,$G$1)=1,\"Course 2\",IF(COUNTIF(Général!D160:M160,$G$1)=1,\"Course 3\",\"Course 4\")))","v":"Course 2"},null,{"$f":"Général!B7","v":"Equipage 5"},9]
["Bateau",null,{"$f":"IF(COUNTIF(Général!B36:B40,$G$1)=1,\"Boat 1\",IF(COUNTIF(Général!C36:C40,$G$1)=1,\"Boat 2\",IF(COUNTIF(Général!D36:D40,$G$1)=1,\"Boat 3\",IF(COUNTIF(Général!E36:E40,$G$1)=1,\"Boat 4\",IF(COUNTIF(Général!F36:F40,$G$1)=1,\"Boat 5\",IF(COUNTIF(Général!G36:G40,$G$1)=1,\"Boat 6\",IF(COUNTIF(Général!H36:H40,$G$1)=1,\"Boat 7\",IF(COUNTIF(Général!I36:I40,$G$1)=1,\"Boat 8\",IF(COUNTIF(Général!J36:J40,$G$1)=1,\"Boat 9\",\"Boat10\")))))))))","v":"Boat 5"},{"$f":"IF(COUNTIF(Général!B44:B48,$G$1)=1,\"Boat 1\",IF(COUNTIF(Général!C44:C48,$G$1)=1,\"Boat 2\",IF(COUNTIF(Général!D44:D48,$G$1)=1,\"Boat 3\",IF(COUNTIF(Général!E44:E48,$G$1)=1,\"Boat 4\",IF(COUNTIF(Général!F44:F48,$G$1)=1,\"Boat 5\",IF(COUNTIF(Général!G44:G48,$G$1)=1,\"Boat 6\",IF(COUNTIF(Général!H44:H48,$G$1)=1,\"Boat 7\",IF(COUNTIF(Général!I44:I48,$G$1)=1,\"Boat 8\",IF(COUNTIF(Général!J44:J48,$G$1)=1,\"Boat 9\",\"Boat 10\")))))))))","v":"Boat 2"},{"$f":"IF(COUNTIF(Général!B52:B56,$G$1)=1,\"Boat 1\",IF(COUNTIF(Général!C52:C56,$G$1)=1,\"Boat 2\",IF(COUNTIF(Général!D52:D56,$G$1)=1,\"Boat 3\", IF(COUNTIF(Général!E52:E56,$G$1)=1,\"Boat 4\", IF(COUNTIF(Général!F52:F56,$G$1)=1,\"Boat 5\", IF(COUNTIF(Général!G52:G56,$G$1)=1,\"Boat 6\", IF(COUNTIF(Général!H52:H56,$G$1)=1,\"Boat 7\",IF(COUNTIF(Général!I52:I56,$G$1)=1,\"Boat 8\",IF(COUNTIF(Général!J52:J56,$G$1)=1,\"Boat 9\",\"Boat 10\")))))))))","v":"Boat 2"},{"$f":"IF(COUNTIF(Général!B60:B64,$G$1)=1,\"Boat 1\",IF(COUNTIF(Général!C60:C64,$G$1)=1,\"Boat 2\",IF(COUNTIF(Général!D60:D64,$G$1)=1,\"Boat 3\", IF(COUNTIF(Général!E60:E64,$G$1)=1,\"Boat 4\", IF(COUNTIF(Général!F60:F64,$G$1)=1,\"Boat 5\", IF(COUNTIF(Général!G60:G64,$G$1)=1,\"Boat 6\", IF(COUNTIF(Général!H60:H64,$G$1)=1,\"Boat 7\",IF(COUNTIF(Général!I60:I64,$G$1)=1,\"Boat 8\",IF(COUNTIF(Général!I60:J64,$G$1)=1,\"Boat 9\",\"Boat 10\")))))))))","v":"Boat 4"},{"$f":"IF(COUNTIF(Général!B68:B72,$G$1)=1,\"Boat 1\",IF(COUNTIF(Général!C68:C72,$G$1)=1,\"Boat 2\",IF(COUNTIF(Général!D68:D72,$G$1)=1,\"Boat 3\", IF(COUNTIF(Général!E68:E72,$G$1)=1,\"Boat 4\", IF(COUNTIF(Général!F68:F72,$G$1)=1,\"Boat 5\", IF(COUNTIF(Général!G68:G72,$G$1)=1,\"Boat 6\", IF(COUNTIF(Général!H68:H72,$G$1)=1,\"Boat 7\",IF(COUNTIF(Général!I68:I72,$G$1)=1,\"Boat 8\",IF(COUNTIF(Général!J68:J72,$G$1)=1,\"Boat 9\",\"Boat 10\")))))))))","v":"Boat 4"},{"$f":"IF(COUNTIF(Général!B76:B80,$G$1)=1,\"Boat 1\",IF(COUNTIF(Général!C76:C80,$G$1)=1,\"Boat 2\",IF(COUNTIF(Général!D76:D80,$G$1)=1,\"Boat 3\", IF(COUNTIF(Général!E76:E80,$G$1)=1,\"Boat 4\", IF(COUNTIF(Général!F76:F80,$G$1)=1,\"Boat 5\", IF(COUNTIF(Général!G76:G80,$G$1)=1,\"Boat 6\", IF(COUNTIF(Général!H76:H80,$G$1)=1,\"Boat 7\",IF(COUNTIF(Général!I76:I80,$G$1)=1,\"Boat 8\",IF(COUNTIF(Général!J76:J80,$G$1)=1,\"Boat 9\",\"Boat 10\")))))))))","v":"Boat 4"},{"$f":"IF(COUNTIF(Général!B84:B88,$G$1)=1,\"Boat 1\",IF(COUNTIF(Général!C84:C88,$G$1)=1,\"Boat 2\",IF(COUNTIF(Général!D84:D88,$G$1)=1,\"Boat 3\", IF(COUNTIF(Général!E84:E88,$G$1)=1,\"Boat 4\", IF(COUNTIF(Général!F84:F88,$G$1)=1,\"Boat 5\", IF(COUNTIF(Général!G84:G88,$G$1)=1,\"Boat 6\", IF(COUNTIF(Général!H84:H88,$G$1)=1,\"Boat 7\",IF(COUNTIF(Général!I84:I88,$G$1)=1,\"Boat 8\",IF(COUNTIF(Général!J84:J88,$G$1)=1,\"Boat 9\",\"Boat 10\")))))))))","v":"Boat 3"},{"$f":"IF(COUNTIF(Général!B92:B96,$G$1)=1,\"Boat 1\",IF(COUNTIF(Général!C92:C96,$G$1)=1,\"Boat 2\",IF(COUNTIF(Général!D92:D96,$G$1)=1,\"Boat 3\", IF(COUNTIF(Général!E92:E96,$G$1)=1,\"Boat 4\", IF(COUNTIF(Général!F92:F96,$G$1)=1,\"Boat 5\", IF(COUNTIF(Général!G92:G96,$G$1)=1,\"Boat 6\", IF(COUNTIF(Général!H92:H96,$G$1)=1,\"Boat 7\",IF(COUNTIF(Général!I92:I96,$G$1)=1,\"Boat 8\",IF(COUNTIF(Général!J92:J96,$G$1)=1,\"Boat 9\",\"Boat 10\")))))))))","v":"Boat 1"},{"$f":"IF(COUNTIF(Général!B100:B104,$G$1)=1,\"Boat 1\",IF(COUNTIF(Général!C100:C104,$G$1)=1,\"Boat 2\",IF(COUNTIF(Général!D100:D104,$G$1)=1,\"Boat 3\", IF(COUNTIF(Général!E100:E104,$G$1)=1,\"Boat 4\", IF(COUNTIF(Général!F100:F104,$G$1)=1,\"Boat 5\", IF(COUNTIF(Général!G100:G104,$G$1)=1,\"Boat 6\", IF(COUNTIF(Général!H100:H104,$G$1)=1,\"Boat 7\",IF(COUNTIF(Général!I100:I104,$G$1)=1,\"Boat 8\",IF(COUNTIF(Général!J100:J104,$G$1)=1,\"Boat 9\",\"Boat 10\")))))))))","v":"Boat 1"},{"$f":"IF(COUNTIF(Général!B108:B112,$G$1)=1,\"Boat 1\",IF(COUNTIF(Général!C108:C112,$G$1)=1,\"Boat 2\",IF(COUNTIF(Général!D108:D112,$G$1)=1,\"Boat 3\", IF(COUNTIF(Général!E108:E112,$G$1)=1,\"Boat 4\", IF(COUNTIF(Général!F108:F112,$G$1)=1,\"Boat 5\", IF(COUNTIF(Général!G108:G112,$G$1)=1,\"Boat 6\", IF(COUNTIF(Général!H108:H112,$G$1)=1,\"Boat 7\",IF(COUNTIF(Général!I108:I112,$G$1)=1,\"Boat 8\",IF(COUNTIF(Général!J108:J112,$G$1)=1,\"Boat 9\",\"Boat 10\")))))))))","v":"Boat 4"},{"$f":"IF(COUNTIF(Général!B116:B120,$G$1)=1,\"Boat 1\",IF(COUNTIF(Général!C116:C120,$G$1)=1,\"Boat 2\",IF(COUNTIF(Général!C116:D120,$G$1)=1,\"Boat 3\", IF(COUNTIF(Général!C116:E120,$G$1)=1,\"Boat 4\", IF(COUNTIF(Général!F116:F120,$G$1)=1,\"Boat 5\", IF(COUNTIF(Général!G116:G120,$G$1)=1,\"Boat 6\", IF(COUNTIF(Général!H116:H120,$G$1)=1,\"Boat 7\",IF(COUNTIF(Général!I116:I120,$G$1)=1,\"Boat 8\",IF(COUNTIF(Général!J116:J120,$G$1)=1,\"Boat 9\",\"Boat 10\")))))))))","v":"Boat 6"},{"$f":"IF(COUNTIF(Général!B124:B128,$G$1)=1,\"Boat 1\",IF(COUNTIF(Général!C124:C128,$G$1)=1,\"Boat 2\",IF(COUNTIF(Général!D124:D128,$G$1)=1,\"Boat 3\", IF(COUNTIF(Général!E124:E128,$G$1)=1,\"Boat 4\", IF(COUNTIF(Général!F124:F128,$G$1)=1,\"Boat 5\", IF(COUNTIF(Général!G124:G128,$G$1)=1,\"Boat 6\", IF(COUNTIF(Général!H124:H128,$G$1)=1,\"Boat 7\",IF(COUNTIF(Général!I124:I128,$G$1)=1,\"Boat 8\",IF(COUNTIF(Général!J124:J128,$G$1)=1,\"Boat 9\",\"Boat 10\")))))))))","v":"Boat 5"},{"$f":"IF(COUNTIF(Général!B132:B136,$G$1)=1,\"Boat 1\",IF(COUNTIF(Général!C132:C136,$G$1)=1,\"Boat 2\",IF(COUNTIF(Général!D134:D136,$G$1)=1,\"Boat 3\", IF(COUNTIF(Général!E132:E136,$G$1)=1,\"Boat 4\", IF(COUNTIF(Général!F132:F136,$G$1)=1,\"Boat 5\", IF(COUNTIF(Général!G132:G136,$G$1)=1,\"Boat 6\", IF(COUNTIF(Général!H132:H136,$G$1)=1,\"Boat 7\",IF(COUNTIF(Général!I132:I136,$G$1)=1,\"Boat 8\",IF(COUNTIF(Général!J132:J136,$G$1)=1,\"Boat 9\",\"Boat 10\")))))))))","v":"Boat 5"},{"$f":"IF(COUNTIF(Général!B140:B144,$G$1)=1,\"Boat 1\",IF(COUNTIF(Général!C140:C144,$G$1)=1,\"Boat 2\",IF(COUNTIF(Général!D140:D144,$G$1)=1,\"Boat 3\", IF(COUNTIF(Général!E140:E144,$G$1)=1,\"Boat 4\", IF(COUNTIF(Général!F140:F144,$G$1)=1,\"Boat 5\", IF(COUNTIF(Général!G140:G144,$G$1)=1,\"Boat 6\", IF(COUNTIF(Général!H140:H144,$G$1)=1,\"Boat 7\",IF(COUNTIF(Général!I140:I144,$G$1)=1,\"Boat 8\",IF(COUNTIF(Général!J140:J144,$G$1)=1,\"Boat 9\",\"Boat 10\")))))))))","v":"Boat 2"},{"$f":"IF(COUNTIF(Général!B148:B152,$G$1)=1,\"Boat 1\",IF(COUNTIF(Général!C148:C152,$G$1)=1,\"Boat 2\",IF(COUNTIF(Général!D148:D152,$G$1)=1,\"Boat 3\", IF(COUNTIF(Général!E148:E152,$G$1)=1,\"Boat 4\", IF(COUNTIF(Général!F148:F152,$G$1)=1,\"Boat 5\", IF(COUNTIF(Général!G148:G152,$G$1)=1,\"Boat 6\", IF(COUNTIF(Général!H148:H152,$G$1)=1,\"Boat 7\",IF(COUNTIF(Général!I148:I152,$G$1)=1,\"Boat 8\",IF(COUNTIF(Général!J148:J152,$G$1)=1,\"Boat 9\",\"Boat 10\")))))))))","v":"Boat 2"},{"$f":"IF(COUNTIF(Général!B156:B159,$G$1)=1,\"Boat 1\",IF(COUNTIF(Général!C156:C159,$G$1)=1,\"Boat 2\",IF(COUNTIF(Général!D156:D159,$G$1)=1,\"Boat 3\", IF(COUNTIF(Général!E156:E159,$G$1)=1,\"Boat 4\", IF(COUNTIF(Général!F156:F159,$G$1)=1,\"Boat 5\", IF(COUNTIF(Général!G156:G159,$G$1)=1,\"Boat 6\", IF(COUNTIF(Général!H156:H159,$G$1)=1,\"Boat 7\",IF(COUNTIF(Général!I156:I159,$G$1)=1,\"Boat 8\",IF(COUNTIF(Général!J156:J159,$G$1)=1,\"Boat 9\",\"Boat 10\")))))))))","v":"Boat 6"},{"$f":"IF(COUNTIF(Général!B162:B165,$G$1)=1,\"Boat 1\",IF(COUNTIF(Général!C162:C165,$G$1)=1,\"Boat 2\",IF(COUNTIF(Général!D162:D165,$G$1)=1,\"Boat 3\", IF(COUNTIF(Général!E162:E165,$G$1)=1,\"Boat 4\", IF(COUNTIF(Général!F162:F165,$G$1)=1,\"Boat 5\", IF(COUNTIF(Général!G162:G165,$G$1)=1,\"Boat 6\", IF(COUNTIF(Général!H162:H165,$G$1)=1,\"Boat 7\",IF(COUNTIF(Général!I162:I165,$G$1)=1,\"Boat 8\",IF(COUNTIF(Général!J162:J165,$G$1)=1,\"Boat 9\",\"Boat 10\")))))))))","v":"Boat 6"},{"$f":"IF(COUNTIF(Général!B168:B171,$G$1)=1,\"Boat 1\",IF(COUNTIF(Général!C168:C171,$G$1)=1,\"Boat 2\",IF(COUNTIF(Général!D168:D171,$G$1)=1,\"Boat 3\", IF(COUNTIF(Général!E168:E171,$G$1)=1,\"Boat 4\", IF(COUNTIF(Général!F168:F171,$G$1)=1,\"Boat 5\", IF(COUNTIF(Général!G168:G171,$G$1)=1,\"Boat 6\", IF(COUNTIF(Général!H168:H171,$G$1)=1,\"Boat 7\",IF(COUNTIF(Général!I168:I171,$G$1)=1,\"Boat 8\",IF(COUNTIF(Général!J168:J171,$G$1)=1,\"Boat 9\",\"Boat 10\")))))))))","v":"Boat 6"},null,{"$f":"Général!B8","v":"Equipage 6"},8]
[null,null,null,null,null,null,null,null,null,null,null,null,null,null,null,null,null,null,null,null,null,{"$f":"Général!B9","v":"Equipage 7"},5]
["1er Equipage",null,{"$f":"IF($C$5=\"Course 1\",Général!B36,IF($C$5=\"Course 2\",Général!B38,IF($C$5=\"Course 3\",Général!#REF!,Général!B40)))","v":"Equipage 6"},{"$f":"IF($D$5=\"Course 1\",Général!B44,IF($D$5=\"Course 2\",Général!B46,IF($D$5=\"Course 3\",Général!#REF!,Général!B48)))","v":"Equipage 12"},{"$f":"IF($E$5=\"Course 1\",Général!B52,IF($E$5=\"Course 2\",Général!B54,IF($E$5=\"Course 3\",Général!#REF!,Général!B56)))","v":"Equipage 5"},{"$f":"IF($F$5=\"Course 1\",Général!B$60,IF($F$5=\"Course 2\",Général!B$62,IF($F$5=\"Course 3\",Général!#REF!,Général!B$64)))","v":"Equipage 4"},{"$f":"IF($G$5=\"Course 1\",Général!B$68,IF($G$5=\"Course 2\",Général!B$70,IF($G$5=\"Course 3\",Général!#REF!,Général!B$72)))","v":"Equipage 5"},{"$f":"IF($H$5=\"Course 1\",Général!B$76,IF($H$5=\"Course 2\",Général!B$78,IF($H$5=\"Course 3\",Général!#REF!,Général!B$80)))","v":"Equipage 5"},{"$f":"IF($I$5=\"Course 1\",Général!B$84,IF($I$5=\"Course 2\",Général!B$86,IF($I$5=\"Course 3\",Général!#REF!,Général!B$88)))","v":"Equipage 8"},{"$f":"IF($J$5=\"Course 1\",Général!B$92,IF($J$5=\"Course 2\",Général!B$94,IF($J$5=\"Course 3\",Général!#REF!,Général!B$96)))","v":"Equipage 11"},{"$f":"IF($K$5=\"Course 1\",Général!B$100,IF($K$5=\"Course 2\",Général!B$102,IF($K$5=\"Course 3\",Général!#REF!,Général!B$104)))","v":"Equipage 11"},{"$f":"IF($L$5=\"Course 1\",Général!B$108,IF($L$5=\"Course 2\",Général!B$110,IF($L$5=\"Course 3\",Général!#REF!,Général!B$112)))","v":"Equipage 4"},{"$f":"IF($M$5=\"Course 1\",Général!B$116,IF($M$5=\"Course 2\",Général!B$118,IF($M$5=\"Course 3\",Général!#REF!,Général!B$120)))","v":"Equipage 6"},{"$f":"IF($N$5=\"Course 1\",Général!B$124,IF($N$5=\"Course 2\",Général!B$126,IF($N$5=\"Course 3\",Général!#REF!,Général!B$128)))","v":"Equipage 12"},{"$f":"IF($O$5=\"Course 1\",Général!B$132,IF($O$5=\"Course 2\",Général!B$134,IF($O$5=\"Course 3\",Général!#REF!,Général!B$136)))","v":"Equipage 7"},{"$f":"IF($P$5=\"Course 1\",Général!B$140,IF($P$5=\"Course 2\",Général!B$142,IF($P$5=\"Course 3\",Général!#REF!,Général!B$144)))","v":"Equipage 10"},{"$f":"IF($Q$5=\"Course 1\",Général!B$148,IF($Q$5=\"Course 2\",Général!B$150,IF($Q$5=\"Course 3\",Général!#REF!,Général!B$152)))","v":"Equipage 12"},{"$f":"IF($R$5=\"Course 1\",Général!B$156,IF($R$5=\"Course 2\",Général!B$158,IF($R$5=\"Course 3\",Général!B$160,Général!B$162)))","v":"Equipage 4"},null,null,null,{"$f":"Général!B10","v":"Equipage 8"},6]
["2nd Equipage",null,{"$f":"IF($C$5=\"Course 1\",Général!C36,IF($C$5=\"Course 2\",Général!C38,IF($C$5=\"Course 3\",Général!#REF!,Général!C40)))","v":"Equipage 7"},{"$f":"IF($D$5=\"Course 1\",Général!C44,IF($D$5=\"Course 2\",Général!C46,IF($D$5=\"Course 3\",Général!#REF!,Général!C48)))","v":"Equipage 11"},{"$f":"IF($E$5=\"Course 1\",Général!C52,IF($E$5=\"Course 2\",Général!C54,IF($E$5=\"Course 3\",Général!#REF!,Général!C56)))","v":"Equipage 11"},{"$f":"IF($F$5=\"Course 1\",Général!C$60,IF($F$5=\"Course 2\",Général!C$62,IF($F$5=\"Course 3\",Général!#REF!,Général!C$64)))","v":"Equipage 1"},{"$f":"IF($G$5=\"Course 1\",Général!C$68,IF($G$5=\"Course 2\",Général!C$70,IF($G$5=\"Course 3\",Général!#REF!,Général!C$72)))","v":"Equipage 2"},{"$f":"IF($H$5=\"Course 1\",Général!C$76,IF($H$5=\"Course 2\",Général!C$78,IF($H$5=\"Course 3\",Général!#REF!,Général!C$80)))","v":"Equipage 6"},{"$f":"IF($I$5=\"Course 1\",Général!C$84,IF($I$5=\"Course 2\",Général!C$86,IF($I$5=\"Course 3\",Général!#REF!,Général!C$88)))","v":"Equipage 10"},{"$f":"IF($J$5=\"Course 1\",Général!C$92,IF($J$5=\"Course 2\",Général!C$94,IF($J$5=\"Course 3\",Général!#REF!,Général!C$96)))","v":"Equipage 8"},{"$f":"IF($K$5=\"Course 1\",Général!C$100,IF($K$5=\"Course 2\",Général!C$102,IF($K$5=\"Course 3\",Général!#REF!,Général!C$104)))","v":"Equipage 7"},{"$f":"IF($L$5=\"Course 1\",Général!C$108,IF($L$5=\"Course 2\",Général!C$110,IF($L$5=\"Course 3\",Général!#REF!,Général!C$112)))","v":"Equipage 8"},{"$f":"IF($M$5=\"Course 1\",Général!C$116,IF($M$5=\"Course 2\",Général!C$118,IF($M$5=\"Course 3\",Général!#REF!,Général!C$120)))","v":"Equipage 5"},{"$f":"IF($N$5=\"Course 1\",Général!C$124,IF($N$5=\"Course 2\",Général!C$126,IF($N$5=\"Course 3\",Général!#REF!,Général!C$128)))","v":"Equipage 10"},{"$f":"IF($O$5=\"Course 1\",Général!C$132,IF($O$5=\"Course 2\",Général!C$134,IF($O$5=\"Course 3\",Général!#REF!,Général!C$136)))","v":"Equipage 10"},{"$f":"IF($P$5=\"Course 1\",Général!C$140,IF($P$5=\"Course 2\",Général!C$142,IF($P$5=\"Course 3\",Général!#REF!,Général!C$144)))","v":"Equipage 11"},{"$f":"IF($Q$5=\"Course 1\",Général!C$148,IF($Q$5=\"Course 2\",Général!C$150,IF($Q$5=\"Course 3\",Général!#REF!,Général!C$152)))","v":"Equipage 11"},{"$f":"IF($R$5=\"Course 1\",Général!C$156,IF($R$5=\"Course 2\",Général!C$158,IF($R$5=\"Course 3\",Général!C$160,Général!C$162)))","v":"Equipage 9"},null,null,null,{"$f":"Général!B11","v":"Equipage 9"},8]
["3ème Equipage",null,{"$f":"IF($C$5=\"Course 1\",Général!D36,IF($C$5=\"Course 2\",Général!D38,IF($C$5=\"Course 3\",Général!#REF!,Général!D40)))","v":"Equipage 10"},{"$f":"IF($D$5=\"Course 1\",Général!D44,IF($D$5=\"Course 2\",Général!D46,IF($D$5=\"Course 3\",Général!#REF!,Général!D48)))","v":"Equipage 3"},{"$f":"IF($E$5=\"Course 1\",Général!D52,IF($E$5=\"Course 2\",Général!D54,IF($E$5=\"Course 3\",Général!#REF!,Général!D56)))","v":"Equipage 8"},{"$f":"IF($F$5=\"Course 1\",Général!D$60,IF($F$5=\"Course 2\",Général!D$62,IF($F$5=\"Course 3\",Général!#REF!,Général!D$64)))","v":"Equipage 10"},{"$f":"IF($G$5=\"Course 1\",Général!D$68,IF($G$5=\"Course 2\",Général!D$70,IF($G$5=\"Course 3\",Général!#REF!,Général!D$72)))","v":"Equipage 9"},{"$f":"IF($H$5=\"Course 1\",Général!D$76,IF($H$5=\"Course 2\",Général!D$78,IF($H$5=\"Course 3\",Général!#REF!,Général!D$80)))","v":"Equipage 9"},{"$f":"IF($I$5=\"Course 1\",Général!D$84,IF($I$5=\"Course 2\",Général!D$86,IF($I$5=\"Course 3\",Général!#REF!,Général!D$88)))","v":"Equipage 11"},{"$f":"IF($J$5=\"Course 1\",Général!D$92,IF($J$5=\"Course 2\",Général!D$94,IF($J$5=\"Course 3\",Général!#REF!,Général!D$96)))","v":"Equipage 4"},{"$f":"IF($K$5=\"Course 1\",Général!D$100,IF($K$5=\"Course 2\",Général!D$102,IF($K$5=\"Course 3\",Général!#REF!,Général!D$104)))","v":"Equipage 4"},{"$f":"IF($L$5=\"Course 1\",Général!D$108,IF($L$5=\"Course 2\",Général!D$110,IF($L$5=\"Course 3\",Général!#REF!,Général!D$112)))","v":"Equipage 12"},{"$f":"IF($M$5=\"Course 1\",Général!D$116,IF($M$5=\"Course 2\",Général!D$118,IF($M$5=\"Course 3\",Général!#REF!,Général!D$120)))","v":"Equipage 10"},{"$f":"IF($N$5=\"Course 1\",Général!D$124,IF($N$5=\"Course 2\",Général!D$126,IF($N$5=\"Course 3\",Général!#REF!,Général!D$128)))","v":"Equipage 1"},{"$f":"IF($O$5=\"Course 1\",Général!D$132,IF($O$5=\"Course 2\",Général!D$134,IF($O$5=\"Course 3\",Général!#REF!,Général!D$136)))","v":"Equipage 5"},{"$f":"IF($P$5=\"Course 1\",Général!D$140,IF($P$5=\"Course 2\",Général!D$142,IF($P$5=\"Course 3\",Général!#REF!,Général!D$144)))","v":"Equipage 5"},{"$f":"IF($Q$5=\"Course 1\",Général!D$148,IF($Q$5=\"Course 2\",Général!D$150,IF($Q$5=\"Course 3\",Général!#REF!,Général!D$152)))","v":"Equipage 5"},{"$f":"IF($R$5=\"Course 1\",Général!D$156,IF($R$5=\"Course 2\",Général!D$158,IF($R$5=\"Course 3\",Général!D$160,Général!D$162)))","v":"Equipage 6"},null,null,null,{"$f":"Général!B12","v":"Equipage 10"},11]
["4ème Equipage",null,{"$f":"IF($C$5=\"Course 1\",Général!E36,IF($C$5=\"Course 2\",Général!E38,IF($C$5=\"Course 3\",Général!#REF!,Général!E40)))","v":"Equipage 2"},{"$f":"IF($D$5=\"Course 1\",Général!E44,IF($D$5=\"Course 2\",Général!E46,IF($D$5=\"Course 3\",Général!#REF!,Général!E48)))","v":"Equipage 9"},{"$f":"IF($E$5=\"Course 1\",Général!E52,IF($E$5=\"Course 2\",Général!E54,IF($E$5=\"Course 3\",Général!#REF!,Général!E56)))","v":"Equipage 10"},{"$f":"IF($F$5=\"Course 1\",Général!E$60,IF($F$5=\"Course 2\",Général!E$62,IF($F$5=\"Course 3\",Général!#REF!,Général!E$64)))","v":"Equipage 11"},{"$f":"IF($G$5=\"Course 1\",Général!E$68,IF($G$5=\"Course 2\",Général!E$70,IF($G$5=\"Course 3\",Général!#REF!,Général!E$72)))","v":"Equipage 11"},{"$f":"IF($H$5=\"Course 1\",Général!E$76,IF($H$5=\"Course 2\",Général!E$78,IF($H$5=\"Course 3\",Général!#REF!,Général!E$80)))","v":"Equipage 11"},{"$f":"IF($I$5=\"Course 1\",Général!E$84,IF($I$5=\"Course 2\",Général!E$86,IF($I$5=\"Course 3\",Général!#REF!,Général!E$88)))","v":"Equipage 12"},{"$f":"IF($J$5=\"Course 1\",Général!E$92,IF($J$5=\"Course 2\",Général!E$94,IF($J$5=\"Course 3\",Général!#REF!,Général!E$96)))","v":"Equipage 1"},{"$f":"IF($K$5=\"Course 1\",Général!E$100,IF($K$5=\"Course 2\",Général!E$102,IF($K$5=\"Course 3\",Général!#REF!,Général!E$104)))","v":"Equipage 1"},{"$f":"IF($L$5=\"Course 1\",Général!E$108,IF($L$5=\"Course 2\",Général!E$110,IF($L$5=\"Course 3\",Général!#REF!,Général!E$112)))","v":"Equipage 11"},{"$f":"IF($M$5=\"Course 1\",Général!E$116,IF($M$5=\"Course 2\",Général!E$118,IF($M$5=\"Course 3\",Général!#REF!,Général!E$120)))","v":"Equipage 12"},{"$f":"IF($N$5=\"Course 1\",Général!E$124,IF($N$5=\"Course 2\",Général!E$126,IF($N$5=\"Course 3\",Général!#REF!,Général!E$128)))","v":"Equipage 6"},{"$f":"IF($O$5=\"Course 1\",Général!E$132,IF($O$5=\"Course 2\",Général!E$134,IF($O$5=\"Course 3\",Général!#REF!,Général!E$136)))","v":"Equipage 6"},{"$f":"IF($P$5=\"Course 1\",Général!E$140,IF($P$5=\"Course 2\",Général!E$142,IF($P$5=\"Course 3\",Général!#REF!,Général!E$144)))","v":"Equipage 9"},{"$f":"IF($Q$5=\"Course 1\",Général!E$148,IF($Q$5=\"Course 2\",Général!E$150,IF($Q$5=\"Course 3\",Général!#REF!,Général!E$152)))","v":"Equipage 8"},{"$f":"IF($R$5=\"Course 1\",Général!E$156,IF($R$5=\"Course 2\",Général!E$158,IF($R$5=\"Course 3\",Général!E$160,Général!E$162)))","v":"Equipage 10"},null,null,null,{"$f":"Général!B13","v":"Equipage 11"},16]
["5ème Equipage",null,{"$f":"IF($C$5=\"Course 1\",Général!F36,IF($C$5=\"Course 2\",Général!F38,IF($C$5=\"Course 3\",Général!#REF!,Général!F40)))","v":"Equipage 11"},{"$f":"IF($D$5=\"Course 1\",Général!F44,IF($D$5=\"Course 2\",Général!F46,IF($D$5=\"Course 3\",Général!#REF!,Général!F48)))","v":"Equipage 1"},{"$f":"IF($E$5=\"Course 1\",Général!F52,IF($E$5=\"Course 2\",Général!F54,IF($E$5=\"Course 3\",Général!#REF!,Général!F56)))","v":"Equipage 7"},{"$f":"IF($F$5=\"Course 1\",Général!F$60,IF($F$5=\"Course 2\",Général!F$62,IF($F$5=\"Course 3\",Général!#REF!,Général!F$64)))","v":"Equipage 9"},{"$f":"IF($G$5=\"Course 1\",Général!F$68,IF($G$5=\"Course 2\",Général!F$70,IF($G$5=\"Course 3\",Général!#REF!,Général!F$72)))","v":"Equipage 4"},{"$f":"IF($H$5=\"Course 1\",Général!F$76,IF($H$5=\"Course 2\",Général!F$78,IF($H$5=\"Course 3\",Général!#REF!,Général!F$80)))","v":"Equipage 8"},{"$f":"IF($I$5=\"Course 1\",Général!F$84,IF($I$5=\"Course 2\",Général!F$86,IF($I$5=\"Course 3\",Général!#REF!,Général!F$88)))","v":"Equipage 5"},{"$f":"IF($J$5=\"Course 1\",Général!F$92,IF($J$5=\"Course 2\",Général!F$94,IF($J$5=\"Course 3\",Général!#REF!,Général!F$96)))","v":"Equipage 12"},{"$f":"IF($K$5=\"Course 1\",Général!F$100,IF($K$5=\"Course 2\",Général!F$102,IF($K$5=\"Course 3\",Général!#REF!,Général!F$104)))","v":"Equipage 12"},{"$f":"IF($L$5=\"Course 1\",Général!F$108,IF($L$5=\"Course 2\",Général!$F110,IF($L$5=\"Course 3\",Général!#REF!,Général!F$112)))","v":"Equipage 10"},{"$f":"IF($M$5=\"Course 1\",Général!F$116,IF($M$5=\"Course 2\",Général!F$118,IF($M$5=\"Course 3\",Général!#REF!,Général!F$120)))","v":"Equipage 9"},{"$f":"IF($N$5=\"Course 1\",Général!F$124,IF($N$5=\"Course 2\",Général!F$126,IF($N$5=\"Course 3\",Général!#REF!,Général!F$128)))","v":"Equipage 11"},{"$f":"IF($O$5=\"Course 1\",Général!F$132,IF($O$5=\"Course 2\",Général!F$134,IF($O$5=\"Course 3\",Général!#REF!,Général!F$136)))","v":"Equipage 11"},{"$f":"IF($P$5=\"Course 1\",Général!F$140,IF($P$5=\"Course 2\",Général!F$142,IF($P$5=\"Course 3\",Général!#REF!,Général!F$144)))","v":"Equipage 3"},{"$f":"IF($Q$5=\"Course 1\",Général!F$148,IF($Q$5=\"Course 2\",Général!F$150,IF($Q$5=\"Course 3\",Général!#REF!,Général!F$152)))","v":"Equipage 2"},{"$f":"IF($R$5=\"Course 1\",Général!F$156,IF($R$5=\"Course 2\",Général!F$158,IF($R$5=\"Course 3\",Général!F$160,Général!F$162)))","v":"Equipage 3"},null,null,null,{"$f":"Général!B14","v":"Equipage 12"},9]
["6ème Equipage",null,{"$f":"IF($C$5=\"Course 1\",Général!G36,IF($C$5=\"Course 2\",Général!G38,IF($C$5=\"Course 3\",Général!#REF!,Général!G40)))","v":"Equipage 5"},{"$f":"IF($D$5=\"Course 1\",Général!G44,IF($D$5=\"Course 2\",Général!G46,IF($D$5=\"Course 3\",Général!#REF!,Général!G48)))","v":"Equipage 2"},{"$f":"IF($E$5=\"Course 1\",Général!G52,IF($E$5=\"Course 2\",Général!G54,IF($E$5=\"Course 3\",Général!#REF!,Général!G56)))","v":"Equipage 2"},{"$f":"IF($F$5=\"Course 1\",Général!G$60,IF($F$5=\"Course 2\",Général!G$62,IF($F$5=\"Course 3\",Général!#REF!,Général!G$64)))","v":"Equipage 12"},{"$f":"IF($G$5=\"Course 1\",Général!G$68,IF($G$5=\"Course 2\",Général!G$70,IF($G$5=\"Course 3\",Général!#REF!,Général!G$72)))","v":"Equipage 10"},{"$f":"IF($H$5=\"Course 1\",Général!G$76,IF($H$5=\"Course 2\",Général!G$78,IF($H$5=\"Course 3\",Général!#REF!,Général!G$80)))","v":"Equipage 7"},{"$f":"IF($I$5=\"Course 1\",Général!G$84,IF($I$5=\"Course 2\",Général!G$86,IF($I$5=\"Course 3\",Général!#REF!,Général!G$88)))","v":"Equipage 2"},{"$f":"IF($J$5=\"Course 1\",Général!G$92,IF($J$5=\"Course 2\",Général!G$94,IF($J$5=\"Course 3\",Général!#REF!,Général!G$96)))","v":"Equipage 6"},{"$f":"IF($K$5=\"Course 1\",Général!G$100,IF($K$5=\"Course 2\",Général!G$102,IF($K$5=\"Course 3\",Général!#REF!,Général!G$104)))","v":"Equipage 9"},{"$f":"IF($L$5=\"Course 1\",Général!G$108,IF($L$5=\"Course 2\",Général!G$110,IF($L$5=\"Course 3\",Général!#REF!,Général!G$112)))","v":"Equipage 6"},{"$f":"IF($M$5=\"Course 1\",Général!G$116,IF($M$5=\"Course 2\",Général!G$118,IF($M$5=\"Course 3\",Général!#REF!,Général!G$120)))","v":"Equipage 11"},{"$f":"IF($N$5=\"Course 1\",Général!G$124,IF($N$5=\"Course 2\",Général!G$126,IF($N$5=\"Course 3\",Général!#REF!,Général!G$128)))","v":"Equipage 3"},{"$f":"IF($O$5=\"Course 1\",Général!G$132,IF($O$5=\"Course 2\",Général!G$134,IF($O$5=\"Course 3\",Général!#REF!,Général!G$136)))","v":"Equipage 3"},{"$f":"IF($P$5=\"Course 1\",Général!G$140,IF($P$5=\"Course 2\",Général!G$142,IF($P$5=\"Course 3\",Général!#REF!,Général!G$144)))","v":"Equipage 1"},{"$f":"IF($Q$5=\"Course 1\",Général!G$148,IF($Q$5=\"Course 2\",Général!G$150,IF($Q$5=\"Course 3\",Général!#REF!,Général!G$152)))","v":"Equipage 4"},{"$f":"IF($R$5=\"Course 1\",Général!G$156,IF($R$5=\"Course 2\",Général!G$158,IF($R$5=\"Course 3\",Général!G$160,Général!G$162)))","v":"Equipage 11"},null,null,null,{"$f":"Général!B15","v":"Equipage 13"},0]
["7ème Equipage",null,{"$f":"IF($C$5=\"Course 1\",Général!H36,IF($C$5=\"Course 2\",Général!H38,IF($C$5=\"Course 3\",Général!#REF!,Général!H40)))","v":0},{"$f":"IF($D$5=\"Course 1\",Général!H44,IF($D$5=\"Course 2\",Général!H46,IF($D$5=\"Course 3\",Général!#REF!,Général!H48)))","v":0},{"$f":"IF($E$5=\"Course 1\",Général!H52,IF($E$5=\"Course 2\",Général!H54,IF($E$5=\"Course 3\",Général!#REF!,Général!H56)))","v":0},{"$f":"IF($F$5=\"Course 1\",Général!H$60,IF($F$5=\"Course 2\",Général!H$62,IF($F$5=\"Course 3\",Général!#REF!,Général!H$64)))","v":0},{"$f":"IF($G$5=\"Course 1\",Général!H$68,IF($G$5=\"Course 2\",Général!H$70,IF($G$5=\"Course 3\",Général!#REF!,Général!H$72)))","v":0},{"$f":"IF($H$5=\"Course 1\",Général!H$76,IF($H$5=\"Course 2\",Général!H$78,IF($H$5=\"Course 3\",Général!#REF!,Général!H$80)))","v":0},{"$f":"IF($I$5=\"Course 1\",Général!H$84,IF($I$5=\"Course 2\",Général!H$86,IF($I$5=\"Course 3\",Général!#REF!,Général!H$88)))","v":0},{"$f":"IF($J$5=\"Course 1\",Général!H$92,IF($J$5=\"Course 2\",Général!H$94,IF($J$5=\"Course 3\",Général!#REF!,Général!H$96)))","v":0},{"$f":"IF($K$5=\"Course 1\",Général!H$100,IF($K$5=\"Course 2\",Général!H$102,IF($K$5=\"Course 3\",Général!#REF!,Général!H$104)))","v":0},{"$f":"IF($L$5=\"Course 1\",Général!H$108,IF($L$5=\"Course 2\",Général!H$110,IF($L$5=\"Course 3\",Général!#REF!,Général!H$112)))","v":0},{"$f":"IF($M$5=\"Course 1\",Général!H$116,IF($M$5=\"Course 2\",Général!H$118,IF($M$5=\"Course 3\",Général!#REF!,Général!H$120)))","v":0},{"$f":"IF($N$5=\"Course 1\",Général!H$124,IF($N$5=\"Course 2\",Général!H$126,IF($N$5=\"Course 3\",Général!#REF!,Général!H$128)))","v":0},{"$f":"IF($O$5=\"Course 1\",Général!H$132,IF($O$5=\"Course 2\",Général!H$134,IF($O$5=\"Course 3\",Général!#REF!,Général!H$136)))","v":0},{"$f":"IF($P$5=\"Course 1\",Général!H$140,IF($P$5=\"Course 2\",Général!H$142,IF($P$5=\"Course 3\",Général!#REF!,Général!H$144)))","v":0},{"$f":"IF($Q$5=\"Course 1\",Général!H$148,IF($Q$5=\"Course 2\",Général!H$150,IF($Q$5=\"Course 3\",Général!#REF!,Général!H$152)))","v":0},{"$f":"IF($R$5=\"Course 1\",Général!H$156,IF($R$5=\"Course 2\",Général!H$158,IF($R$5=\"Course 3\",Général!H$160,Général!H$162)))","v":0},null,null,null,{"$f":"Général!B16","v":"Equipage 14"},0]
["8ème Equipage",null,{"$f":"IF($C$5=\"Course 1\",Général!I36,IF($C$5=\"Course 2\",Général!I38,IF($C$5=\"Course 3\",Général!#REF!,Général!I40)))","v":0},{"$f":"IF($D$5=\"Course 1\",Général!I44,IF($D$5=\"Course 2\",Général!I46,IF($D$5=\"Course 3\",Général!#REF!,Général!I48)))","v":0},{"$f":"IF($E$5=\"Course 1\",Général!I52,IF($E$5=\"Course 2\",Général!I54,IF($E$5=\"Course 3\",Général!#REF!,Général!I56)))","v":0},{"$f":"IF($F$5=\"Course 1\",Général!I$60,IF($F$5=\"Course 2\",Général!I$62,IF($F$5=\"Course 3\",Général!#REF!,Général!I$64)))","v":0},{"$f":"IF($G$5=\"Course 1\",Général!I$68,IF($G$5=\"Course 2\",Général!I$70,IF($G$5=\"Course 3\",Général!#REF!,Général!I$72)))","v":0},{"$f":"IF($H$5=\"Course 1\",Général!I$76,IF($H$5=\"Course 2\",Général!I$78,IF($H$5=\"Course 3\",Général!#REF!,Général!I$80)))","v":0},{"$f":"IF($I$5=\"Course 1\",Général!I$84,IF($I$5=\"Course 2\",Général!I$86,IF($I$5=\"Course 3\",Général!#REF!,Général!I$88)))","v":0},{"$f":"IF($J$5=\"Course 1\",Général!I$92,IF($J$5=\"Course 2\",Général!I$94,IF($J$5=\"Course 3\",Général!#REF!,Général!I$96)))","v":0},{"$f":"IF($K$5=\"Course 1\",Général!I$100,IF($K$5=\"Course 2\",Général!I$102,IF($K$5=\"Course 3\",Général!#REF!,Général!I$104)))","v":0},{"$f":"IF($L$5=\"Course 1\",Général!I$108,IF($L$5=\"Course 2\",Général!I$110,IF($L$5=\"Course 3\",Général!#REF!,Général!I$112)))","v":0},{"$f":"IF($M$5=\"Course 1\",Général!I$116,IF($M$5=\"Course 2\",Général!I$118,IF($M$5=\"Course 3\",Général!#REF!,Général!I$120)))","v":0},{"$f":"IF($N$5=\"Course 1\",Général!I$124,IF($N$5=\"Course 2\",Général!I$126,IF($N$5=\"Course 3\",Général!#REF!,Général!I$128)))","v":0},{"$f":"IF($O$5=\"Course 1\",Général!I$132,IF($O$5=\"Course 2\",Général!I$134,IF($O$5=\"Course 3\",Général!#REF!,Général!I$136)))","v":0},{"$f":"IF($P$5=\"Course 1\",Général!I$140,IF($P$5=\"Course 2\",Général!I$142,IF($P$5=\"Course 3\",Général!#REF!,Général!I$144)))","v":0},{"$f":"IF($Q$5=\"Course 1\",Général!I$148,IF($Q$5=\"Course 2\",Général!I$150,IF($Q$5=\"Course 3\",Général!#REF!,Général!I$152)))","v":0},{"$f":"IF($R$5=\"Course 1\",Général!I$156,IF($R$5=\"Course 2\",Général!I$158,IF($R$5=\"Course 3\",Général!I$160,Général!I$162)))","v":0},null,null,null,{"$f":"Général!B17","v":"Equipage 15"},0]
["9ème Equipage",null,{"$f":"IF($C$5=\"Course 1\",Général!J36,IF($C$5=\"Course 2\",Général!J38,IF($C$5=\"Course 3\",Général!#REF!,Général!J40)))","v":0},{"$f":"IF($D$5=\"Course 1\",Général!J44,IF($D$5=\"Course 2\",Général!J46,IF($D$5=\"Course 3\",Général!#REF!,Général!J48)))","v":0},{"$f":"IF($E$5=\"Course 1\",Général!J52,IF($E$5=\"Course 2\",Général!J54,IF($E$5=\"Course 3\",Général!#REF!,Général!J56)))","v":0},{"$f":"IF($F$5=\"Course 1\",Général!J$60,IF($F$5=\"Course 2\",Général!J$62,IF($F$5=\"Course 3\",Général!#REF!,Général!J$64)))","v":0},{"$f":"IF($G$5=\"Course 1\",Général!J$68,IF($G$5=\"Course 2\",Général!J$70,IF($G$5=\"Course 3\",Général!#REF!,Général!J$72)))","v":0},{"$f":"IF($H$5=\"Course 1\",Général!J$76,IF($H$5=\"Course 2\",Général!J$78,IF($H$5=\"Course 3\",Général!#REF!,Général!J$80)))","v":0},{"$f":"IF($I$5=\"Course 1\",Général!J$84,IF($I$5=\"Course 2\",Général!J$86,IF($I$5=\"Course 3\",Général!#REF!,Général!J$88)))","v":0},{"$f":"IF($J$5=\"Course 1\",Général!J$92,IF($J$5=\"Course 2\",Général!J$94,IF($J$5=\"Course 3\",Général!#REF!,Général!J$96)))","v":0},{"$f":"IF($K$5=\"Course 1\",Général!J$100,IF($K$5=\"Course 2\",Général!J$102,IF($K$5=\"Course 3\",Général!#REF!,Général!J$104)))","v":0},{"$f":"IF($L$5=\"Course 1\",Général!J$108,IF($L$5=\"Course 2\",Général!J$110,IF($L$5=\"Course 3\",Général!#REF!,Général!J$112)))","v":0},{"$f":"IF($M$5=\"Course 1\",Général!J$116,IF($M$5=\"Course 2\",Général!J$118,IF($M$5=\"Course 3\",Général!#REF!,Général!J$120)))","v":0},{"$f":"IF($N$5=\"Course 1\",Général!J$124,IF($N$5=\"Course 2\",Général!J$126,IF($N$5=\"Course 3\",Général!#REF!,Général!J$128)))","v":0},{"$f":"IF($O$5=\"Course 1\",Général!J$132,IF($O$5=\"Course 2\",Général!J$134,IF($O$5=\"Course 3\",Général!#REF!,Général!J$136)))","v":0},{"$f":"IF($P$5=\"Course 1\",Général!J$140,IF($P$5=\"Course 2\",Général!J$142,IF($P$5=\"Course 3\",Général!#REF!,Général!J$144)))","v":0},{"$f":"IF($Q$5=\"Course 1\",Général!J$148,IF($Q$5=\"Course 2\",Général!J$150,IF($Q$5=\"Course 3\",Général!#REF!,Général!J$152)))","v":0},{"$f":"IF($R$5=\"Course 1\",Général!J$156,IF($R$5=\"Course 2\",Général!J$158,IF($R$5=\"Course 3\",Général!J$160,Général!J$162)))","v":0},null,null,null,{"$f":"Général!B18","v":"Equipage 16"},0]
["10ème Equipage",null,{"$f":"IF($C$5=\"Course 1\",Général!K36,IF($C$5=\"Course 2\",Général!K38,IF($C$5=\"Course 3\",Général!#REF!,Général!K40)))","v":0},{"$f":"IF($D$5=\"Course 1\",Général!K44,IF($D$5=\"Course 2\",Général!K46,IF($D$5=\"Course 3\",Général!#REF!,Général!K48)))","v":0},{"$f":"IF($E$5=\"Course 1\",Général!K52,IF($E$5=\"Course 2\",Général!K54,IF($E$5=\"Course 3\",Général!#REF!,Général!K56)))","v":0},{"$f":"IF($F$5=\"Course 1\",Général!K$60,IF($F$5=\"Course 2\",Général!K$62,IF($F$5=\"Course 3\",Général!#REF!,Général!K$64)))","v":0},{"$f":"IF($G$5=\"Course 1\",Général!K$68,IF($G$5=\"Course 2\",Général!K$70,IF($G$5=\"Course 3\",Général!#REF!,Général!K$72)))","v":0},{"$f":"IF($H$5=\"Course 1\",Général!K$76,IF($H$5=\"Course 2\",Général!K$78,IF($H$5=\"Course 3\",Général!#REF!,Général!K$80)))","v":0},{"$f":"IF($I$5=\"Course 1\",Général!K$84,IF($I$5=\"Course 2\",Général!K$86,IF($I$5=\"Course 3\",Général!#REF!,Général!K$88)))","v":0},{"$f":"IF($J$5=\"Course 1\",Général!K$92,IF($J$5=\"Course 2\",Général!K$94,IF($J$5=\"Course 3\",Général!#REF!,Général!K$96)))","v":0},{"$f":"IF($K$5=\"Course 1\",Général!K$100,IF($K$5=\"Course 2\",Général!K$102,IF($K$5=\"Course 3\",Général!#REF!,Général!K$104)))","v":0},{"$f":"IF($L$5=\"Course 1\",Général!K$108,IF($L$5=\"Course 2\",Général!K$110,IF($L$5=\"Course 3\",Général!#REF!,Général!K$112)))","v":0},{"$f":"IF($M$5=\"Course 1\",Général!K$116,IF($M$5=\"Course 2\",Général!K$118,IF($M$5=\"Course 3\",Général!#REF!,Général!K$120)))","v":0},{"$f":"IF($N$5=\"Course 1\",Général!K$124,IF($N$5=\"Course 2\",Général!K$126,IF($N$5=\"Course 3\",Général!#REF!,Général!K$128)))","v":0},{"$f":"IF($O$5=\"Course 1\",Général!K$132,IF($O$5=\"Course 2\",Général!K$134,IF($O$5=\"Course 3\",Général!#REF!,Général!K$136)))","v":0},{"$f":"IF($P$5=\"Course 1\",Général!K$140,IF($P$5=\"Course 2\",Général!K$142,IF($P$5=\"Course 3\",Général!#REF!,Général!K$144)))","v":0},{"$f":"IF($Q$5=\"Course 1\",Général!K$148,IF($Q$5=\"Course 2\",Général!K$150,IF($Q$5=\"Course 3\",Général!#REF!,Général!K$152)))","v":0},{"$f":"IF($R$5=\"Course 1\",Général!K$156,IF($R$5=\"Course 2\",Général!K$158,IF($R$5=\"Course 3\",Général!K$160,Général!K$162)))","v":0},null,null,null,{"$f":"Général!B19","v":"Equipage 17"},0]
[null,null,null,null,null,null,null,null,null,null,null,null,null,null,null,null,null,null,null,null,null,{"$f":"Général!B20","v":"Equipage 18"},0]
[null,null,null,null,null,null,null,null,null,null,null,null,null,null,null,null,null,null,null,null,null,{"$f":"Général!B21","v":"Equipage 19"},{"$f":"COUNTIF($C$8:$R$17,V19)","v":0}]
[null,null,null,null,null,null,null,null,null,null,null,null,null,null,null,null,null,null,null,null,null,{"$f":"Général!B22","v":"Equipage 20"},0]
[null,null,null,null,null,null,null,null,null,null,null,null,null,null,null,null,null,null,null,null,null,{"$f":"Général!B23","v":"Equipage 21"},0]
[null,null,null,null,null,null,null,null,null,null,null,null,null,null,null,null,null,null,null,null,null,{"$f":"Général!B24","v":"Equipage 22"},0]
[null,null,null,null,null,null,null,null,null,null,null,null,null,null,null,null,null,null,null,null,null,{"$f":"Général!B25","v":"Equipage 23"},0]
[null,null,null,null,null,null,null,null,null,null,null,null,null,null,null,null,null,null,null,null,null,{"$f":"Général!B26","v":"Equipage 24"},0]
[null,null,null,null,null,null,null,null,null,null,null,null,null,null,null,null,null,null,null,null,null,{"$f":"Général!B27","v":"Equipage 25"},0]
[null,null,null,null,null,null,null,null,null,null,null,null,null,null,null,null,null,null,null,null,null,{"$f":"Général!B28","v":"Equipage 26"},0]
[null,null,null,null,null,null,null,null,null,null,null,null,null,null,null,null,null,null,null,null,null,{"$f":"Général!B29","v":"Equipage 27"},0]
[null,null,null,null,null,null,null,null,null,null,null,null,null,null,null,null,null,null,null,null,null,{"$f":"Général!B30","v":"Equipage 28"},0]
[null,null,null,null,null,null,null,null,null,null,null,null,null,null,null,null,null,null,null,null,null,{"$f":"Général!B31","v":"Equipage 29"},0]
[null,null,null,null,null,null,null,null,null,null,null,null,null,null,null,null,null,null,null,null,null,{"$f":"Général!B32","v":"Equipage 30"},0]

{"sheet":"Eq.12","index":16,"n_rows":30,"n_cols":23,"rows_kept":30,"cut":false,"hidden":true,"merged":[[7,0,7,1],[0,0,1,5],[0,6,1,10],[3,0,3,1],[4,0,4,1],[5,0,5,1],[14,0,14,1],[15,0,15,1],[16,0,16,1],[8,0,8,1],[9,0,9,1],[10,0,10,1],[11,0,11,1],[12,0,12,1],[13,0,13,1]]}
["Equipage ",null,null,null,null,null,{"$f":"Général!B14","v":"Equipage 12"},null,null,null,null,null,null,null,null,null,null,null,null,null,null,{"$f":"Général!B3","v":"Equipage 1"},{"$f":"COUNTIF(C$8:R$17,V1)","v":11}]
[null,null,null,null,null,null,null,null,null,null,null,null,null,null,null,null,null,null,null,null,null,{"$f":"Général!B4","v":"Equipage 2"},{"$f":"COUNTIF($C$8:$R$17,V2)","v":7}]
[null,null,null,null,null,null,null,null,null,null,null,null,null,null,null,null,null,null,null,null,null,{"$f":"Général!B5","v":"Equipage 3"},{"$f":"COUNTIF($C$8:$R$17,V3)","v":6}]
[null,null,"FLIGHT 1","FLIGHT 2","FLIGHT 3","FLIGHT 4","FLIGHT 5","FLIGHT 6","FLIGHT 7","FLIGHT 8","FLIGHT 9","FLIGHT 10","FLIGHT 11","FLIGHT 12","FLIGHT 13","FLIGHT 14","FLIGHT 15","FLIGHT 16","FLIGHT 17","FLIGHT 18",null,{"$f":"Général!B6","v":"Equipage 4"},{"$f":"COUNTIF($C$8:$R$17,V4)","v":10}]
["N° de course",null,{"$f":"IF(COUNTIF(Général!B36:K36,$G$1)=1,\"Course 1\",IF(COUNTIF(Général!B38:K38,$G$1)=1,\"Course 2\",IF(COUNTIF(Général!#REF!,$G$1)=1,\"Course 3\",\"Course 4\")))","v":"Course 2"},{"$f":"IF(COUNTIF(Général!B44:K44,$G$1)=1,\"Course 1\",IF(COUNTIF(Général!B46:K46,$G$1)=1,\"Course 2\",IF(COUNTIF(Général!#REF!,$G$1)=1,\"Course 3\",\"Course 4\")))","v":"Course 2"},{"$f":"IF(COUNTIF(Général!B52:K52,$G$1)=1,\"Course 1\",IF(COUNTIF(Général!B54:K54,$G$1)=1,\"Course 2\",IF(COUNTIF(Général!#REF!,$G$1)=1,\"Course 3\",\"Course 4\")))","v":"Course 2"},{"$f":"IF(COUNTIF(Général!B60:K60,$G$1)=1,\"Course 1\",IF(COUNTIF(Général!B62:K62,$G$1)=1,\"Course 2\",IF(COUNTIF(Général!#REF!,$G$1)=1,\"Course 3\",\"Course 4\")))","v":"Course 2"},{"$f":"IF(COUNTIF(Général!B68:K68,$G$1)=1,\"Course 1\",IF(COUNTIF(Général!B70:K70,$G$1)=1,\"Course 2\",IF(COUNTIF(Général!#REF!,$G$1)=1,\"Course 3\",\"Course 4\")))","v":"Course 1"},{"$f":"IF(COUNTIF(Général!B76:K76,$G$1)=1,\"Course 1\",IF(COUNTIF(Général!B78:K78,$G$1)=1,\"Course 2\",IF(COUNTIF(Général!#REF!,$G$1)=1,\"Course 3\",\"Course 4\")))","v":"Course 2"},{"$f":"IF(COUNTIF(Général!B84:K84,$G$1)=1,\"Course 1\",IF(COUNTIF(Général!B86:K86,$G$1)=1,\"Course 2\",IF(COUNTIF(Général!#REF!,$G$1)=1,\"Course 3\",\"Course 4\")))","v":"Course 2"},{"$f":"IF(COUNTIF(Général!B92:K92,$G$1)=1,\"Course 1\",IF(COUNTIF(Général!B94:K94,$G$1)=1,\"Course 2\",IF(COUNTIF(Général!#REF!,$G$1)=1,\"Course 3\",\"Course 4\")))","v":"Course 2"},{"$f":"IF(COUNTIF(Général!B100:K100,$G$1)=1,\"Course 1\",IF(COUNTIF(Général!B102:K102,$G$1)=1,\"Course 2\",IF(COUNTIF(Général!#REF!,$G$1)=1,\"Course 3\",\"Course 4\")))","v":"Course 1"},{"$f":"IF(COUNTIF(Général!B108:K108,$G$1)=1,\"Course 1\",IF(COUNTIF(Général!B110:K110,$G$1)=1,\"Course 2\",IF(COUNTIF(Général!#REF!,$G$1)=1,\"Course 3\",\"Course 4\")))","v":"Course 1"},{"$f":"IF(COUNTIF(Général!B116:K116,$G$1)=1,\"Course 1\",IF(COUNTIF(Général!B118:K118,$G$1)=1,\"Course 2\",IF(COUNTIF(Général!#REF!,$G$1)=1,\"Course 3\",\"Course 4\")))","v":"Course 1"},{"$f":"IF(COUNTIF(Général!B124:K124,$G$1)=1,\"Course 1\",IF(COUNTIF(Général!B126:K126,$G$1)=1,\"Course 2\",IF(COUNTIF(Général!#REF!,$G$1)=1,\"Course 3\",\"Course 4\")))","v":"Course 2"},{"$f":"IF(COUNTIF(Général!B132:K132,$G$1)=1,\"Course 1\",IF(COUNTIF(Général!B134:K134,$G$1)=1,\"Course 2\",IF(COUNTIF(Général!#REF!,$G$1)=1,\"Course 3\",\"Course 4\")))","v":"Course 2"},{"$f":"IF(COUNTIF(Général!B140:K140,$G$1)=1,\"Course 1\",IF(COUNTIF(Général!B142:K142,$G$1)=1,\"Course 2\",IF(COUNTIF(Général!#REF!,$G$1)=1,\"Course 3\",\"Course 4\")))","v":"Course 1"},{"$f":"IF(COUNTIF(Général!B148:K148,$G$1)=1,\"Course 1\",IF(COUNTIF(Général!B150:K150,$G$1)=1,\"Course 2\",IF(COUNTIF(Général!#REF!,$G$1)=1,\"Course 3\",\"Course 4\")))","v":"Course 1"},{"$f":"IF(COUNTIF(Général!B156:K156,$G$1)=1,\"Course 1\",IF(COUNTIF(Général!B158:K158,$G$1)=1,\"Course 2\",IF(COUNTIF(Général!B160:K160,$G$1)=1,\"Course 3\",\"Course 4\")))","v":"Course 1"},{"$f":"IF(COUNTIF(Général!C156:L156,$G$1)=1,\"Course 1\",IF(COUNTIF(Général!C158:L158,$G$1)=1,\"Course 2\",IF(COUNTIF(Général!C160:L160,$G$1)=1,\"Course 3\",\"Course 4\")))","v":"Course 1"},{"$f":"IF(COUNTIF(Général!D156:M156,$G$1)=1,\"Course 1\",IF(COUNTIF(Général!D158:M158,$G$1)=1,\"Course 2\",IF(COUNTIF(Général!D160:M160,$G$1)=1,\"Course 3\",\"Course 4\")))","v":"Course 4"},null,{"$f":"Général!B7","v":"Equipage 5"},4]
["Bateau",null,{"$f":"IF(COUNTIF(Général!B36:B40,$G$1)=1,\"Boat 1\",IF(COUNTIF(Général!C36:C40,$G$1)=1,\"Boat 2\",IF(COUNTIF(Général!D36:D40,$G$1)=1,\"Boat 3\",IF(COUNTIF(Général!E36:E40,$G$1)=1,\"Boat 4\",IF(COUNTIF(Général!F36:F40,$G$1)=1,\"Boat 5\",IF(COUNTIF(Général!G36:G40,$G$1)=1,\"Boat 6\",IF(COUNTIF(Général!H36:H40,$G$1)=1,\"Boat 7\",IF(COUNTIF(Général!I36:I40,$G$1)=1,\"Boat 8\",IF(COUNTIF(Général!J36:J40,$G$1)=1,\"Boat 9\",\"Boat10\")))))))))","v":"Boat 3"},{"$f":"IF(COUNTIF(Général!B44:B48,$G$1)=1,\"Boat 1\",IF(COUNTIF(Général!C44:C48,$G$1)=1,\"Boat 2\",IF(COUNTIF(Général!D44:D48,$G$1)=1,\"Boat 3\",IF(COUNTIF(Général!E44:E48,$G$1)=1,\"Boat 4\",IF(COUNTIF(Général!F44:F48,$G$1)=1,\"Boat 5\",IF(COUNTIF(Général!G44:G48,$G$1)=1,\"Boat 6\",IF(COUNTIF(Général!H44:H48,$G$1)=1,\"Boat 7\",IF(COUNTIF(Général!I44:I48,$G$1)=1,\"Boat 8\",IF(COUNTIF(Général!J44:J48,$G$1)=1,\"Boat 9\",\"Boat 10\")))))))))","v":"Boat 1"},{"$f":"IF(COUNTIF(Général!B52:B56,$G$1)=1,\"Boat 1\",IF(COUNTIF(Général!C52:C56,$G$1)=1,\"Boat 2\",IF(COUNTIF(Général!D52:D56,$G$1)=1,\"Boat 3\", IF(COUNTIF(Général!E52:E56,$G$1)=1,\"Boat 4\", IF(COUNTIF(Général!F52:F56,$G$1)=1,\"Boat 5\", IF(COUNTIF(Général!G52:G56,$G$1)=1,\"Boat 6\", IF(COUNTIF(Général!H52:H56,$G$1)=1,\"Boat 7\",IF(COUNTIF(Général!I52:I56,$G$1)=1,\"Boat 8\",IF(COUNTIF(Général!J52:J56,$G$1)=1,\"Boat 9\",\"Boat 10\")))))))))","v":"Boat 5"},{"$f":"IF(COUNTIF(Général!B60:B64,$G$1)=1,\"Boat 1\",IF(COUNTIF(Général!C60:C64,$G$1)=1,\"Boat 2\",IF(COUNTIF(Général!D60:D64,$G$1)=1,\"Boat 3\", IF(COUNTIF(Général!E60:E64,$G$1)=1,\"Boat 4\", IF(COUNTIF(Général!F60:F64,$G$1)=1,\"Boat 5\", IF(COUNTIF(Général!G60:G64,$G$1)=1,\"Boat 6\", IF(COUNTIF(Général!H60:H64,$G$1)=1,\"Boat 7\",IF(COUNTIF(Général!I60:I64,$G$1)=1,\"Boat 8\",IF(COUNTIF(Général!I60:J64,$G$1)=1,\"Boat 9\",\"Boat 10\")))))))))","v":"Boat 6"},{"$f":"IF(COUNTIF(Général!B68:B72,$G$1)=1,\"Boat 1\",IF(COUNTIF(Général!C68:C72,$G$1)=1,\"Boat 2\",IF(COUNTIF(Général!D68:D72,$G$1)=1,\"Boat 3\", IF(COUNTIF(Général!E68:E72,$G$1)=1,\"Boat 4\", IF(COUNTIF(Général!F68:F72,$G$1)=1,\"Boat 5\", IF(COUNTIF(Général!G68:G72,$G$1)=1,\"Boat 6\", IF(COUNTIF(Général!H68:H72,$G$1)=1,\"Boat 7\",IF(COUNTIF(Général!I68:I72,$G$1)=1,\"Boat 8\",IF(COUNTIF(Général!J68:J72,$G$1)=1,\"Boat 9\",\"Boat 10\")))))))))","v":"Boat 6"},{"$f":"IF(COUNTIF(Général!B76:B80,$G$1)=1,\"Boat 1\",IF(COUNTIF(Général!C76:C80,$G$1)=1,\"Boat 2\",IF(COUNTIF(Général!D76:D80,$G$1)=1,\"Boat 3\", IF(COUNTIF(Général!E76:E80,$G$1)=1,\"Boat 4\", IF(COUNTIF(Général!F76:F80,$G$1)=1,\"Boat 5\", IF(COUNTIF(Général!G76:G80,$G$1)=1,\"Boat 6\", IF(COUNTIF(Général!H76:H80,$G$1)=1,\"Boat 7\",IF(COUNTIF(Général!I76:I80,$G$1)=1,\"Boat 8\",IF(COUNTIF(Général!J76:J80,$G$1)=1,\"Boat 9\",\"Boat 10\")))))))))","v":"Boat 4"},{"$f":"IF(COUNTIF(Général!B84:B88,$G$1)=1,\"Boat 1\",IF(COUNTIF(Général!C84:C88,$G$1)=1,\"Boat 2\",IF(COUNTIF(Général!D84:D88,$G$1)=1,\"Boat 3\", IF(COUNTIF(Général!E84:E88,$G$1)=1,\"Boat 4\", IF(COUNTIF(Général!F84:F88,$G$1)=1,\"Boat 5\", IF(COUNTIF(Général!G84:G88,$G$1)=1,\"Boat 6\", IF(COUNTIF(Général!H84:H88,$G$1)=1,\"Boat 7\",IF(COUNTIF(Général!I84:I88,$G$1)=1,\"Boat 8\",IF(COUNTIF(Général!J84:J88,$G$1)=1,\"Boat 9\",\"Boat 10\")))))))))","v":"Boat 4"},{"$f":"IF(COUNTIF(Général!B92:B96,$G$1)=1,\"Boat 1\",IF(COUNTIF(Général!C92:C96,$G$1)=1,\"Boat 2\",IF(COUNTIF(Général!D92:D96,$G$1)=1,\"Boat 3\", IF(COUNTIF(Général!E92:E96,$G$1)=1,\"Boat 4\", IF(COUNTIF(Général!F92:F96,$G$1)=1,\"Boat 5\", IF(COUNTIF(Général!G92:G96,$G$1)=1,\"Boat 6\", IF(COUNTIF(Général!H92:H96,$G$1)=1,\"Boat 7\",IF(COUNTIF(Général!I92:I96,$G$1)=1,\"Boat 8\",IF(COUNTIF(Général!J92:J96,$G$1)=1,\"Boat 9\",\"Boat 10\")))))))))","v":"Boat 5"},{"$f":"IF(COUNTIF(Général!B100:B104,$G$1)=1,\"Boat 1\",IF(COUNTIF(Général!C100:C104,$G$1)=1,\"Boat 2\",IF(COUNTIF(Général!D100:D104,$G$1)=1,\"Boat 3\", IF(COUNTIF(Général!E100:E104,$G$1)=1,\"Boat 4\", IF(COUNTIF(Général!F100:F104,$G$1)=1,\"Boat 5\", IF(COUNTIF(Général!G100:G104,$G$1)=1,\"Boat 6\", IF(COUNTIF(Général!H100:H104,$G$1)=1,\"Boat 7\",IF(COUNTIF(Général!I100:I104,$G$1)=1,\"Boat 8\",IF(COUNTIF(Général!J100:J104,$G$1)=1,\"Boat 9\",\"Boat 10\")))))))))","v":"Boat 5"},{"$f":"IF(COUNTIF(Général!B108:B112,$G$1)=1,\"Boat 1\",IF(COUNTIF(Général!C108:C112,$G$1)=1,\"Boat 2\",IF(COUNTIF(Général!D108:D112,$G$1)=1,\"Boat 3\", IF(COUNTIF(Général!E108:E112,$G$1)=1,\"Boat 4\", IF(COUNTIF(Général!F108:F112,$G$1)=1,\"Boat 5\", IF(COUNTIF(Général!G108:G112,$G$1)=1,\"Boat 6\", IF(COUNTIF(Général!H108:H112,$G$1)=1,\"Boat 7\",IF(COUNTIF(Général!I108:I112,$G$1)=1,\"Boat 8\",IF(COUNTIF(Général!J108:J112,$G$1)=1,\"Boat 9\",\"Boat 10\")))))))))","v":"Boat 3"},{"$f":"IF(COUNTIF(Général!B116:B120,$G$1)=1,\"Boat 1\",IF(COUNTIF(Général!C116:C120,$G$1)=1,\"Boat 2\",IF(COUNTIF(Général!C116:D120,$G$1)=1,\"Boat 3\", IF(COUNTIF(Général!C116:E120,$G$1)=1,\"Boat 4\", IF(COUNTIF(Général!F116:F120,$G$1)=1,\"Boat 5\", IF(COUNTIF(Général!G116:G120,$G$1)=1,\"Boat 6\", IF(COUNTIF(Général!H116:H120,$G$1)=1,\"Boat 7\",IF(COUNTIF(Général!I116:I120,$G$1)=1,\"Boat 8\",IF(COUNTIF(Général!J116:J120,$G$1)=1,\"Boat 9\",\"Boat 10\")))))))))","v":"Boat 4"},{"$f":"IF(COUNTIF(Général!B124:B128,$G$1)=1,\"Boat 1\",IF(COUNTIF(Général!C124:C128,$G$1)=1,\"Boat 2\",IF(COUNTIF(Général!D124:D128,$G$1)=1,\"Boat 3\", IF(COUNTIF(Général!E124:E128,$G$1)=1,\"Boat 4\", IF(COUNTIF(Général!F124:F128,$G$1)=1,\"Boat 5\", IF(COUNTIF(Général!G124:G128,$G$1)=1,\"Boat 6\", IF(COUNTIF(Général!H124:H128,$G$1)=1,\"Boat 7\",IF(COUNTIF(Général!I124:I128,$G$1)=1,\"Boat 8\",IF(COUNTIF(Général!J124:J128,$G$1)=1,\"Boat 9\",\"Boat 10\")))))))))","v":"Boat 1"},{"$f":"IF(COUNTIF(Général!B132:B136,$G$1)=1,\"Boat 1\",IF(COUNTIF(Général!C132:C136,$G$1)=1,\"Boat 2\",IF(COUNTIF(Général!D134:D136,$G$1)=1,\"Boat 3\", IF(COUNTIF(Général!E132:E136,$G$1)=1,\"Boat 4\", IF(COUNTIF(Général!F132:F136,$G$1)=1,\"Boat 5\", IF(COUNTIF(Général!G132:G136,$G$1)=1,\"Boat 6\", IF(COUNTIF(Général!H132:H136,$G$1)=1,\"Boat 7\",IF(COUNTIF(Général!I132:I136,$G$1)=1,\"Boat 8\",IF(COUNTIF(Général!J132:J136,$G$1)=1,\"Boat 9\",\"Boat 10\")))))))))","v":"Boat 3"},{"$f":"IF(COUNTIF(Général!B140:B144,$G$1)=1,\"Boat 1\",IF(COUNTIF(Général!C140:C144,$G$1)=1,\"Boat 2\",IF(COUNTIF(Général!D140:D144,$G$1)=1,\"Boat 3\", IF(COUNTIF(Général!E140:E144,$G$1)=1,\"Boat 4\", IF(COUNTIF(Général!F140:F144,$G$1)=1,\"Boat 5\", IF(COUNTIF(Général!G140:G144,$G$1)=1,\"Boat 6\", IF(COUNTIF(Général!H140:H144,$G$1)=1,\"Boat 7\",IF(COUNTIF(Général!I140:I144,$G$1)=1,\"Boat 8\",IF(COUNTIF(Général!J140:J144,$G$1)=1,\"Boat 9\",\"Boat 10\")))))))))","v":"Boat 3"},{"$f":"IF(COUNTIF(Général!B148:B152,$G$1)=1,\"Boat 1\",IF(COUNTIF(Général!C148:C152,$G$1)=1,\"Boat 2\",IF(COUNTIF(Général!D148:D152,$G$1)=1,\"Boat 3\", IF(COUNTIF(Général!E148:E152,$G$1)=1,\"Boat 4\", IF(COUNTIF(Général!F148:F152,$G$1)=1,\"Boat 5\", IF(COUNTIF(Général!G148:G152,$G$1)=1,\"Boat 6\", IF(COUNTIF(Général!H148:H152,$G$1)=1,\"Boat 7\",IF(COUNTIF(Général!I148:I152,$G$1)=1,\"Boat 8\",IF(COUNTIF(Général!J148:J152,$G$1)=1,\"Boat 9\",\"Boat 10\")))))))))","v":"Boat 1"},{"$f":"IF(COUNTIF(Général!B156:B159,$G$1)=1,\"Boat 1\",IF(COUNTIF(Général!C156:C159,$G$1)=1,\"Boat 2\",IF(COUNTIF(Général!D156:D159,$G$1)=1,\"Boat 3\", IF(COUNTIF(Général!E156:E159,$G$1)=1,\"Boat 4\", IF(COUNTIF(Général!F156:F159,$G$1)=1,\"Boat 5\", IF(COUNTIF(Général!G156:G159,$G$1)=1,\"Boat 6\", IF(COUNTIF(Général!H156:H159,$G$1)=1,\"Boat 7\",IF(COUNTIF(Général!I156:I159,$G$1)=1,\"Boat 8\",IF(COUNTIF(Général!J156:J159,$G$1)=1,\"Boat 9\",\"Boat 10\")))))))))","v":"Boat 2"},{"$f":"IF(COUNTIF(Général!B162:B165,$G$1)=1,\"Boat 1\",IF(COUNTIF(Général!C162:C165,$G$1)=1,\"Boat 2\",IF(COUNTIF(Général!D162:D165,$G$1)=1,\"Boat 3\", IF(COUNTIF(Général!E162:E165,$G$1)=1,\"Boat 4\", IF(COUNTIF(Général!F162:F165,$G$1)=1,\"Boat 5\", IF(COUNTIF(Général!G162:G165,$G$1)=1,\"Boat 6\", IF(COUNTIF(Général!H162:H165,$G$1)=1,\"Boat 7\",IF(COUNTIF(Général!I162:I165,$G$1)=1,\"Boat 8\",IF(COUNTIF(Général!J162:J165,$G$1)=1,\"Boat 9\",\"Boat 10\")))))))))","v":"Boat 2"},{"$f":"IF(COUNTIF(Général!B168:B171,$G$1)=1,\"Boat 1\",IF(COUNTIF(Général!C168:C171,$G$1)=1,\"Boat 2\",IF(COUNTIF(Général!D168:D171,$G$1)=1,\"Boat 3\", IF(COUNTIF(Général!E168:E171,$G$1)=1,\"Boat 4\", IF(COUNTIF(Général!F168:F171,$G$1)=1,\"Boat 5\", IF(COUNTIF(Général!G168:G171,$G$1)=1,\"Boat 6\", IF(COUNTIF(Général!H168:H171,$G$1)=1,\"Boat 7\",IF(COUNTIF(Général!I168:I171,$G$1)=1,\"Boat 8\",IF(COUNTIF(Général!J168:J171,$G$1)=1,\"Boat 9\",\"Boat 10\")))))))))","v":"Boat 2"},null,{"$f":"Général!B8","v":"Equipage 6"},7]
[null,null,null,null,null,null,null,null,null,null,null,null,null,null,null,null,null,null,null,null,null,{"$f":"Général!B9","v":"Equipage 7"},4]
["1er Equipage",null,{"$f":"IF($C$5=\"Course 1\",Général!B36,IF($C$5=\"Course 2\",Général!B38,IF($C$5=\"Course 3\",Général!#REF!,Général!B40)))","v":"Equipage 9"},{"$f":"IF($D$5=\"Course 1\",Général!B44,IF($D$5=\"Course 2\",Général!B46,IF($D$5=\"Course 3\",Général!#REF!,Général!B48)))","v":"Equipage 12"},{"$f":"IF($E$5=\"Course 1\",Général!B52,IF($E$5=\"Course 2\",Général!B54,IF($E$5=\"Course 3\",Général!#REF!,Général!B56)))","v":"Equipage 1"},{"$f":"IF($F$5=\"Course 1\",Général!B$60,IF($F$5=\"Course 2\",Général!B$62,IF($F$5=\"Course 3\",Général!#REF!,Général!B$64)))","v":"Equipage 4"},{"$f":"IF($G$5=\"Course 1\",Général!B$68,IF($G$5=\"Course 2\",Général!B$70,IF($G$5=\"Course 3\",Général!#REF!,Général!B$72)))","v":"Equipage 8"},{"$f":"IF($H$5=\"Course 1\",Général!B$76,IF($H$5=\"Course 2\",Général!B$78,IF($H$5=\"Course 3\",Général!#REF!,Général!B$80)))","v":"Equipage 2"},{"$f":"IF($I$5=\"Course 1\",Général!B$84,IF($I$5=\"Course 2\",Général!B$86,IF($I$5=\"Course 3\",Général!#REF!,Général!B$88)))","v":"Equipage 8"},{"$f":"IF($J$5=\"Course 1\",Général!B$92,IF($J$5=\"Course 2\",Général!B$94,IF($J$5=\"Course 3\",Général!#REF!,Général!B$96)))","v":"Equipage 11"},{"$f":"IF($K$5=\"Course 1\",Général!B$100,IF($K$5=\"Course 2\",Général!B$102,IF($K$5=\"Course 3\",Général!#REF!,Général!B$104)))","v":"Equipage 11"},{"$f":"IF($L$5=\"Course 1\",Général!B$108,IF($L$5=\"Course 2\",Général!B$110,IF($L$5=\"Course 3\",Général!#REF!,Général!B$112)))","v":"Equipage 4"},{"$f":"IF($M$5=\"Course 1\",Général!B$116,IF($M$5=\"Course 2\",Général!B$118,IF($M$5=\"Course 3\",Général!#REF!,Général!B$120)))","v":"Equipage 6"},{"$f":"IF($N$5=\"Course 1\",Général!B$124,IF($N$5=\"Course 2\",Général!B$126,IF($N$5=\"Course 3\",Général!#REF!,Général!B$128)))","v":"Equipage 12"},{"$f":"IF($O$5=\"Course 1\",Général!B$132,IF($O$5=\"Course 2\",Général!B$134,IF($O$5=\"Course 3\",Général!#REF!,Général!B$136)))","v":"Equipage 9"},{"$f":"IF($P$5=\"Course 1\",Général!B$140,IF($P$5=\"Course 2\",Général!B$142,IF($P$5=\"Course 3\",Général!#REF!,Général!B$144)))","v":"Equipage 6"},{"$f":"IF($Q$5=\"Course 1\",Général!B$148,IF($Q$5=\"Course 2\",Général!B$150,IF($Q$5=\"Course 3\",Général!#REF!,Général!B$152)))","v":"Equipage 12"},{"$f":"IF($R$5=\"Course 1\",Général!B$156,IF($R$5=\"Course 2\",Général!B$158,IF($R$5=\"Course 3\",Général!B$160,Général!B$162)))","v":"Equipage 8"},null,null,null,{"$f":"Général!B10","v":"Equipage 8"},9]
["2nd Equipage",null,{"$f":"IF($C$5=\"Course 1\",Général!C36,IF($C$5=\"Course 2\",Général!C38,IF($C$5=\"Course 3\",Général!#REF!,Général!C40)))","v":"Equipage 3"},{"$f":"IF($D$5=\"Course 1\",Général!C44,IF($D$5=\"Course 2\",Général!C46,IF($D$5=\"Course 3\",Général!#REF!,Général!C48)))","v":"Equipage 11"},{"$f":"IF($E$5=\"Course 1\",Général!C52,IF($E$5=\"Course 2\",Général!C54,IF($E$5=\"Course 3\",Général!#REF!,Général!C56)))","v":"Equipage 3"},{"$f":"IF($F$5=\"Course 1\",Général!C$60,IF($F$5=\"Course 2\",Général!C$62,IF($F$5=\"Course 3\",Général!#REF!,Général!C$64)))","v":"Equipage 1"},{"$f":"IF($G$5=\"Course 1\",Général!C$68,IF($G$5=\"Course 2\",Général!C$70,IF($G$5=\"Course 3\",Général!#REF!,Général!C$72)))","v":"Equipage 1"},{"$f":"IF($H$5=\"Course 1\",Général!C$76,IF($H$5=\"Course 2\",Général!C$78,IF($H$5=\"Course 3\",Général!#REF!,Général!C$80)))","v":"Equipage 4"},{"$f":"IF($I$5=\"Course 1\",Général!C$84,IF($I$5=\"Course 2\",Général!C$86,IF($I$5=\"Course 3\",Général!#REF!,Général!C$88)))","v":"Equipage 10"},{"$f":"IF($J$5=\"Course 1\",Général!C$92,IF($J$5=\"Course 2\",Général!C$94,IF($J$5=\"Course 3\",Général!#REF!,Général!C$96)))","v":"Equipage 8"},{"$f":"IF($K$5=\"Course 1\",Général!C$100,IF($K$5=\"Course 2\",Général!C$102,IF($K$5=\"Course 3\",Général!#REF!,Général!C$104)))","v":"Equipage 7"},{"$f":"IF($L$5=\"Course 1\",Général!C$108,IF($L$5=\"Course 2\",Général!C$110,IF($L$5=\"Course 3\",Général!#REF!,Général!C$112)))","v":"Equipage 8"},{"$f":"IF($M$5=\"Course 1\",Général!C$116,IF($M$5=\"Course 2\",Général!C$118,IF($M$5=\"Course 3\",Général!#REF!,Général!C$120)))","v":"Equipage 5"},{"$f":"IF($N$5=\"Course 1\",Général!C$124,IF($N$5=\"Course 2\",Général!C$126,IF($N$5=\"Course 3\",Général!#REF!,Général!C$128)))","v":"Equipage 10"},{"$f":"IF($O$5=\"Course 1\",Général!C$132,IF($O$5=\"Course 2\",Général!C$134,IF($O$5=\"Course 3\",Général!#REF!,Général!C$136)))","v":"Equipage 2"},{"$f":"IF($P$5=\"Course 1\",Général!C$140,IF($P$5=\"Course 2\",Général!C$142,IF($P$5=\"Course 3\",Général!#REF!,Général!C$144)))","v":"Equipage 2"},{"$f":"IF($Q$5=\"Course 1\",Général!C$148,IF($Q$5=\"Course 2\",Général!C$150,IF($Q$5=\"Course 3\",Général!#REF!,Général!C$152)))","v":"Equipage 11"},{"$f":"IF($R$5=\"Course 1\",Général!C$156,IF($R$5=\"Course 2\",Général!C$158,IF($R$5=\"Course 3\",Général!C$160,Général!C$162)))","v":"Equipage 12"},null,null,null,{"$f":"Général!B11","v":"Equipage 9"},7]
["3ème Equipage",null,{"$f":"IF($C$5=\"Course 1\",Général!D36,IF($C$5=\"Course 2\",Général!D38,IF($C$5=\"Course 3\",Général!#REF!,Général!D40)))","v":"Equipage 12"},{"$f":"IF($D$5=\"Course 1\",Général!D44,IF($D$5=\"Course 2\",Général!D46,IF($D$5=\"Course 3\",Général!#REF!,Général!D48)))","v":"Equipage 3"},{"$f":"IF($E$5=\"Course 1\",Général!D52,IF($E$5=\"Course 2\",Général!D54,IF($E$5=\"Course 3\",Général!#REF!,Général!D56)))","v":"Equipage 6"},{"$f":"IF($F$5=\"Course 1\",Général!D$60,IF($F$5=\"Course 2\",Général!D$62,IF($F$5=\"Course 3\",Général!#REF!,Général!D$64)))","v":"Equipage 10"},{"$f":"IF($G$5=\"Course 1\",Général!D$68,IF($G$5=\"Course 2\",Général!D$70,IF($G$5=\"Course 3\",Général!#REF!,Général!D$72)))","v":"Equipage 7"},{"$f":"IF($H$5=\"Course 1\",Général!D$76,IF($H$5=\"Course 2\",Général!D$78,IF($H$5=\"Course 3\",Général!#REF!,Général!D$80)))","v":"Equipage 1"},{"$f":"IF($I$5=\"Course 1\",Général!D$84,IF($I$5=\"Course 2\",Général!D$86,IF($I$5=\"Course 3\",Général!#REF!,Général!D$88)))","v":"Equipage 11"},{"$f":"IF($J$5=\"Course 1\",Général!D$92,IF($J$5=\"Course 2\",Général!D$94,IF($J$5=\"Course 3\",Général!#REF!,Général!D$96)))","v":"Equipage 4"},{"$f":"IF($K$5=\"Course 1\",Général!D$100,IF($K$5=\"Course 2\",Général!D$102,IF($K$5=\"Course 3\",Général!#REF!,Général!D$104)))","v":"Equipage 4"},{"$f":"IF($L$5=\"Course 1\",Général!D$108,IF($L$5=\"Course 2\",Général!D$110,IF($L$5=\"Course 3\",Général!#REF!,Général!D$112)))","v":"Equipage 12"},{"$f":"IF($M$5=\"Course 1\",Général!D$116,IF($M$5=\"Course 2\",Général!D$118,IF($M$5=\"Course 3\",Général!#REF!,Général!D$120)))","v":"Equipage 10"},{"$f":"IF($N$5=\"Course 1\",Général!D$124,IF($N$5=\"Course 2\",Général!D$126,IF($N$5=\"Course 3\",Général!#REF!,Général!D$128)))","v":"Equipage 1"},{"$f":"IF($O$5=\"Course 1\",Général!D$132,IF($O$5=\"Course 2\",Général!D$134,IF($O$5=\"Course 3\",Général!#REF!,Général!D$136)))","v":"Equipage 12"},{"$f":"IF($P$5=\"Course 1\",Général!D$140,IF($P$5=\"Course 2\",Général!D$142,IF($P$5=\"Course 3\",Général!#REF!,Général!D$144)))","v":"Equipage 12"},{"$f":"IF($Q$5=\"Course 1\",Général!D$148,IF($Q$5=\"Course 2\",Général!D$150,IF($Q$5=\"Course 3\",Général!#REF!,Général!D$152)))","v":"Equipage 5"},{"$f":"IF($R$5=\"Course 1\",Général!D$156,IF($R$5=\"Course 2\",Général!D$158,IF($R$5=\"Course 3\",Général!D$160,Général!D$162)))","v":"Equipage 2"},null,null,null,{"$f":"Général!B12","v":"Equipage 10"},6]
["4ème Equipage",null,{"$f":"IF($C$5=\"Course 1\",Général!E36,IF($C$5=\"Course 2\",Général!E38,IF($C$5=\"Course 3\",Général!#REF!,Général!E40)))","v":"Equipage 4"},{"$f":"IF($D$5=\"Course 1\",Général!E44,IF($D$5=\"Course 2\",Général!E46,IF($D$5=\"Course 3\",Général!#REF!,Général!E48)))","v":"Equipage 9"},{"$f":"IF($E$5=\"Course 1\",Général!E52,IF($E$5=\"Course 2\",Général!E54,IF($E$5=\"Course 3\",Général!#REF!,Général!E56)))","v":"Equipage 4"},{"$f":"IF($F$5=\"Course 1\",Général!E$60,IF($F$5=\"Course 2\",Général!E$62,IF($F$5=\"Course 3\",Général!#REF!,Général!E$64)))","v":"Equipage 11"},{"$f":"IF($G$5=\"Course 1\",Général!E$68,IF($G$5=\"Course 2\",Général!E$70,IF($G$5=\"Course 3\",Général!#REF!,Général!E$72)))","v":"Equipage 3"},{"$f":"IF($H$5=\"Course 1\",Général!E$76,IF($H$5=\"Course 2\",Général!E$78,IF($H$5=\"Course 3\",Général!#REF!,Général!E$80)))","v":"Equipage 12"},{"$f":"IF($I$5=\"Course 1\",Général!E$84,IF($I$5=\"Course 2\",Général!E$86,IF($I$5=\"Course 3\",Général!#REF!,Général!E$88)))","v":"Equipage 12"},{"$f":"IF($J$5=\"Course 1\",Général!E$92,IF($J$5=\"Course 2\",Général!E$94,IF($J$5=\"Course 3\",Général!#REF!,Général!E$96)))","v":"Equipage 1"},{"$f":"IF($K$5=\"Course 1\",Général!E$100,IF($K$5=\"Course 2\",Général!E$102,IF($K$5=\"Course 3\",Général!#REF!,Général!E$104)))","v":"Equipage 1"},{"$f":"IF($L$5=\"Course 1\",Général!E$108,IF($L$5=\"Course 2\",Général!E$110,IF($L$5=\"Course 3\",Général!#REF!,Général!E$112)))","v":"Equipage 11"},{"$f":"IF($M$5=\"Course 1\",Général!E$116,IF($M$5=\"Course 2\",Général!E$118,IF($M$5=\"Course 3\",Général!#REF!,Général!E$120)))","v":"Equipage 12"},{"$f":"IF($N$5=\"Course 1\",Général!E$124,IF($N$5=\"Course 2\",Général!E$126,IF($N$5=\"Course 3\",Général!#REF!,Général!E$128)))","v":"Equipage 6"},{"$f":"IF($O$5=\"Course 1\",Général!E$132,IF($O$5=\"Course 2\",Général!E$134,IF($O$5=\"Course 3\",Général!#REF!,Général!E$136)))","v":"Equipage 1"},{"$f":"IF($P$5=\"Course 1\",Général!E$140,IF($P$5=\"Course 2\",Général!E$142,IF($P$5=\"Course 3\",Général!#REF!,Général!E$144)))","v":"Equipage 7"},{"$f":"IF($Q$5=\"Course 1\",Général!E$148,IF($Q$5=\"Course 2\",Général!E$150,IF($Q$5=\"Course 3\",Général!#REF!,Général!E$152)))","v":"Equipage 8"},{"$f":"IF($R$5=\"Course 1\",Général!E$156,IF($R$5=\"Course 2\",Général!E$158,IF($R$5=\"Course 3\",Général!E$160,Général!E$162)))","v":"Equipage 5"},null,null,null,{"$f":"Général!B13","v":"Equipage 11"},9]
["5ème Equipage",null,{"$f":"IF($C$5=\"Course 1\",Général!F36,IF($C$5=\"Course 2\",Général!F38,IF($C$5=\"Course 3\",Général!#REF!,Général!F40)))","v":"Equipage 8"},{"$f":"IF($D$5=\"Course 1\",Général!F44,IF($D$5=\"Course 2\",Général!F46,IF($D$5=\"Course 3\",Général!#REF!,Général!F48)))","v":"Equipage 1"},{"$f":"IF($E$5=\"Course 1\",Général!F52,IF($E$5=\"Course 2\",Général!F54,IF($E$5=\"Course 3\",Général!#REF!,Général!F56)))","v":"Equipage 12"},{"$f":"IF($F$5=\"Course 1\",Général!F$60,IF($F$5=\"Course 2\",Général!F$62,IF($F$5=\"Course 3\",Général!#REF!,Général!F$64)))","v":"Equipage 9"},{"$f":"IF($G$5=\"Course 1\",Général!F$68,IF($G$5=\"Course 2\",Général!F$70,IF($G$5=\"Course 3\",Général!#REF!,Général!F$72)))","v":"Equipage 6"},{"$f":"IF($H$5=\"Course 1\",Général!F$76,IF($H$5=\"Course 2\",Général!F$78,IF($H$5=\"Course 3\",Général!#REF!,Général!F$80)))","v":"Equipage 10"},{"$f":"IF($I$5=\"Course 1\",Général!F$84,IF($I$5=\"Course 2\",Général!F$86,IF($I$5=\"Course 3\",Général!#REF!,Général!F$88)))","v":"Equipage 5"},{"$f":"IF($J$5=\"Course 1\",Général!F$92,IF($J$5=\"Course 2\",Général!F$94,IF($J$5=\"Course 3\",Général!#REF!,Général!F$96)))","v":"Equipage 12"},{"$f":"IF($K$5=\"Course 1\",Général!F$100,IF($K$5=\"Course 2\",Général!F$102,IF($K$5=\"Course 3\",Général!#REF!,Général!F$104)))","v":"Equipage 12"},{"$f":"IF($L$5=\"Course 1\",Général!F$108,IF($L$5=\"Course 2\",Général!$F110,IF($L$5=\"Course 3\",Général!#REF!,Général!F$112)))","v":"Equipage 10"},{"$f":"IF($M$5=\"Course 1\",Général!F$116,IF($M$5=\"Course 2\",Général!F$118,IF($M$5=\"Course 3\",Général!#REF!,Général!F$120)))","v":"Equipage 9"},{"$f":"IF($N$5=\"Course 1\",Général!F$124,IF($N$5=\"Course 2\",Général!F$126,IF($N$5=\"Course 3\",Général!#REF!,Général!F$128)))","v":"Equipage 11"},{"$f":"IF($O$5=\"Course 1\",Général!F$132,IF($O$5=\"Course 2\",Général!F$134,IF($O$5=\"Course 3\",Général!#REF!,Général!F$136)))","v":"Equipage 4"},{"$f":"IF($P$5=\"Course 1\",Général!F$140,IF($P$5=\"Course 2\",Général!F$142,IF($P$5=\"Course 3\",Général!#REF!,Général!F$144)))","v":"Equipage 4"},{"$f":"IF($Q$5=\"Course 1\",Général!F$148,IF($Q$5=\"Course 2\",Général!F$150,IF($Q$5=\"Course 3\",Général!#REF!,Général!F$152)))","v":"Equipage 2"},{"$f":"IF($R$5=\"Course 1\",Général!F$156,IF($R$5=\"Course 2\",Général!F$158,IF($R$5=\"Course 3\",Général!F$160,Général!F$162)))","v":"Equipage 7"},null,null,null,{"$f":"Général!B14","v":"Equipage 12"},16]
["6ème Equipage",null,{"$f":"IF($C$5=\"Course 1\",Général!G36,IF($C$5=\"Course 2\",Général!G38,IF($C$5=\"Course 3\",Général!#REF!,Général!G40)))","v":"Equipage 1"},{"$f":"IF($D$5=\"Course 1\",Général!G44,IF($D$5=\"Course 2\",Général!G46,IF($D$5=\"Course 3\",Général!#REF!,Général!G48)))","v":"Equipage 2"},{"$f":"IF($E$5=\"Course 1\",Général!G52,IF($E$5=\"Course 2\",Général!G54,IF($E$5=\"Course 3\",Général!#REF!,Général!G56)))","v":"Equipage 9"},{"$f":"IF($F$5=\"Course 1\",Général!G$60,IF($F$5=\"Course 2\",Général!G$62,IF($F$5=\"Course 3\",Général!#REF!,Général!G$64)))","v":"Equipage 12"},{"$f":"IF($G$5=\"Course 1\",Général!G$68,IF($G$5=\"Course 2\",Général!G$70,IF($G$5=\"Course 3\",Général!#REF!,Général!G$72)))","v":"Equipage 12"},{"$f":"IF($H$5=\"Course 1\",Général!G$76,IF($H$5=\"Course 2\",Général!G$78,IF($H$5=\"Course 3\",Général!#REF!,Général!G$80)))","v":"Equipage 3"},{"$f":"IF($I$5=\"Course 1\",Général!G$84,IF($I$5=\"Course 2\",Général!G$86,IF($I$5=\"Course 3\",Général!#REF!,Général!G$88)))","v":"Equipage 2"},{"$f":"IF($J$5=\"Course 1\",Général!G$92,IF($J$5=\"Course 2\",Général!G$94,IF($J$5=\"Course 3\",Général!#REF!,Général!G$96)))","v":"Equipage 6"},{"$f":"IF($K$5=\"Course 1\",Général!G$100,IF($K$5=\"Course 2\",Général!G$102,IF($K$5=\"Course 3\",Général!#REF!,Général!G$104)))","v":"Equipage 9"},{"$f":"IF($L$5=\"Course 1\",Général!G$108,IF($L$5=\"Course 2\",Général!G$110,IF($L$5=\"Course 3\",Général!#REF!,Général!G$112)))","v":"Equipage 6"},{"$f":"IF($M$5=\"Course 1\",Général!G$116,IF($M$5=\"Course 2\",Général!G$118,IF($M$5=\"Course 3\",Général!#REF!,Général!G$120)))","v":"Equipage 11"},{"$f":"IF($N$5=\"Course 1\",Général!G$124,IF($N$5=\"Course 2\",Général!G$126,IF($N$5=\"Course 3\",Général!#REF!,Général!G$128)))","v":"Equipage 3"},{"$f":"IF($O$5=\"Course 1\",Général!G$132,IF($O$5=\"Course 2\",Général!G$134,IF($O$5=\"Course 3\",Général!#REF!,Général!G$136)))","v":"Equipage 8"},{"$f":"IF($P$5=\"Course 1\",Général!G$140,IF($P$5=\"Course 2\",Général!G$142,IF($P$5=\"Course 3\",Général!#REF!,Général!G$144)))","v":"Equipage 8"},{"$f":"IF($Q$5=\"Course 1\",Général!G$148,IF($Q$5=\"Course 2\",Général!G$150,IF($Q$5=\"Course 3\",Général!#REF!,Général!G$152)))","v":"Equipage 4"},{"$f":"IF($R$5=\"Course 1\",Général!G$156,IF($R$5=\"Course 2\",Général!G$158,IF($R$5=\"Course 3\",Général!G$160,Général!G$162)))","v":"Equipage 1"},null,null,null,{"$f":"Général!B15","v":"Equipage 13"},0]
["7ème Equipage",null,{"$f":"IF($C$5=\"Course 1\",Général!H36,IF($C$5=\"Course 2\",Général!H38,IF($C$5=\"Course 3\",Général!#REF!,Général!H40)))","v":0},{"$f":"IF($D$5=\"Course 1\",Général!H44,IF($D$5=\"Course 2\",Général!H46,IF($D$5=\"Course 3\",Général!#REF!,Général!H48)))","v":0},{"$f":"IF($E$5=\"Course 1\",Général!H52,IF($E$5=\"Course 2\",Général!H54,IF($E$5=\"Course 3\",Général!#REF!,Général!H56)))","v":0},{"$f":"IF($F$5=\"Course 1\",Général!H$60,IF($F$5=\"Course 2\",Général!H$62,IF($F$5=\"Course 3\",Général!#REF!,Général!H$64)))","v":0},{"$f":"IF($G$5=\"Course 1\",Général!H$68,IF($G$5=\"Course 2\",Général!H$70,IF($G$5=\"Course 3\",Général!#REF!,Général!H$72)))","v":0},{"$f":"IF($H$5=\"Course 1\",Général!H$76,IF($H$5=\"Course 2\",Général!H$78,IF($H$5=\"Course 3\",Général!#REF!,Général!H$80)))","v":0},{"$f":"IF($I$5=\"Course 1\",Général!H$84,IF($I$5=\"Course 2\",Général!H$86,IF($I$5=\"Course 3\",Général!#REF!,Général!H$88)))","v":0},{"$f":"IF($J$5=\"Course 1\",Général!H$92,IF($J$5=\"Course 2\",Général!H$94,IF($J$5=\"Course 3\",Général!#REF!,Général!H$96)))","v":0},{"$f":"IF($K$5=\"Course 1\",Général!H$100,IF($K$5=\"Course 2\",Général!H$102,IF($K$5=\"Course 3\",Général!#REF!,Général!H$104)))","v":0},{"$f":"IF($L$5=\"Course 1\",Général!H$108,IF($L$5=\"Course 2\",Général!H$110,IF($L$5=\"Course 3\",Général!#REF!,Général!H$112)))","v":0},{"$f":"IF($M$5=\"Course 1\",Général!H$116,IF($M$5=\"Course 2\",Général!H$118,IF($M$5=\"Course 3\",Général!#REF!,Général!H$120)))","v":0},{"$f":"IF($N$5=\"Course 1\",Général!H$124,IF($N$5=\"Course 2\",Général!H$126,IF($N$5=\"Course 3\",Général!#REF!,Général!H$128)))","v":0},{"$f":"IF($O$5=\"Course 1\",Général!H$132,IF($O$5=\"Course 2\",Général!H$134,IF($O$5=\"Course 3\",Général!#REF!,Général!H$136)))","v":0},{"$f":"IF($P$5=\"Course 1\",Général!H$140,IF($P$5=\"Course 2\",Général!H$142,IF($P$5=\"Course 3\",Général!#REF!,Général!H$144)))","v":0},{"$f":"IF($Q$5=\"Course 1\",Général!H$148,IF($Q$5=\"Course 2\",Général!H$150,IF($Q$5=\"Course 3\",Général!#REF!,Général!H$152)))","v":0},{"$f":"IF($R$5=\"Course 1\",Général!H$156,IF($R$5=\"Course 2\",Général!H$158,IF($R$5=\"Course 3\",Général!H$160,Général!H$162)))","v":0},null,null,null,{"$f":"Général!B16","v":"Equipage 14"},0]
["8ème Equipage",null,{"$f":"IF($C$5=\"Course 1\",Général!I36,IF($C$5=\"Course 2\",Général!I38,IF($C$5=\"Course 3\",Général!#REF!,Général!I40)))","v":0},{"$f":"IF($D$5=\"Course 1\",Général!I44,IF($D$5=\"Course 2\",Général!I46,IF($D$5=\"Course 3\",Général!#REF!,Général!I48)))","v":0},{"$f":"IF($E$5=\"Course 1\",Général!I52,IF($E$5=\"Course 2\",Général!I54,IF($E$5=\"Course 3\",Général!#REF!,Général!I56)))","v":0},{"$f":"IF($F$5=\"Course 1\",Général!I$60,IF($F$5=\"Course 2\",Général!I$62,IF($F$5=\"Course 3\",Général!#REF!,Général!I$64)))","v":0},{"$f":"IF($G$5=\"Course 1\",Général!I$68,IF($G$5=\"Course 2\",Général!I$70,IF($G$5=\"Course 3\",Général!#REF!,Général!I$72)))","v":0},{"$f":"IF($H$5=\"Course 1\",Général!I$76,IF($H$5=\"Course 2\",Général!I$78,IF($H$5=\"Course 3\",Général!#REF!,Général!I$80)))","v":0},{"$f":"IF($I$5=\"Course 1\",Général!I$84,IF($I$5=\"Course 2\",Général!I$86,IF($I$5=\"Course 3\",Général!#REF!,Général!I$88)))","v":0},{"$f":"IF($J$5=\"Course 1\",Général!I$92,IF($J$5=\"Course 2\",Général!I$94,IF($J$5=\"Course 3\",Général!#REF!,Général!I$96)))","v":0},{"$f":"IF($K$5=\"Course 1\",Général!I$100,IF($K$5=\"Course 2\",Général!I$102,IF($K$5=\"Course 3\",Général!#REF!,Général!I$104)))","v":0},{"$f":"IF($L$5=\"Course 1\",Général!I$108,IF($L$5=\"Course 2\",Général!I$110,IF($L$5=\"Course 3\",Général!#REF!,Général!I$112)))","v":0},{"$f":"IF($M$5=\"Course 1\",Général!I$116,IF($M$5=\"Course 2\",Général!I$118,IF($M$5=\"Course 3\",Général!#REF!,Général!I$120)))","v":0},{"$f":"IF($N$5=\"Course 1\",Général!I$124,IF($N$5=\"Course 2\",Général!I$126,IF($N$5=\"Course 3\",Général!#REF!,Général!I$128)))","v":0},{"$f":"IF($O$5=\"Course 1\",Général!I$132,IF($O$5=\"Course 2\",Général!I$134,IF($O$5=\"Course 3\",Général!#REF!,Général!I$136)))","v":0},{"$f":"IF($P$5=\"Course 1\",Général!I$140,IF($P$5=\"Course 2\",Général!I$142,IF($P$5=\"Course 3\",Général!#REF!,Général!I$144)))","v":0},{"$f":"IF($Q$5=\"Course 1\",Général!I$148,IF($Q$5=\"Course 2\",Général!I$150,IF($Q$5=\"Course 3\",Général!#REF!,Général!I$152)))","v":0},{"$f":"IF($R$5=\"Course 1\",Général!I$156,IF($R$5=\"Course 2\",Général!I$158,IF($R$5=\"Course 3\",Général!I$160,Général!I$162)))","v":0},null,null,null,{"$f":"Général!B17","v":"Equipage 15"},0]
["9ème Equipage",null,{"$f":"IF($C$5=\"Course 1\",Général!J36,IF($C$5=\"Course 2\",Général!J38,IF($C$5=\"Course 3\",Général!#REF!,Général!J40)))","v":0},{"$f":"IF($D$5=\"Course 1\",Général!J44,IF($D$5=\"Course 2\",Général!J46,IF($D$5=\"Course 3\",Général!#REF!,Général!J48)))","v":0},{"$f":"IF($E$5=\"Course 1\",Général!J52,IF($E$5=\"Course 2\",Général!J54,IF($E$5=\"Course 3\",Général!#REF!,Général!J56)))","v":0},{"$f":"IF($F$5=\"Course 1\",Général!J$60,IF($F$5=\"Course 2\",Général!J$62,IF($F$5=\"Course 3\",Général!#REF!,Général!J$64)))","v":0},{"$f":"IF($G$5=\"Course 1\",Général!J$68,IF($G$5=\"Course 2\",Général!J$70,IF($G$5=\"Course 3\",Général!#REF!,Général!J$72)))","v":0},{"$f":"IF($H$5=\"Course 1\",Général!J$76,IF($H$5=\"Course 2\",Général!J$78,IF($H$5=\"Course 3\",Général!#REF!,Général!J$80)))","v":0},{"$f":"IF($I$5=\"Course 1\",Général!J$84,IF($I$5=\"Course 2\",Général!J$86,IF($I$5=\"Course 3\",Général!#REF!,Général!J$88)))","v":0},{"$f":"IF($J$5=\"Course 1\",Général!J$92,IF($J$5=\"Course 2\",Général!J$94,IF($J$5=\"Course 3\",Général!#REF!,Général!J$96)))","v":0},{"$f":"IF($K$5=\"Course 1\",Général!J$100,IF($K$5=\"Course 2\",Général!J$102,IF($K$5=\"Course 3\",Général!#REF!,Général!J$104)))","v":0},{"$f":"IF($L$5=\"Course 1\",Général!J$108,IF($L$5=\"Course 2\",Général!J$110,IF($L$5=\"Course 3\",Général!#REF!,Général!J$112)))","v":0},{"$f":"IF($M$5=\"Course 1\",Général!J$116,IF($M$5=\"Course 2\",Général!J$118,IF($M$5=\"Course 3\",Général!#REF!,Général!J$120)))","v":0},{"$f":"IF($N$5=\"Course 1\",Général!J$124,IF($N$5=\"Course 2\",Général!J$126,IF($N$5=\"Course 3\",Général!#REF!,Général!J$128)))","v":0},{"$f":"IF($O$5=\"Course 1\",Général!J$132,IF($O$5=\"Course 2\",Général!J$134,IF($O$5=\"Course 3\",Général!#REF!,Général!J$136)))","v":0},{"$f":"IF($P$5=\"Course 1\",Général!J$140,IF($P$5=\"Course 2\",Général!J$142,IF($P$5=\"Course 3\",Général!#REF!,Général!J$144)))","v":0},{"$f":"IF($Q$5=\"Course 1\",Général!J$148,IF($Q$5=\"Course 2\",Général!J$150,IF($Q$5=\"Course 3\",Général!#REF!,Général!J$152)))","v":0},{"$f":"IF($R$5=\"Course 1\",Général!J$156,IF($R$5=\"Course 2\",Général!J$158,IF($R$5=\"Course 3\",Général!J$160,Général!J$162)))","v":0},null,null,null,{"$f":"Général!B18","v":"Equipage 16"},0]
["10ème Equipage",null,{"$f":"IF($C$5=\"Course 1\",Général!K36,IF($C$5=\"Course 2\",Général!K38,IF($C$5=\"Course 3\",Général!#REF!,Général!K40)))","v":0},{"$f":"IF($D$5=\"Course 1\",Général!K44,IF($D$5=\"Course 2\",Général!K46,IF($D$5=\"Course 3\",Général!#REF!,Général!K48)))","v":0},{"$f":"IF($E$5=\"Course 1\",Général!K52,IF($E$5=\"Course 2\",Général!K54,IF($E$5=\"Course 3\",Général!#REF!,Général!K56)))","v":0},{"$f":"IF($F$5=\"Course 1\",Général!K$60,IF($F$5=\"Course 2\",Général!K$62,IF($F$5=\"Course 3\",Général!#REF!,Général!K$64)))","v":0},{"$f":"IF($G$5=\"Course 1\",Général!K$68,IF($G$5=\"Course 2\",Général!K$70,IF($G$5=\"Course 3\",Général!#REF!,Général!K$72)))","v":0},{"$f":"IF($H$5=\"Course 1\",Général!K$76,IF($H$5=\"Course 2\",Général!K$78,IF($H$5=\"Course 3\",Général!#REF!,Général!K$80)))","v":0},{"$f":"IF($I$5=\"Course 1\",Général!K$84,IF($I$5=\"Course 2\",Général!K$86,IF($I$5=\"Course 3\",Général!#REF!,Général!K$88)))","v":0},{"$f":"IF($J$5=\"Course 1\",Général!K$92,IF($J$5=\"Course 2\",Général!K$94,IF($J$5=\"Course 3\",Général!#REF!,Général!K$96)))","v":0},{"$f":"IF($K$5=\"Course 1\",Général!K$100,IF($K$5=\"Course 2\",Général!K$102,IF($K$5=\"Course 3\",Général!#REF!,Général!K$104)))","v":0},{"$f":"IF($L$5=\"Course 1\",Général!K$108,IF($L$5=\"Course 2\",Général!K$110,IF($L$5=\"Course 3\",Général!#REF!,Général!K$112)))","v":0},{"$f":"IF($M$5=\"Course 1\",Général!K$116,IF($M$5=\"Course 2\",Général!K$118,IF($M$5=\"Course 3\",Général!#REF!,Général!K$120)))","v":0},{"$f":"IF($N$5=\"Course 1\",Général!K$124,IF($N$5=\"Course 2\",Général!K$126,IF($N$5=\"Course 3\",Général!#REF!,Général!K$128)))","v":0},{"$f":"IF($O$5=\"Course 1\",Général!K$132,IF($O$5=\"Course 2\",Général!K$134,IF($O$5=\"Course 3\",Général!#REF!,Général!K$136)))","v":0},{"$f":"IF($P$5=\"Course 1\",Général!K$140,IF($P$5=\"Course 2\",Général!K$142,IF($P$5=\"Course 3\",Général!#REF!,Général!K$144)))","v":0},{"$f":"IF($Q$5=\"Course 1\",Général!K$148,IF($Q$5=\"Course 2\",Général!K$150,IF($Q$5=\"Course 3\",Général!#REF!,Général!K$152)))","v":0},{"$f":"IF($R$5=\"Course 1\",Général!K$156,IF($R$5=\"Course 2\",Général!K$158,IF($R$5=\"Course 3\",Général!K$160,Général!K$162)))","v":0},null,null,null,{"$f":"Général!B19","v":"Equipage 17"},0]
[null,null,null,null,null,null,null,null,null,null,null,null,null,null,null,null,null,null,null,null,null,{"$f":"Général!B20","v":"Equipage 18"},0]
[null,null,null,null,null,null,null,null,null,null,null,null,null,null,null,null,null,null,null,null,null,{"$f":"Général!B21","v":"Equipage 19"},{"$f":"COUNTIF($C$8:$R$17,V19)","v":0}]
[null,null,null,null,null,null,null,null,null,null,null,null,null,null,null,null,null,null,null,null,null,{"$f":"Général!B22","v":"Equipage 20"},0]
[null,null,null,null,null,null,null,null,null,null,null,null,null,null,null,null,null,null,null,null,null,{"$f":"Général!B23","v":"Equipage 21"},0]
[null,null,null,null,null,null,null,null,null,null,null,null,null,null,null,null,null,null,null,null,null,{"$f":"Général!B24","v":"Equipage 22"},0]
[null,null,null,null,null,null,null,null,null,null,null,null,null,null,null,null,null,null,null,null,null,{"$f":"Général!B25","v":"Equipage 23"},0]
[null,null,null,null,null,null,null,null,null,null,null,null,null,null,null,null,null,null,null,null,null,{"$f":"Général!B26","v":"Equipage 24"},0]
[null,null,null,null,null,null,null,null,null,null,null,null,null,null,null,null,null,null,null,null,null,{"$f":"Général!B27","v":"Equipage 25"},0]
[null,null,null,null,null,null,null,null,null,null,null,null,null,null,null,null,null,null,null,null,null,{"$f":"Général!B28","v":"Equipage 26"},0]
[null,null,null,null,null,null,null,null,null,null,null,null,null,null,null,null,null,null,null,null,null,{"$f":"Général!B29","v":"Equipage 27"},0]
[null,null,null,null,null,null,null,null,null,null,null,null,null,null,null,null,null,null,null,null,null,{"$f":"Général!B30","v":"Equipage 28"},0]
[null,null,null,null,null,null,null,null,null,null,null,null,null,null,null,null,null,null,null,null,null,{"$f":"Général!B31","v":"Equipage 29"},0]
[null,null,null,null,null,null,null,null,null,null,null,null,null,null,null,null,null,null,null,null,null,{"$f":"Général!B32","v":"Equipage 30"},0]